BEGIN:VCALENDAR
VERSION:2.0
PRODID:-//Royal Historical Society of Victoria - ECPv6.15.12.2//NONSGML v1.0//EN
CALSCALE:GREGORIAN
METHOD:PUBLISH
X-WR-CALNAME:Royal Historical Society of Victoria
X-ORIGINAL-URL:https://www.historyvictoria.org.au
X-WR-CALDESC:Events for Royal Historical Society of Victoria
REFRESH-INTERVAL;VALUE=DURATION:PT1H
X-Robots-Tag:noindex
X-PUBLISHED-TTL:PT1H
BEGIN:VTIMEZONE
TZID:Australia/Melbourne
BEGIN:STANDARD
TZOFFSETFROM:+1100
TZOFFSETTO:+1000
TZNAME:AEST
DTSTART:20190406T160000
END:STANDARD
BEGIN:DAYLIGHT
TZOFFSETFROM:+1000
TZOFFSETTO:+1100
TZNAME:AEDT
DTSTART:20191005T160000
END:DAYLIGHT
BEGIN:STANDARD
TZOFFSETFROM:+1100
TZOFFSETTO:+1000
TZNAME:AEST
DTSTART:20200404T160000
END:STANDARD
BEGIN:DAYLIGHT
TZOFFSETFROM:+1000
TZOFFSETTO:+1100
TZNAME:AEDT
DTSTART:20201003T160000
END:DAYLIGHT
BEGIN:STANDARD
TZOFFSETFROM:+1100
TZOFFSETTO:+1000
TZNAME:AEST
DTSTART:20210403T160000
END:STANDARD
BEGIN:DAYLIGHT
TZOFFSETFROM:+1000
TZOFFSETTO:+1100
TZNAME:AEDT
DTSTART:20211002T160000
END:DAYLIGHT
END:VTIMEZONE
BEGIN:VEVENT
DTSTART;TZID=Australia/Melbourne:20200623T130000
DTEND;TZID=Australia/Melbourne:20200623T163000
DTSTAMP:20260421T092025
CREATED:20200312T032153Z
LAST-MODIFIED:20200415T075656Z
UID:10000621-1592917200-1592929800@www.historyvictoria.org.au
SUMMARY:Seminar: Managing Volunteers
DESCRIPTION:From attracting younger volunteers to succession planning this seminar will cover how to recruit volunteers\, how to train them\, how to manage\, and how to keep them. Learn from those with successful volunteer programs\, who will share strategies for managing volunteers of all ages and abilities.\nMembers $45 Non-members $60
URL:https://www.historyvictoria.org.au/event/seminar-managing-volunteers/
LOCATION:Museo Italiano\, 199 Faraday Street\, Carlton\, Victoria\, 3053\, Australia
ATTACH;FMTTYPE=image/png:https://www.historyvictoria.org.au/wp-content/uploads/2020/03/download.png
ORGANIZER;CN="AMaGA":MAILTO:info@amagavic.org.au
GEO:-37.7989604;144.9679779
X-APPLE-STRUCTURED-LOCATION;VALUE=URI;X-ADDRESS=Museo Italiano 199 Faraday Street Carlton Victoria 3053 Australia;X-APPLE-RADIUS=500;X-TITLE=199 Faraday Street:geo:144.9679779,-37.7989604
END:VEVENT
BEGIN:VEVENT
DTSTART;TZID=Australia/Melbourne:20200604T130000
DTEND;TZID=Australia/Melbourne:20200604T163000
DTSTAMP:20260421T092025
CREATED:20200219T011005Z
LAST-MODIFIED:20200415T075752Z
UID:10000594-1591275600-1591288200@www.historyvictoria.org.au
SUMMARY:AMaGA Workshop: Caring for Collections: Storage
DESCRIPTION:This workshop will guide participants through space maximising\, cost effective\, logistical and practical tips to help re-organise their collection store. Includes a tour of the store at the RMIT Design Archive. \nMembers $50\nNon-members $80
URL:https://www.historyvictoria.org.au/event/amaga-workshop-caring-for-collections-storage/
LOCATION:RMIT Design Archive\, 154 Victoria St\, Carlton\, VIC\, 3053\, Australia
ATTACH;FMTTYPE=image/png:https://www.historyvictoria.org.au/wp-content/uploads/2020/02/AMaGA-logo-6.png
ORGANIZER;CN="AMaGA":MAILTO:info@amagavic.org.au
END:VEVENT
BEGIN:VEVENT
DTSTART;TZID=Australia/Melbourne:20200526T100000
DTEND;TZID=Australia/Melbourne:20200526T150000
DTSTAMP:20260421T092025
CREATED:20200219T010550Z
LAST-MODIFIED:20200415T075825Z
UID:10000593-1590487200-1590505200@www.historyvictoria.org.au
SUMMARY:AMaGA Workshop: Victorian Collections
DESCRIPTION:Please contact the organiser before attending this event in case it has been cancelled. \nThis hands-on workshop will guide you through the process of cataloguing on the Victorian Collections system and cover basic principles of collection management\, object handling and digitisation. \nMembers $10\nNon-members $20
URL:https://www.historyvictoria.org.au/event/amaga-workshop-victorian-collections/
LOCATION:Melbourne Museum\, 11 Nicholson St\, Carlton\, VIC\, 3053\, Australia
ATTACH;FMTTYPE=image/png:https://www.historyvictoria.org.au/wp-content/uploads/2020/02/AMaGA-logo-5.png
ORGANIZER;CN="AMaGA":MAILTO:info@amagavic.org.au
END:VEVENT
BEGIN:VEVENT
DTSTART;TZID=Australia/Melbourne:20200429T100000
DTEND;TZID=Australia/Melbourne:20200429T160000
DTSTAMP:20260421T092025
CREATED:20200219T005819Z
LAST-MODIFIED:20200415T075951Z
UID:10000592-1588154400-1588176000@www.historyvictoria.org.au
SUMMARY:AMaGA Masterclass: Inclusive Text
DESCRIPTION:Please contact the organiser before attending this event in case it has been cancelled. \nThis full-day masterclass will explore writing engaging content\, considering diverse audiences and employing inclusive language in all communications – from writing exhibition labels to marketing. \nMembers $135\nNon-members $225
URL:https://www.historyvictoria.org.au/event/amaga-masterclass-inclusive-text/
LOCATION:Heide Museum of Modern Art\, 7 Templestowe Rd\, Bulleen\, VIC\, 3105\, Australia
ATTACH;FMTTYPE=image/png:https://www.historyvictoria.org.au/wp-content/uploads/2020/02/AMaGA-logo-4.png
ORGANIZER;CN="AMaGA":MAILTO:info@amagavic.org.au
END:VEVENT
BEGIN:VEVENT
DTSTART;TZID=Australia/Melbourne:20200423T133000
DTEND;TZID=Australia/Melbourne:20200423T163000
DTSTAMP:20260421T092025
CREATED:20200219T004658Z
LAST-MODIFIED:20200415T080026Z
UID:10000588-1587648600-1587659400@www.historyvictoria.org.au
SUMMARY:Art Handling & Installation
DESCRIPTION:Please contact the organiser before attending this event in case it has been cancelled. \nIn this AMaGA workshop\, join Joseph Dawson from TITLE UNTITLED to gain practical insights from a professional Gallery Technician\, preparing two and three dimensional art works for display\, safe handling of artworks and installation techniques. This event is aimed at curators\, collection managers\, installation staff at small -to-medium organisations and gallery and museum studies students. \nAMaGA members and students $70\nNon-members $130
URL:https://www.historyvictoria.org.au/event/art-handling-installation/
LOCATION:Art Gallery of Ballarat\, 40 Lydiard St North\, Ballarat Central\, VIC\, 3350\, Australia
ATTACH;FMTTYPE=image/png:https://www.historyvictoria.org.au/wp-content/uploads/2020/02/AMaGA-logo-2.png
ORGANIZER;CN="AMaGA":MAILTO:info@amagavic.org.au
END:VEVENT
BEGIN:VEVENT
DTSTART;TZID=Australia/Melbourne:20200421T100000
DTEND;TZID=Australia/Melbourne:20200421T150000
DTSTAMP:20260421T092025
CREATED:20200219T005114Z
LAST-MODIFIED:20200415T080103Z
UID:10000590-1587463200-1587481200@www.historyvictoria.org.au
SUMMARY:Victorian Collections Workshop
DESCRIPTION:Please contact the organiser before attending this event in case it has been cancelled. \nAMaGA presents a hands-on workshop which will guide you through the process of cataloguing on the Victorian Collections system and cover basic principles of collection management\, object handling and digitisation \nAMaGA members $10\nNon-members $20
URL:https://www.historyvictoria.org.au/event/victorian-collections-workshop/
LOCATION:Ballaarat Mechanics Institute\, 117-119 Sturt St\, Ballarat Central\, VIC\, 3350\, Australia
ATTACH;FMTTYPE=image/png:https://www.historyvictoria.org.au/wp-content/uploads/2020/02/AMaGA-logo-3.png
ORGANIZER;CN="AMaGA":MAILTO:info@amagavic.org.au
END:VEVENT
BEGIN:VEVENT
DTSTART;TZID=Australia/Melbourne:20200327T130000
DTEND;TZID=Australia/Melbourne:20200327T160000
DTSTAMP:20260421T092025
CREATED:20200219T004115Z
LAST-MODIFIED:20200317T220423Z
UID:10000564-1585314000-1585324800@www.historyvictoria.org.au
SUMMARY:Designing  a Travelling Exhibition
DESCRIPTION:Please contact the organiser before attending this event in case it has been cancelled. \nThis AMaGA workshop\, targeted at small museums and volunteers will look at exhibition development\, design principles\, installation and display techniques for exhibitions that are easily transportable and can be displayed in a range of venues. \nAMaGA members $35\nNon-members $40\nBookings: www.amagavic.org.au/events\nor call 03 8341 7344 (also call this number for disability access information / assistance)
URL:https://www.historyvictoria.org.au/event/designing-a-travelling-exhibition/
LOCATION:Bairnsdale Library\, 22 Service St\,\, Bairnsdale\, VIC\, 3875\, Australia
CATEGORIES:Victorian History Events
ATTACH;FMTTYPE=image/png:https://www.historyvictoria.org.au/wp-content/uploads/2020/02/AMaGA-logo-1.png
ORGANIZER;CN="AMaGA":MAILTO:info@amagavic.org.au
END:VEVENT
BEGIN:VEVENT
DTSTART;TZID=Australia/Melbourne:20200327T100000
DTEND;TZID=Australia/Melbourne:20200327T110000
DTSTAMP:20260421T092025
CREATED:20200219T003547Z
LAST-MODIFIED:20200317T220525Z
UID:10000562-1585303200-1585306800@www.historyvictoria.org.au
SUMMARY:Gippsland Art Gallery: tour and talk
DESCRIPTION:Please contact the organiser before attending this event in case it has been cancelled. \nEnjoy a guided tour of the Gippsland Art Gallery led by Director\, Simon Gregg\, and hear about the learnings and successes of the 2018 redevelopment of the gallery.\nPresented by AMaGA \nAMaGA members free\nNon-members $10\nBookings: www.amagavic.org.au/events\nor call 03 8341 7344 (also call this number for disability access information / assistance)
URL:https://www.historyvictoria.org.au/event/gippsland-art-gallery-tour-and-talk/
LOCATION:Gippsland Art Gallery\, 70 Foster St\, Sale\, VIC\, 3850\, Australia
CATEGORIES:Victorian History Events
ATTACH;FMTTYPE=image/png:https://www.historyvictoria.org.au/wp-content/uploads/2020/02/AMaGA-logo.png
ORGANIZER;CN="AMaGA":MAILTO:info@amagavic.org.au
END:VEVENT
END:VCALENDAR