BEGIN:VCALENDAR
VERSION:2.0
PRODID:-//Royal Historical Society of Victoria - ECPv6.15.12.2//NONSGML v1.0//EN
CALSCALE:GREGORIAN
METHOD:PUBLISH
X-ORIGINAL-URL:https://www.historyvictoria.org.au
X-WR-CALDESC:Events for Royal Historical Society of Victoria
REFRESH-INTERVAL;VALUE=DURATION:PT1H
X-Robots-Tag:noindex
X-PUBLISHED-TTL:PT1H
BEGIN:VTIMEZONE
TZID:Australia/Melbourne
BEGIN:STANDARD
TZOFFSETFROM:+1100
TZOFFSETTO:+1000
TZNAME:AEST
DTSTART:20180331T160000
END:STANDARD
BEGIN:DAYLIGHT
TZOFFSETFROM:+1000
TZOFFSETTO:+1100
TZNAME:AEDT
DTSTART:20181006T160000
END:DAYLIGHT
BEGIN:STANDARD
TZOFFSETFROM:+1100
TZOFFSETTO:+1000
TZNAME:AEST
DTSTART:20190406T160000
END:STANDARD
BEGIN:DAYLIGHT
TZOFFSETFROM:+1000
TZOFFSETTO:+1100
TZNAME:AEDT
DTSTART:20191005T160000
END:DAYLIGHT
BEGIN:STANDARD
TZOFFSETFROM:+1100
TZOFFSETTO:+1000
TZNAME:AEST
DTSTART:20200404T160000
END:STANDARD
BEGIN:DAYLIGHT
TZOFFSETFROM:+1000
TZOFFSETTO:+1100
TZNAME:AEDT
DTSTART:20201003T160000
END:DAYLIGHT
END:VTIMEZONE
BEGIN:VEVENT
DTSTART;TZID=Australia/Melbourne:20191104T160000
DTEND;TZID=Australia/Melbourne:20191104T173000
DTSTAMP:20260420T024648
CREATED:20191018T034935Z
LAST-MODIFIED:20191018T034935Z
UID:10000496-1572883200-1572888600@www.historyvictoria.org.au
SUMMARY:Bonegilla Migrant Experience: Virtual Tour Launch
DESCRIPTION:Five ways to use a virtual tour and online learning\nmaterials to explore the Bonegilla Migrant Experience. \nAuthors Paul Grover and Bruce Pennay will introduce a new self-guided 3D virtual tour and showcase innovative history investigations on the new Investigating Bonegilla website. These resources have been designed to address concepts and skills in the Australian History Curriculum and NSW History syllabuses.\nDrinks at bar prices. Nibbles provided. \nRSVPs encouraged.\nPlease phone Bonegilla Migrant Experience on (02) 6020 6912.
URL:https://www.historyvictoria.org.au/event/bonegilla-migrant-experience-virtual-tour-launch/
LOCATION:The Cube\, 118 Hovell St\, Wodonga\, VIC\, 3690\, Australia
CATEGORIES:Victorian History Events
ATTACH;FMTTYPE=image/jpeg:https://www.historyvictoria.org.au/wp-content/uploads/2019/10/Bonegilla2.jpg
ORGANIZER;CN="Bonegilla Migrant Experience":MAILTO:bonegilla@wodonga.vic.gov.au
END:VEVENT
END:VCALENDAR