BEGIN:VCALENDAR
VERSION:2.0
PRODID:-//Royal Historical Society of Victoria - ECPv6.15.12.2//NONSGML v1.0//EN
CALSCALE:GREGORIAN
METHOD:PUBLISH
X-WR-CALNAME:Royal Historical Society of Victoria
X-ORIGINAL-URL:https://www.historyvictoria.org.au
X-WR-CALDESC:Events for Royal Historical Society of Victoria
REFRESH-INTERVAL;VALUE=DURATION:PT1H
X-Robots-Tag:noindex
X-PUBLISHED-TTL:PT1H
BEGIN:VTIMEZONE
TZID:Australia/Melbourne
BEGIN:STANDARD
TZOFFSETFROM:+1100
TZOFFSETTO:+1000
TZNAME:AEST
DTSTART:20190406T160000
END:STANDARD
BEGIN:DAYLIGHT
TZOFFSETFROM:+1000
TZOFFSETTO:+1100
TZNAME:AEDT
DTSTART:20191005T160000
END:DAYLIGHT
BEGIN:STANDARD
TZOFFSETFROM:+1100
TZOFFSETTO:+1000
TZNAME:AEST
DTSTART:20200404T160000
END:STANDARD
BEGIN:DAYLIGHT
TZOFFSETFROM:+1000
TZOFFSETTO:+1100
TZNAME:AEDT
DTSTART:20201003T160000
END:DAYLIGHT
BEGIN:STANDARD
TZOFFSETFROM:+1100
TZOFFSETTO:+1000
TZNAME:AEST
DTSTART:20210403T160000
END:STANDARD
BEGIN:DAYLIGHT
TZOFFSETFROM:+1000
TZOFFSETTO:+1100
TZNAME:AEDT
DTSTART:20211002T160000
END:DAYLIGHT
BEGIN:STANDARD
TZOFFSETFROM:+1100
TZOFFSETTO:+1000
TZNAME:AEST
DTSTART:20220402T160000
END:STANDARD
BEGIN:DAYLIGHT
TZOFFSETFROM:+1000
TZOFFSETTO:+1100
TZNAME:AEDT
DTSTART:20221001T160000
END:DAYLIGHT
END:VTIMEZONE
BEGIN:VEVENT
DTSTART;TZID=Australia/Melbourne:20210512T110000
DTEND;TZID=Australia/Melbourne:20210512T110000
DTSTAMP:20260421T124424
CREATED:20210203T205048Z
LAST-MODIFIED:20210203T205152Z
UID:10000117-1620817200-1620817200@www.historyvictoria.org.au
SUMMARY:Discover Our Collections: Heritage @ Williamstown Library
DESCRIPTION:Williamstown Library is the home base for Hobsons Bay Libraries Heritage Collection\, dedicated to preserving the history of Hobsons Bay from historic maps and photographs to newspaper and local books. \nThe Library’s Heritage Room houses microform readers\, a high-res scanner\, interactive touch table\, and a regularly changing array of local history exhibitions. \nCome along for an introduction to what’s on offer\, and learn how we can help you out with your local and family history research. \nBookings are essential and spaces are limited. \nThis event is part of the Australian Heritage Festival.
URL:https://www.historyvictoria.org.au/event/discover-our-collections-heritage-williamstown-library/
LOCATION:Williamstown Library\, 104 Ferguson St\, Williamstown\, VIC\, 3016\, Australia
CATEGORIES:Victorian History Events
ATTACH;FMTTYPE=image/jpeg:https://www.historyvictoria.org.au/wp-content/uploads/2021/02/intro-to-heritage-scaled.jpg
ORGANIZER;CN="Hobsons Bay Libraries":MAILTO:heritage@hobsonsbay.vic.gov.au
END:VEVENT
BEGIN:VEVENT
DTSTART;TZID=Australia/Melbourne:20210428T110000
DTEND;TZID=Australia/Melbourne:20210428T120000
DTSTAMP:20260421T124424
CREATED:20210203T205107Z
LAST-MODIFIED:20210203T205201Z
UID:10000118-1619607600-1619611200@www.historyvictoria.org.au
SUMMARY:Finding Families
DESCRIPTION:Hobsons Bay Libraries’ experienced heritage staff will demonstrate how to search for your ancestors across a variety of online platforms\, including Victorian Births Deaths and Marriages records\, Ancestry\, historic newspapers\, and immigration records. Find out important family dates\, where your ancestors worked\, and what they did for a living. \nRecommended for beginners. Basic computer skills recommended. \nBookings are essential and spaces are limited. \nThis event is part of the Australian Heritage Festival.
URL:https://www.historyvictoria.org.au/event/finding-families-2/
LOCATION:Williamstown Library\, 104 Ferguson St\, Williamstown\, VIC\, 3016\, Australia
CATEGORIES:Victorian History Events
ATTACH;FMTTYPE=image/jpeg:https://www.historyvictoria.org.au/wp-content/uploads/2021/02/Family-history-resized-1.jpg
ORGANIZER;CN="Hobsons Bay Libraries":MAILTO:heritage@hobsonsbay.vic.gov.au
END:VEVENT
BEGIN:VEVENT
DTSTART;TZID=Australia/Melbourne:20210420T183000
DTEND;TZID=Australia/Melbourne:20210420T193000
DTSTAMP:20260421T124424
CREATED:20210203T204919Z
LAST-MODIFIED:20210203T205210Z
UID:10000656-1618943400-1618947000@www.historyvictoria.org.au
SUMMARY:Finding Families
DESCRIPTION:Hobsons Bay Libraries’ experienced heritage staff will demonstrate how to search for your ancestors across a variety of online platforms\, including Victorian Births Deaths and Marriages records\, Ancestry\, historic newspapers\, and immigration records. Find out important family dates\, where your ancestors worked\, and what they did for a living. \nRecommended for beginners. Basic computer skills recommended. \nBookings are essential and spaces are limited. \nThis event is part of the Australian Heritage Festival.
URL:https://www.historyvictoria.org.au/event/finding-families/
LOCATION:Altona Library\, 123 Queen St\, Altona\, VIC\, 3018\, Australia
CATEGORIES:Victorian History Events
ATTACH;FMTTYPE=image/jpeg:https://www.historyvictoria.org.au/wp-content/uploads/2021/02/Family-history-resized.jpg
ORGANIZER;CN="Hobsons Bay Libraries":MAILTO:heritage@hobsonsbay.vic.gov.au
END:VEVENT
BEGIN:VEVENT
DTSTART;TZID=Australia/Melbourne:20210311T173000
DTEND;TZID=Australia/Melbourne:20210311T194500
DTSTAMP:20260421T124424
CREATED:20210210T210521Z
LAST-MODIFIED:20210210T210603Z
UID:10000119-1615483800-1615491900@www.historyvictoria.org.au
SUMMARY:BRAZEN HUSSIES: Film Screening and Q&A
DESCRIPTION:BRAZEN HUSSIES reveals a revolutionary chapter in Australian history\, the Women’s Liberation Movement (1965 -1975). \nInterweaving freshly uncovered archival footage\, personal photographs\, memorabilia and lively personal accounts from activists\, BRAZEN HUSSIES shows us how a daring and diverse group of women joined forces to defy the status quo\, demand equality and create profound social change – contributing to one of the greatest social movements of the 20th Century. \nJoin us in celebrating International Women’s Day and Women’s History Month with a screening of this acclaimed film followed by a Q&A with some of these inspiring women. \nPlaces are limited to allow for social distancing. Bookings are required.
URL:https://www.historyvictoria.org.au/event/brazen-hussies-film-screening-and-qa/
LOCATION:Williamstown Library\, 104 Ferguson St\, Williamstown\, VIC\, 3016\, Australia
CATEGORIES:Victorian History Events
ATTACH;FMTTYPE=image/png:https://www.historyvictoria.org.au/wp-content/uploads/2021/02/Screen-Shot-2020-10-31-at-12.57.58-pm_photo_by_Anne_Roberts-1.png
ORGANIZER;CN="Hobsons Bay Libraries":MAILTO:heritage@hobsonsbay.vic.gov.au
END:VEVENT
BEGIN:VEVENT
DTSTART;TZID=Australia/Melbourne:20210310T110000
DTEND;TZID=Australia/Melbourne:20210310T120000
DTSTAMP:20260421T124424
CREATED:20210129T071535Z
LAST-MODIFIED:20210129T071535Z
UID:10000653-1615374000-1615377600@www.historyvictoria.org.au
SUMMARY:Discover Your Military Ancestors
DESCRIPTION:Want to learn more about your family’s military history? \nDiscover the huge range of military records you can search online\, and find out what your ancestors did during the wars of the 20th century. \nRecommended for beginners with basic computer skills. \nBookings required as places are limited to allow for social distancing. \nImage from the Argus Newspaper Collection of Photographs\, State Library of Victoria. ‘Soldiers striking camp at Williamstown\, WWII.’
URL:https://www.historyvictoria.org.au/event/discover-your-military-ancestors/
LOCATION:Williamstown Library\, 104 Ferguson St\, Williamstown\, VIC\, 3016\, Australia
CATEGORIES:Victorian History Events
ATTACH;FMTTYPE=image/jpeg:https://www.historyvictoria.org.au/wp-content/uploads/2021/01/Military-anestors-Argus-Newspaper-Collection-of-Photographs-SLV-striking-camp-at-Williamstown-WWII.jpg
ORGANIZER;CN="Hobsons Bay Libraries":MAILTO:heritage@hobsonsbay.vic.gov.au
END:VEVENT
BEGIN:VEVENT
DTSTART;TZID=Australia/Melbourne:20210223T183000
DTEND;TZID=Australia/Melbourne:20210223T193000
DTSTAMP:20260421T124424
CREATED:20210127T220529Z
LAST-MODIFIED:20210127T220529Z
UID:10000652-1614105000-1614108600@www.historyvictoria.org.au
SUMMARY:Williamstown Croquet Club - Past\, Present and Future
DESCRIPTION:Come along and learn about croquet’s origins in the 19th century and the history of Williamstown’s own club\, founded in 1926. \nClub president\, Paul Lund\, will also provide information on the club’s operations today including membership\, competitions\, social activities and events. \nThis event will be held online via Microsoft Teams. Bookings are essential so that we can send you a link to join the session. You will be emailed a link prior to the event along with instructions on how to participate.
URL:https://www.historyvictoria.org.au/event/williamstown-croquet-club-past-present-and-future/
LOCATION:Online
CATEGORIES:Victorian History Events
ATTACH;FMTTYPE=image/jpeg:https://www.historyvictoria.org.au/wp-content/uploads/2021/01/croquet-club-at-dusk.jpg
ORGANIZER;CN="Hobsons Bay Libraries":MAILTO:heritage@hobsonsbay.vic.gov.au
END:VEVENT
BEGIN:VEVENT
DTSTART;TZID=Australia/Melbourne:20210210T110000
DTEND;TZID=Australia/Melbourne:20210210T120000
DTSTAMP:20260421T124424
CREATED:20210111T063528Z
LAST-MODIFIED:20210111T063721Z
UID:10000650-1612954800-1612958400@www.historyvictoria.org.au
SUMMARY:Trove for Beginners
DESCRIPTION:Trove is a National Library of Australia website which provides access to historic newspapers\, photographs\, and much more. Come along to this session to learn what’s available on Trove\, and some tips and tricks to find what you’re looking for. \nRecommended for beginners.
URL:https://www.historyvictoria.org.au/event/trove-for-beginners/
LOCATION:Williamstown Library\, 104 Ferguson St\, Williamstown\, VIC\, 3016\, Australia
CATEGORIES:Victorian History Events
ATTACH;FMTTYPE=image/png:https://www.historyvictoria.org.au/wp-content/uploads/2021/01/trove-image.png
ORGANIZER;CN="Hobsons Bay Libraries":MAILTO:heritage@hobsonsbay.vic.gov.au
END:VEVENT
BEGIN:VEVENT
DTSTART;TZID=Australia/Melbourne:20201006T183000
DTEND;TZID=Australia/Melbourne:20201006T193000
DTSTAMP:20260421T124424
CREATED:20200928T111516Z
LAST-MODIFIED:20200928T111516Z
UID:10000639-1602009000-1602012600@www.historyvictoria.org.au
SUMMARY:The West Gate Bridge Collapse: 50 Years On
DESCRIPTION:50 years ago\, the partially-constructed West Gate Bridge collapsed\, killing 35 workers and injuring 18 more. The disaster remains Australia’s worst industrial accident to this day. \nJoin us in conversation with Tommy Watson and Danny Gardiner of the West Gate Bridge Memorial Committee to learn about that fateful day\, their work on the bridge\, and their ongoing battle for workplace safety. \nThis will be an online event. A link will be emailed to registrants the day before the event along with instructions on how to participate. \nIf you need any help you can contact us by phone 1300 462 542 between 9am to 5pm Monday to Friday\, via email at library@hobsonsbay.vic.gov.au\, or via Instagram DM or Facebook Message. \nImage source: John T Collins courtesy of State Library Victoria
URL:https://www.historyvictoria.org.au/event/the-west-gate-bridge-collapse-50-years-on/
LOCATION:Online
CATEGORIES:Victorian History Events
ATTACH;FMTTYPE=image/jpeg:https://www.historyvictoria.org.au/wp-content/uploads/2020/07/John-T-Collins-SLV-Westgate.jpg
ORGANIZER;CN="Hobsons Bay Libraries":MAILTO:heritage@hobsonsbay.vic.gov.au
END:VEVENT
END:VCALENDAR