BEGIN:VCALENDAR
VERSION:2.0
PRODID:-//Royal Historical Society of Victoria - ECPv6.15.12.2//NONSGML v1.0//EN
CALSCALE:GREGORIAN
METHOD:PUBLISH
X-WR-CALNAME:Royal Historical Society of Victoria
X-ORIGINAL-URL:https://www.historyvictoria.org.au
X-WR-CALDESC:Events for Royal Historical Society of Victoria
REFRESH-INTERVAL;VALUE=DURATION:PT1H
X-Robots-Tag:noindex
X-PUBLISHED-TTL:PT1H
BEGIN:VTIMEZONE
TZID:Australia/Melbourne
BEGIN:STANDARD
TZOFFSETFROM:+1100
TZOFFSETTO:+1000
TZNAME:AEST
DTSTART:20180331T160000
END:STANDARD
BEGIN:DAYLIGHT
TZOFFSETFROM:+1000
TZOFFSETTO:+1100
TZNAME:AEDT
DTSTART:20181006T160000
END:DAYLIGHT
BEGIN:STANDARD
TZOFFSETFROM:+1100
TZOFFSETTO:+1000
TZNAME:AEST
DTSTART:20190406T160000
END:STANDARD
BEGIN:DAYLIGHT
TZOFFSETFROM:+1000
TZOFFSETTO:+1100
TZNAME:AEDT
DTSTART:20191005T160000
END:DAYLIGHT
BEGIN:STANDARD
TZOFFSETFROM:+1100
TZOFFSETTO:+1000
TZNAME:AEST
DTSTART:20200404T160000
END:STANDARD
BEGIN:DAYLIGHT
TZOFFSETFROM:+1000
TZOFFSETTO:+1100
TZNAME:AEDT
DTSTART:20201003T160000
END:DAYLIGHT
BEGIN:STANDARD
TZOFFSETFROM:+1100
TZOFFSETTO:+1000
TZNAME:AEST
DTSTART:20210403T160000
END:STANDARD
BEGIN:DAYLIGHT
TZOFFSETFROM:+1000
TZOFFSETTO:+1100
TZNAME:AEDT
DTSTART:20211002T160000
END:DAYLIGHT
BEGIN:STANDARD
TZOFFSETFROM:+1100
TZOFFSETTO:+1000
TZNAME:AEST
DTSTART:20220402T160000
END:STANDARD
BEGIN:DAYLIGHT
TZOFFSETFROM:+1000
TZOFFSETTO:+1100
TZNAME:AEDT
DTSTART:20221001T160000
END:DAYLIGHT
BEGIN:STANDARD
TZOFFSETFROM:+1100
TZOFFSETTO:+1000
TZNAME:AEST
DTSTART:20230401T160000
END:STANDARD
BEGIN:DAYLIGHT
TZOFFSETFROM:+1000
TZOFFSETTO:+1100
TZNAME:AEDT
DTSTART:20230930T160000
END:DAYLIGHT
BEGIN:STANDARD
TZOFFSETFROM:+1100
TZOFFSETTO:+1000
TZNAME:AEST
DTSTART:20240406T160000
END:STANDARD
BEGIN:DAYLIGHT
TZOFFSETFROM:+1000
TZOFFSETTO:+1100
TZNAME:AEDT
DTSTART:20241005T160000
END:DAYLIGHT
BEGIN:STANDARD
TZOFFSETFROM:+1100
TZOFFSETTO:+1000
TZNAME:AEST
DTSTART:20250405T160000
END:STANDARD
BEGIN:DAYLIGHT
TZOFFSETFROM:+1000
TZOFFSETTO:+1100
TZNAME:AEDT
DTSTART:20251004T160000
END:DAYLIGHT
BEGIN:STANDARD
TZOFFSETFROM:+1100
TZOFFSETTO:+1000
TZNAME:AEST
DTSTART:20260404T160000
END:STANDARD
BEGIN:DAYLIGHT
TZOFFSETFROM:+1000
TZOFFSETTO:+1100
TZNAME:AEDT
DTSTART:20261003T160000
END:DAYLIGHT
END:VTIMEZONE
BEGIN:VEVENT
DTSTART;TZID=Australia/Melbourne:20250319T193000
DTEND;TZID=Australia/Melbourne:20250319T203000
DTSTAMP:20260421T143420
CREATED:20250305T225410Z
LAST-MODIFIED:20250305T225410Z
UID:10000586-1742412600-1742416200@www.historyvictoria.org.au
SUMMARY:The Power of Place: The Story of Melbourne's Lanes' - Richard Broome Talk at Malvern Historical Society
DESCRIPTION:Join members of the Malvern Historical Society Committee for a lecture by author Professor Richard Broome at the Malvern Town Hall on Wednesday 19 March 2025 at 7:30pm. \nProfessor Richard Broome\, AM FAHA FRHSV\, will present a lecture on ‘The Power of Place. The Story of Melbourne Lanes’. He will discuss the making of Melbourne’s Lanes and books about the Lanes. Professor Richard Broome is an Emeritus Professor in History at La Trobe University and President of the Royal Historical Society of Victoria. \nCopies of Richard Broome’s Book The Story of Melbourne’s Lanes will be available for purchase\, $50 on the night. All proceeds go towards the Royal Historical Society of Victoria. Cash sales onl. \nBookings are essential for seating allocation. \nRSVP by Friday 14th March \nPhone: Jonathan – 0420 986 884 \nEmail: malvernhistorical@yahoo.com
URL:https://www.historyvictoria.org.au/event/the-power-of-place-the-story-of-melbournes-lanes-richard-broome-talk-at-malvern-historical-society/
LOCATION:Malvern Town Hall\, Corner High Street and Glenferrie Road Malvern\, Melbourne\, 3144\, Australia
CATEGORIES:Victorian History Events
ATTACH;FMTTYPE=image/jpeg:https://www.historyvictoria.org.au/wp-content/uploads/2025/03/lanes.jpg
ORGANIZER;CN="Malvern Historical Society":MAILTO:malvernhistorical@yahoo.com
GEO:-37.8565049;145.0294031
X-APPLE-STRUCTURED-LOCATION;VALUE=URI;X-ADDRESS=Malvern Town Hall Corner High Street and Glenferrie Road Malvern Melbourne 3144 Australia;X-APPLE-RADIUS=500;X-TITLE=Corner High Street and Glenferrie Road Malvern:geo:145.0294031,-37.8565049
END:VEVENT
BEGIN:VEVENT
DTSTART;TZID=Australia/Melbourne:20241217T100000
DTEND;TZID=Australia/Melbourne:20241217T120000
DTSTAMP:20260421T143420
CREATED:20241210T211435Z
LAST-MODIFIED:20241210T211435Z
UID:10000565-1734429600-1734436800@www.historyvictoria.org.au
SUMMARY:Tooronga Station Estate Walk
DESCRIPTION:Join members of the Malvern Historical Society\non Tuesday 17 December\, at 10 am\, to explore the history of the area close to Tooronga Station Malvern.\n \nBookings essential for the meeting place. \nTooronga Station is on the Glen Waverley Line\nMembers: Gold coin Non-members: $5 \nRSVP:\nTel: Duncan 0409 845 845\nEmail: malvernhistorical@yahoo.com  \nPlease be aware parts of the walk are hilly . \nMalvern Historical Society PO Box 184\, Malvern VIC 3144  \nmalvernhistorical@yahoo.com Tel: 0438 515 631 \n  \nPhoto caption: A relic of the land boom\, J. R. Morton’s office next to Tooronga Station. \nHammond Charlie (Tecoma) 1890\nSource: Stonnington History Archives Catalogue Reference number: MP1214 
URL:https://www.historyvictoria.org.au/event/tooronga-station-estate-walk/
CATEGORIES:Victorian History Events
ATTACH;FMTTYPE=image/png:https://www.historyvictoria.org.au/wp-content/uploads/2024/12/Tooronga-Station.png
ORGANIZER;CN="Malvern Historical Society":MAILTO:malvernhistorical@yahoo.com
END:VEVENT
BEGIN:VEVENT
DTSTART;TZID=Australia/Melbourne:20241120T193000
DTEND;TZID=Australia/Melbourne:20241120T210000
DTSTAMP:20260421T143420
CREATED:20241114T230849Z
LAST-MODIFIED:20241114T230849Z
UID:10001034-1732131000-1732136400@www.historyvictoria.org.au
SUMMARY:The forgotten class? Shopkeepers of nineteenth-century Melbourne
DESCRIPTION:Join members of the Malvern Historical Society with Guest speaker\, professional historian\, Dr Fiona Gatt\, who will talk about ‘The forgotten class? Shopkeepers of nineteenth-century Melbourne’. Dr Fiona Gatt will investigate and compare the shopkeepers who operated in three distinct representative suburbs of nineteenth-century Melbourne; genteel Malvern\, inner urban North Melbourne and industrial Footscray.\nAll welcome! \nWednesday 20 November\, 7.30pm\nMalvern Town Hall\, Upper Foyer\,\n1251 High Street\, MalvernBookings are essential for seating purposes. \nRSVP by 18 November \nJonathan ph: 0420 986 884 \nEmail: malvernhistorical@yahoo.com \nimage caption: Glenferrie Road\, looking South\, 1915\, Source: Stonnington History Centre\, MP679
URL:https://www.historyvictoria.org.au/event/the-forgotten-class-shopkeepers-of-nineteenth-century-melbourne/
LOCATION:Malvern Town Hall\, Corner High Street and Glenferrie Road Malvern\, Melbourne\, 3144\, Australia
CATEGORIES:Victorian History Events
ATTACH;FMTTYPE=image/jpeg:https://www.historyvictoria.org.au/wp-content/uploads/2024/11/Glenferrie-Rd.jpg
ORGANIZER;CN="Malvern Historical Society":MAILTO:malvernhistorical@yahoo.com
GEO:-37.8565049;145.0294031
X-APPLE-STRUCTURED-LOCATION;VALUE=URI;X-ADDRESS=Malvern Town Hall Corner High Street and Glenferrie Road Malvern Melbourne 3144 Australia;X-APPLE-RADIUS=500;X-TITLE=Corner High Street and Glenferrie Road Malvern:geo:145.0294031,-37.8565049
END:VEVENT
BEGIN:VEVENT
DTSTART;TZID=Australia/Melbourne:20240221T190000
DTEND;TZID=Australia/Melbourne:20240221T210000
DTSTAMP:20260421T143420
CREATED:20240201T214001Z
LAST-MODIFIED:20240205T072105Z
UID:10000488-1708542000-1708549200@www.historyvictoria.org.au
SUMMARY:Aboriginal Victorians with Richard Broome
DESCRIPTION:Emeritus Professor Richard Broome AM\, will be talking to Malvern Historical Society members and friends on Wednesday 21 February about the second edition of his double award-winning history\, ABORIGINAL VICTORIANS. A HISTORY SINCE 1800. Published by Allen & Unwin.  \n7pm for 7:30pm\, upper foyer\, Malvern Town Hall (Corner High St and Glenferrie Rd)
URL:https://www.historyvictoria.org.au/event/melbournes-laneways-with-richard-broome/
LOCATION:Malvern Town Hall\, Corner High Street and Glenferrie Road Malvern\, Melbourne\, 3144\, Australia
CATEGORIES:Victorian History Events
ATTACH;FMTTYPE=image/jpeg:https://www.historyvictoria.org.au/wp-content/uploads/2018/07/Aboriginal-Victorians-2nd-Book-cover-cropped-scaled.jpg
ORGANIZER;CN="Malvern Historical Society":MAILTO:malvernhistorical@yahoo.com
GEO:-37.8565049;145.0294031
X-APPLE-STRUCTURED-LOCATION;VALUE=URI;X-ADDRESS=Malvern Town Hall Corner High Street and Glenferrie Road Malvern Melbourne 3144 Australia;X-APPLE-RADIUS=500;X-TITLE=Corner High Street and Glenferrie Road Malvern:geo:145.0294031,-37.8565049
END:VEVENT
BEGIN:VEVENT
DTSTART;TZID=Australia/Melbourne:20220427T173000
DTEND;TZID=Australia/Melbourne:20220427T183000
DTSTAMP:20260421T143420
CREATED:20220421T023114Z
LAST-MODIFIED:20220421T023114Z
UID:10000746-1651080600-1651084200@www.historyvictoria.org.au
SUMMARY:Preserving Family History Collections
DESCRIPTION:Do you have a collection of photographs\, papers\, artwork\, objects from your family history that you wish to preserve? \nThen come along and hear Local History Technician\, Dr Ainslee Meredith from the Stonnington History Centre talk us through Preserving Family History Collections on Wednesday 27 April\, 5.30pm-6.30pm. \nDrawing on her experience in archival conservation\, Ainslee will discuss different approaches you can take to preserve your family history collection at home\, from safe storage to disaster recovery. \nThe talk will include caring for paper and photographic materials\, artwork\, objects and digital collections. \nAinslee holds a PhD in cultural materials conservation from the University of Melbourne and has worked with national\, state and community archives. \nPreserving Family History Collections \nWednesday 27 April\, 5.30pm-6.30pm\nStonnington History Centre\nNorthbrook\, 1257 High Street\,\nMalvern (behind Malvern Library)\nEmail: history@stonnington.vic.gov.au  \nBookings required phone: 8290 1360\nwww.stonnington.vic.gov.au/Library/Whats-On/History-Matters-Introduction-to-preserving-family-history-collections \nAll welcome !
URL:https://www.historyvictoria.org.au/event/preserving-family-history-collections/
LOCATION:Stonnington History Centre\, 1257 High Street\, Malvern\, VIC\, 3145\, Australia
CATEGORIES:Victorian History Events
ATTACH;FMTTYPE=image/jpeg:https://www.historyvictoria.org.au/wp-content/uploads/2022/04/Family-archives.jpg
ORGANIZER;CN="Malvern Historical Society":MAILTO:malvernhistorical@yahoo.com
END:VEVENT
BEGIN:VEVENT
DTSTART;TZID=Australia/Melbourne:20200219T193000
DTEND;TZID=Australia/Melbourne:20200219T203000
DTSTAMP:20260421T143420
CREATED:20200128T213700Z
LAST-MODIFIED:20200128T213700Z
UID:10000074-1582140600-1582144200@www.historyvictoria.org.au
SUMMARY:Creating a Tramway Titan
DESCRIPTION:In 2020\, Melbourne retains the title of having the largest electric street tram system in the world. This presentation will look at the tramway’s history and why Melbourne retains the title of being a Tramway Titan. The Prahran and Malvern Tramways Trust played a part in this. A Public Private Partnership built a capable tram network in 1885\, and the MMBW was formed in 1919. \nOur guest speaker will be Warren Doubleday\, Manager of the Melbourne Tram Museum collection\, and Museum Services Manager of the Ballarat Tramway Museum. Come prepared to be intrigued by the facts and related stories. \nThis is a free event presented by the Malvern Historical Society. Supper will be served. \nBookings essential: Lorraine 9885 9082 by 16 Feb. \nAll welcome!
URL:https://www.historyvictoria.org.au/event/creating-a-tramway-titan/
LOCATION:Malvern Town Hall\, Corner High Street and Glenferrie Road Malvern\, Melbourne\, 3144\, Australia
CATEGORIES:Victorian History Events
ATTACH;FMTTYPE=image/jpeg:https://www.historyvictoria.org.au/wp-content/uploads/2020/01/trams.jpg
ORGANIZER;CN="Malvern Historical Society":MAILTO:malvernhistorical@yahoo.com
GEO:-37.8565049;145.0294031
X-APPLE-STRUCTURED-LOCATION;VALUE=URI;X-ADDRESS=Malvern Town Hall Corner High Street and Glenferrie Road Malvern Melbourne 3144 Australia;X-APPLE-RADIUS=500;X-TITLE=Corner High Street and Glenferrie Road Malvern:geo:145.0294031,-37.8565049
END:VEVENT
BEGIN:VEVENT
DTSTART;TZID=Australia/Melbourne:20191016T193000
DTEND;TZID=Australia/Melbourne:20191016T203000
DTSTAMP:20260421T143420
CREATED:20191006T220620Z
LAST-MODIFIED:20191013T213855Z
UID:10000462-1571254200-1571257800@www.historyvictoria.org.au
SUMMARY:Historical Houses in South Yarra: Philippe Batters
DESCRIPTION:Malvern Historical Society presents … \nWell known local identity real estate agent Philippe Batters\, will present an illustrated talk about historical houses in South Yarra. Philippe has lived in or close to the South Yarra area since 1954. His love of South Yarra has seen him build up a thorough knowledge of South Yarra’s local history over the years. An entertaining speaker\, Philippe’s presentation will include many fascinating South Yarra\nstories. \n(Upstairs Foyer – lift available) This is a free event.\nAll welcome! \nFREE event however bookings are essential: Lorraine 9885 9082 by 14 October
URL:https://www.historyvictoria.org.au/event/historical-houses-in-south-yarra/
LOCATION:Malvern Town Hall\, Corner High Street and Glenferrie Road Malvern\, Melbourne\, 3144\, Australia
CATEGORIES:Victorian History Events
ORGANIZER;CN="Malvern Historical Society":MAILTO:malvernhistorical@yahoo.com
GEO:-37.8565049;145.0294031
X-APPLE-STRUCTURED-LOCATION;VALUE=URI;X-ADDRESS=Malvern Town Hall Corner High Street and Glenferrie Road Malvern Melbourne 3144 Australia;X-APPLE-RADIUS=500;X-TITLE=Corner High Street and Glenferrie Road Malvern:geo:145.0294031,-37.8565049
END:VEVENT
BEGIN:VEVENT
DTSTART;TZID=Australia/Melbourne:20190220T193000
DTEND;TZID=Australia/Melbourne:20190220T213000
DTSTAMP:20260421T143420
CREATED:20190212T020257Z
LAST-MODIFIED:20190212T041146Z
UID:10000002-1550691000-1550698200@www.historyvictoria.org.au
SUMMARY:Talk: Power’s Paddock Toorak 1840-1940
DESCRIPTION:Join members of the Malvern Historical Society\, when well known local historian\, Di Foster\, will present an illustrated talk on the development of the area in Toorak once known as ‘Powers Paddock’.\nDi is the author of Melbourne’s most fashionable suburb: a history of Toorak\, east of Kooyong Road\, 1840-1998. The presentation will include fascinating highlights relating to the history of Toorak between Kooyong\nRoad and Glenferrie Road. Come prepared to be intrigued by the facts and stories. \nMalvern Town Hall\, Corner of Glenferrie Road and High Street\, Malvern (Upstairs Foyer – lift available). This is a free event. Supper will be served. Bookings essential: Lorraine 9885 9082 by 18 February. All welcome!
URL:https://www.historyvictoria.org.au/event/talk-powers-paddock-toorak-1840-1940/
LOCATION:Malvern Town Hall\, Corner High Street and Glenferrie Road Malvern\, Melbourne\, 3144\, Australia
CATEGORIES:Victorian History Events
ORGANIZER;CN="Malvern Historical Society":MAILTO:malvernhistorical@yahoo.com
GEO:-37.8565049;145.0294031
X-APPLE-STRUCTURED-LOCATION;VALUE=URI;X-ADDRESS=Malvern Town Hall Corner High Street and Glenferrie Road Malvern Melbourne 3144 Australia;X-APPLE-RADIUS=500;X-TITLE=Corner High Street and Glenferrie Road Malvern:geo:145.0294031,-37.8565049
END:VEVENT
END:VCALENDAR