BEGIN:VCALENDAR
VERSION:2.0
PRODID:-//Royal Historical Society of Victoria - ECPv6.15.12.2//NONSGML v1.0//EN
CALSCALE:GREGORIAN
METHOD:PUBLISH
X-ORIGINAL-URL:https://www.historyvictoria.org.au
X-WR-CALDESC:Events for Royal Historical Society of Victoria
REFRESH-INTERVAL;VALUE=DURATION:PT1H
X-Robots-Tag:noindex
X-PUBLISHED-TTL:PT1H
BEGIN:VTIMEZONE
TZID:Australia/Melbourne
BEGIN:STANDARD
TZOFFSETFROM:+1100
TZOFFSETTO:+1000
TZNAME:AEST
DTSTART:20250405T160000
END:STANDARD
BEGIN:DAYLIGHT
TZOFFSETFROM:+1000
TZOFFSETTO:+1100
TZNAME:AEDT
DTSTART:20251004T160000
END:DAYLIGHT
BEGIN:STANDARD
TZOFFSETFROM:+1100
TZOFFSETTO:+1000
TZNAME:AEST
DTSTART:20260404T160000
END:STANDARD
BEGIN:DAYLIGHT
TZOFFSETFROM:+1000
TZOFFSETTO:+1100
TZNAME:AEDT
DTSTART:20261003T160000
END:DAYLIGHT
BEGIN:STANDARD
TZOFFSETFROM:+1100
TZOFFSETTO:+1000
TZNAME:AEST
DTSTART:20270403T160000
END:STANDARD
BEGIN:DAYLIGHT
TZOFFSETFROM:+1000
TZOFFSETTO:+1100
TZNAME:AEDT
DTSTART:20271002T160000
END:DAYLIGHT
END:VTIMEZONE
BEGIN:VEVENT
DTSTART;TZID=Australia/Melbourne:20260430T110000
DTEND;TZID=Australia/Melbourne:20260430T120000
DTSTAMP:20260420T222328
CREATED:20251030T012151Z
LAST-MODIFIED:20260325T045614Z
UID:10000613-1777546800-1777550400@www.historyvictoria.org.au
SUMMARY:Cataloguing Clinics 2026
DESCRIPTION:Join Jillian Hiscock\, the RHSV Collections Manager\, each month in this informative and easy-going Zoom forum on all aspects of cataloguing collections for historical societies. \nJillian has a different topic each month and is happy to be guided by those who attend as to what they would like covered in upcoming clinics. Bring your questions (no matter the topic) – this is an interactive space where questions are encouraged. The RHSV does not endorse any particular cataloguing software – we believe it is horses for courses – and Jillian will talk about issues that impact on cataloguing whether you are using cataloguing cards or software. \nThe one-hour clinics are free and the Zoom log-in below is used every month in 2026\, however\, we do ask you to register each month as this enables Jillian to send you extra material / links etc. after each session. \nSessions:\n11am (AEDT) Thursday 26 February 2026\n11am (AEDT) Thursday 26 March 2026\n11am (AEST) Thursday 30 April 2026\n11am (AEST) Thursday 28 May 2026\n11am (AEST) Thursday 25 June 2026\n11am (AEST) Thursday 30 July 2026\n11am (AEST) Thursday 27 August 2026\n11am (AEST) Thursday 24 September 2026\n11am (AEDT) Thursday 29 October 2026\n11am (AEDT) Thursday 26 November 2026\n\nPlease download and import the following iCalendar (.ics) files to your calendar system.\nMonthly: https://us02web.zoom.us/meeting/tZAud-6tqzIoGNf-ekfqpiWBEHdAbuAa0G3b/ics?icsToken=DN5S8U6HvgmiIfnZeQAALAAAAN0_NDs1hJchwoY_zJTvmShIYBwfvHQ6cVVI1mr9JF731GvWHc8T-7wi3EH803NiEyODSEXX-QK5oMaaWTAwMDAwMQ&meetingMasterEventId=FY4VyCTcTh6FmDBdzDJrwg \nJoin Zoom Meeting\nhttps://us02web.zoom.us/j/84307559223 \nMeeting ID: 843 0755 9223\nPasscode: 517973 \nJoin instructions\nhttps://us02web.zoom.us/meetings/84307559223/invitations?signature=rozCoa22a48VMzpAjeAsb42g9UVJvKwL-kG9nWOezJU \n 
URL:https://www.historyvictoria.org.au/event/cataloguing-clinics-2026-04-april/
LOCATION:Join via Zoom
CATEGORIES:What's On
ATTACH;FMTTYPE=image/png:https://www.historyvictoria.org.au/wp-content/uploads/2025/02/Cataloguing-clinics-2025.png
ORGANIZER;CN="Royal Historical Society of Victoria":MAILTO:office@historyvictoria.org.au
GEO:-37.8800269;145.0233007
END:VEVENT
BEGIN:VEVENT
DTSTART;TZID=Australia/Melbourne:20260526T170000
DTEND;TZID=Australia/Melbourne:20260526T193000
DTSTAMP:20260420T222328
CREATED:20260311T045612Z
LAST-MODIFIED:20260311T052909Z
UID:10001129-1779814800-1779823800@www.historyvictoria.org.au
SUMMARY:RHSV AGM + 2026 Weston Bate Oration: Professor Richard Broome AM
DESCRIPTION:AGM: 5pm – 6.10pm\nBreak: 6.10pm – 6.30pm\nWeston Bate Oration: 6.30pm – 7.30pm \nThe Weston Bate Oration follows the RHSV’s Annual General Meeting. The AGM runs from 5pm until about 6:10pm when we have a short break before resuming for the Oration at 6:30pm. Refreshments will be served in that break. \nIf you wish to attend the Oration only then there is no need to arrive at the Drill Hall until\, say\, 6:15pm for 6:30pm. \nBoth the AGM and the Oration are hybrid and will be available on ZOOM for those who cannot attend in person at the Drill Hall. The same ZOOM log-in will apply to both the AGM and the Oration and those log-in details will be sent to those who RSVP 24 hours before the event. You just need to log-in when you are able to join the meeting/oration. \nThere is the opportunity below to record your apologies if you cannot attend the AGM in person or via ZOOM. \nMembers will be sent the papers for the AGM 14 days prior to the AGM. \nNon-members are more than welcome to attend the AGM – we just ask members to identify themselves when RSVPing as it makes it easier for us to count votes\, etc. \nWeston Bate Oration:\nPresented by Professor Richard Broome AM\, FAHA\, FRHSV\, FFAHS\nIn this lecture Richard will explain how he found Aboriginal history in the 1970s and how his practice and methodological approach to this field has changed over five decades. He will reveal how and when he shifted from a position of youthful ignorance; to being interested in and talking about Aboriginal people; to listening to and talking with them; and finally\, to deep collaboration with them. \nAbout the presenter:\nEmeritus Professor Richard Broome AM taught Australian and Indigenous History at La Trobe University for over three decades. He is a former President of the RHSV and currently co-editor of the Victorian Historical Journal. He is the author of twenty books\, including Aboriginal Australians. A history since 1788 (Allen & Unwin 5th ed.\, 2019) and the multi-prize-winner Aboriginal Victorians. A History since 1800 (Allen & Unwin\, 2nd ed.\, 2024). He co-edited with Ashley Pratt\, Analyzing Australian History\, a 4 volume VCE text (Cambridge University Press\, 2021). Richard has co-authored three books for the RHSV\, the latest being The Story of Melbourne’s Lanes (2024). \nThe Weston Bate Oration is one of the RHSV’s Distinguished Lecture Series.
URL:https://www.historyvictoria.org.au/event/rhsv-agm-2026-weston-bate-oration-professor-richard-broome-am/
LOCATION:RHSV Gallery Downstairs\, 239 A'Beckett St\, Melbourne\, Victoria\, 3000\, Australia
CATEGORIES:Distinguished Lecturer Series,What's On
ATTACH;FMTTYPE=image/png:https://www.historyvictoria.org.au/wp-content/uploads/2026/03/AGM-Weston-Bate-Oration.png
ORGANIZER;CN="Royal Historical Society of Victoria":MAILTO:office@historyvictoria.org.au
END:VEVENT
BEGIN:VEVENT
DTSTART;TZID=Australia/Melbourne:20260528T110000
DTEND;TZID=Australia/Melbourne:20260528T120000
DTSTAMP:20260420T222328
CREATED:20251030T012517Z
LAST-MODIFIED:20260325T045657Z
UID:10000614-1779966000-1779969600@www.historyvictoria.org.au
SUMMARY:Cataloguing Clinics 2026
DESCRIPTION:Join Jillian Hiscock\, the RHSV Collections Manager\, each month in this informative and easy-going Zoom forum on all aspects of cataloguing collections for historical societies. \nJillian has a different topic each month and is happy to be guided by those who attend as to what they would like covered in upcoming clinics. Bring your questions (no matter the topic) – this is an interactive space where questions are encouraged. The RHSV does not endorse any particular cataloguing software – we believe it is horses for courses – and Jillian will talk about issues that impact on cataloguing whether you are using cataloguing cards or software. \nThe one-hour clinics are free and the Zoom log-in below is used every month in 2026\, however\, we do ask you to register each month as this enables Jillian to send you extra material / links etc. after each session. \nSessions:\n11am (AEDT) Thursday 26 February 2026\n11am (AEDT) Thursday 26 March 2026\n11am (AEST) Thursday 30 April 2026\n11am (AEST) Thursday 28 May 2026\n11am (AEST) Thursday 25 June 2026\n11am (AEST) Thursday 30 July 2026\n11am (AEST) Thursday 27 August 2026\n11am (AEST) Thursday 24 September 2026\n11am (AEDT) Thursday 29 October 2026\n11am (AEDT) Thursday 26 November 2026\n \n\nPlease download and import the following iCalendar (.ics) files to your calendar system.\nMonthly: https://us02web.zoom.us/meeting/tZAud-6tqzIoGNf-ekfqpiWBEHdAbuAa0G3b/ics?icsToken=DN5S8U6HvgmiIfnZeQAALAAAAN0_NDs1hJchwoY_zJTvmShIYBwfvHQ6cVVI1mr9JF731GvWHc8T-7wi3EH803NiEyODSEXX-QK5oMaaWTAwMDAwMQ&meetingMasterEventId=FY4VyCTcTh6FmDBdzDJrwg \nJoin Zoom Meeting\nhttps://us02web.zoom.us/j/84307559223 \nMeeting ID: 843 0755 9223\nPasscode: 517973 \nJoin instructions\nhttps://us02web.zoom.us/meetings/84307559223/invitations?signature=rozCoa22a48VMzpAjeAsb42g9UVJvKwL-kG9nWOezJU
URL:https://www.historyvictoria.org.au/event/cataloguing-clinics-2026-05-may/
LOCATION:Join via Zoom
CATEGORIES:What's On
ATTACH;FMTTYPE=image/jpeg:https://www.historyvictoria.org.au/wp-content/uploads/2025/10/Cataloguing-clinics.jpg
ORGANIZER;CN="Royal Historical Society of Victoria":MAILTO:office@historyvictoria.org.au
GEO:-37.8800269;145.0233007
END:VEVENT
BEGIN:VEVENT
DTSTART;TZID=Australia/Melbourne:20260625T110000
DTEND;TZID=Australia/Melbourne:20260625T220000
DTSTAMP:20260420T222328
CREATED:20251030T013140Z
LAST-MODIFIED:20260324T220608Z
UID:10000615-1782385200-1782424800@www.historyvictoria.org.au
SUMMARY:Cataloguing Clinics 2026
DESCRIPTION:Join Jillian Hiscock\, the RHSV Collections Manager\, each month in this informative and easy-going Zoom forum on all aspects of cataloguing collections for historical societies. \nJillian has a different topic each month and is happy to be guided by those who attend as to what they would like covered in upcoming clinics. Bring your questions (no matter the topic) – this is an interactive space where questions are encouraged. The RHSV does not endorse any particular cataloguing software – we believe it is horses for courses – and Jillian will talk about issues that impact on cataloguing whether you are using cataloguing cards or software. \nThe one-hour clinics are free and the Zoom log-in below is used every month in 2026\, however\, we do ask you to register each month as this enables Jillian to send you extra material / links etc. after each session. \nSessions:\n11am (AEDT) Thursday 26 February 2026\n11am (AEDT) Thursday 26 March 2026\n11am (AEST) Thursday 30 April 2026\n11am (AEST) Thursday 28 May 2026\n11am (AEST) Thursday 25 June 2026\n11am (AEST) Thursday 30 July 2026\n11am (AEST) Thursday 27 August 2026\n11am (AEST) Thursday 24 September 2026\n11am (AEDT) Thursday 29 October 2026\n11am (AEDT) Thursday 26 November 2026\n \nPlease download and import the following iCalendar (.ics) files to your calendar system.\nMonthly: https://us02web.zoom.us/meeting/tZUodu6tqDgiHd1GR_iE8TH4ES68fGZNptVS/ics?icsToken=DG-8nju0TlavGLpMYAAALAAAAHjKVvjojHkP8b0WEF3xBU3_ND_gQsgdvSNgtqHVOZ5zsuq6aJanYT-P0Z-4fXQe-__Qy-vPVgC56bc5rzAwMDAwMQ&meetingMasterEventId=zzNd4ZUyTrmUVJnN31jJmA\n \nJoin Zoom Meeting\nHttps://us02web.zoom.us/j/81517563879?pwd=9FCUaaQEXgNGbvqJUMQhKyyrBp1yTW.1\n \nMeeting ID: 815 1756 3879\nPasscode: 903237\n \nIf joining by phone:\n \nOne tap mobile\n+61370182005\,\,81517563879#\,\,\,\,*903237# Australia\n+61731853730\,\,81517563879#\,\,\,\,*903237# Australia\n \nJoin instructions\nHttps://us02web.zoom.us/meetings/81517563879/invitations?signature=BFitA8rSUYgPR-TK-V-4LtlvBfEC6RHS1nRX9kJplfY
URL:https://www.historyvictoria.org.au/event/cataloguing-clinics-2026-06-june/
LOCATION:ZOOM\, Join from anywhere in the world
CATEGORIES:What's On
ATTACH;FMTTYPE=image/png:https://www.historyvictoria.org.au/wp-content/uploads/2025/02/Cataloguing-clinics-2025.png
ORGANIZER;CN="Royal Historical Society of Victoria":MAILTO:office@historyvictoria.org.au
END:VEVENT
BEGIN:VEVENT
DTSTART;TZID=Australia/Melbourne:20260721T173000
DTEND;TZID=Australia/Melbourne:20260721T190000
DTSTAMP:20260420T222328
CREATED:20260311T052607Z
LAST-MODIFIED:20260311T052708Z
UID:10001130-1784655000-1784660400@www.historyvictoria.org.au
SUMMARY:Lives lived and clothes worn: reading Gwen Jones' gowns
DESCRIPTION:This lecture honours the life of Gwen Jones\, a keen member and generous supporter of the Royal Historical Society of Victoria over many years until her death in 2021\, aged 98. The lecture series will promote the vital role of The Jones Collection of the RHSV in documenting and supporting research on these themes. \nThe Jones Collection was donated to the RHSV by Gwen shortly before she died. Gwen’s creation\, stewardship\, and generosity surrounding the collection has ensured that future historians have an incredibly rich archive on which to draw. \nLives lived and clothes worn: reading Gwen Jones’ gowns\nClothing is a personal document that records experiences\, reflects moments in time and captures aspects of its wearer. In this presentation\, Lorinda Cramer delves into three gowns related to Gwen Jones in the collection of the National Trust of Australia (Victoria). As she reads these garments for the lives lived in and through them\, she teases apart the social\, cultural and fashion history in which these dresses were worn. \nAbout Dr Lorinda Cramer\nDr Lorinda Cramer is a Lecturer in Cultural Heritage and Museum Studies at Deakin University. Her work as a dress historian sits at the intersections of social history\, cultural history and material culture studies. She employs an innovative methodology that draws on the materiality of museum objects to deepen insights into clothing’s connections with gender\, race and class\, to explore consumer preference\, and to interrogate fashion as a worn experience. \nHousekeeping \nThis event will be hybrid so presented in person in our rooms and also via ZOOM. Those purchasing ZOOM tickets will be sent the log-in details 24hrs before the event. \nAn automatically generated confirmation of booking email is sent on booking – please check your Trash or Spam folders if this email does not turn up in your in-box. \nAs with most of our events\, refreshments will be served from 5:30pm – 6pm when the lecture starts (the Zoom session also starts at 6pm). There will be Q&A at the end of the lecture.
URL:https://www.historyvictoria.org.au/event/lives-lived-and-clothes-worn-reading-gwen-jones-gowns/
LOCATION:RHSV Gallery Downstairs\, 239 A'Beckett St\, Melbourne\, Victoria\, 3000\, Australia
CATEGORIES:Distinguished Lecturer Series,What's On
ATTACH;FMTTYPE=image/png:https://www.historyvictoria.org.au/wp-content/uploads/2026/03/reading-Gwen-Jones-gowns.png
ORGANIZER;CN="Royal Historical Society of Victoria":MAILTO:office@historyvictoria.org.au
END:VEVENT
BEGIN:VEVENT
DTSTART;TZID=Australia/Melbourne:20260730T110000
DTEND;TZID=Australia/Melbourne:20260730T120000
DTSTAMP:20260420T222328
CREATED:20251030T013409Z
LAST-MODIFIED:20260414T050808Z
UID:10000616-1785409200-1785412800@www.historyvictoria.org.au
SUMMARY:Cataloguing Clinics 2026
DESCRIPTION:Join Jillian Hiscock\, the RHSV Collections Manager\, each month in this informative and easy-going Zoom forum on all aspects of cataloguing collections for historical societies. \nJillian has a different topic each month and is happy to be guided by those who attend as to what they would like covered in upcoming clinics. Bring your questions (no matter the topic) – this is an interactive space where questions are encouraged. The RHSV does not endorse any particular cataloguing software – we believe it is horses for courses – and Jillian will talk about issues that impact on cataloguing whether you are using cataloguing cards or software. \nThe one-hour clinics are free and the Zoom log-in below is used every month in 2026\, however\, we do ask you to register each month as this enables Jillian to send you extra material / links etc. after each session. \nSessions:\n11am (AEDT) Thursday 26 February 2026\n11am (AEDT) Thursday 26 March 2026\n11am (AEST) Thursday 30 April 2026\n11am (AEST) Thursday 28 May 2026\n11am (AEST) Thursday 25 June 2026\n11am (AEST) Thursday 30 July 2026\n11am (AEST) Thursday 27 August 2026\n11am (AEST) Thursday 24 September 2026\n11am (AEDT) Thursday 29 October 2026\n11am (AEDT) Thursday 26 November 2026\n \n\nPlease download and import the following iCalendar (.ics) files to your calendar system.\nMonthly: https://us02web.zoom.us/meeting/tZAud-6tqzIoGNf-ekfqpiWBEHdAbuAa0G3b/ics?icsToken=DN5S8U6HvgmiIfnZeQAALAAAAN0_NDs1hJchwoY_zJTvmShIYBwfvHQ6cVVI1mr9JF731GvWHc8T-7wi3EH803NiEyODSEXX-QK5oMaaWTAwMDAwMQ&meetingMasterEventId=FY4VyCTcTh6FmDBdzDJrwg \nJoin Zoom Meeting\nhttps://us02web.zoom.us/j/84307559223 \nMeeting ID: 843 0755 9223\nPasscode: 517973 \nJoin instructions\nhttps://us02web.zoom.us/meetings/84307559223/invitations?signature=rozCoa22a48VMzpAjeAsb42g9UVJvKwL-kG9nWOezJU
URL:https://www.historyvictoria.org.au/event/cataloguing-clinics-2026-07-july/
LOCATION:ZOOM\, Join from anywhere in the world
CATEGORIES:What's On
ATTACH;FMTTYPE=image/jpeg:https://www.historyvictoria.org.au/wp-content/uploads/2025/10/Cataloguing-clinics.jpg
ORGANIZER;CN="Royal Historical Society of Victoria":MAILTO:office@historyvictoria.org.au
END:VEVENT
BEGIN:VEVENT
DTSTART;TZID=Australia/Melbourne:20260814T080000
DTEND;TZID=Australia/Melbourne:20260814T170000
DTSTAMP:20260420T222328
CREATED:20260409T024045Z
LAST-MODIFIED:20260409T024045Z
UID:10001149-1786694400-1786726800@www.historyvictoria.org.au
SUMMARY:Save the Date: HSSC metropolitan event
DESCRIPTION:Join the Historical Society Support Committee (HSSC) on Friday\, August 14 at the RHSV Drill Hall. \nThis leadership seminar brings together historical society representatives from across the state to discuss emerging trends\, shared challenges\, and the future of our sector. \nMore details to follow — mark your calendar now.
URL:https://www.historyvictoria.org.au/event/hssc-metropolitan-seminar-2026/
LOCATION:Drill Hall\, Royal Historical Society Victoria\, 239 A'Beckett St\, Melbourne\, VIC\, 3000\, Australia
CATEGORIES:What's On
ATTACH;FMTTYPE=image/jpeg:https://www.historyvictoria.org.au/wp-content/uploads/2026/04/Save-the-date-August-14-HSSC.jpg
ORGANIZER;CN="Royal Historical Society of Victoria":MAILTO:office@historyvictoria.org.au
GEO:-37.8107817;144.9562417
X-APPLE-STRUCTURED-LOCATION;VALUE=URI;X-ADDRESS=Drill Hall Royal Historical Society Victoria 239 A'Beckett St Melbourne VIC 3000 Australia;X-APPLE-RADIUS=500;X-TITLE=239 A'Beckett St:geo:144.9562417,-37.8107817
END:VEVENT
BEGIN:VEVENT
DTSTART;TZID=Australia/Melbourne:20260827T110000
DTEND;TZID=Australia/Melbourne:20260827T120000
DTSTAMP:20260420T222328
CREATED:20251030T013650Z
LAST-MODIFIED:20251030T013723Z
UID:10000617-1787828400-1787832000@www.historyvictoria.org.au
SUMMARY:Cataloguing Clinics 2026
DESCRIPTION:Join Jillian Hiscock\, the RHSV Collections Manager\, each month in this informative and easy-going Zoom forum on all aspects of cataloguing collections for historical societies. \nJillian has a different topic each month and is happy to be guided by those who attend as to what they would like covered in upcoming clinics. Bring your questions (no matter the topic) – this is an interactive space where questions are encouraged. The RHSV does not endorse any particular cataloguing software – we believe it is horses for courses – and Jillian will talk about issues that impact on cataloguing whether you are using cataloguing cards or software. \nThe one-hour clinics are free and the Zoom log-in below is used every month in 2026\, however\, we do ask you to register each month as this enables Jillian to send you extra material / links etc. after each session. \nSessions:\n11am (AEDT) Thursday 26 February 2026\n11am (AEDT) Thursday 26 March 2026\n11am (AEST) Thursday 30 April 2026\n11am (AEST) Thursday 28 May 2026\n11am (AEST) Thursday 25 June 2026\n11am (AEST) Thursday 30 July 2026\n11am (AEST) Thursday 27 August 2026\n11am (AEST) Thursday 24 September 2026\n11am (AEDT) Thursday 29 October 2026\n11am (AEDT) Thursday 26 November 2026\n \nPlease download and import the following iCalendar (.ics) files to your calendar system.\nMonthly: https://us02web.zoom.us/meeting/tZUodu6tqDgiHd1GR_iE8TH4ES68fGZNptVS/ics?icsToken=DG-8nju0TlavGLpMYAAALAAAAHjKVvjojHkP8b0WEF3xBU3_ND_gQsgdvSNgtqHVOZ5zsuq6aJanYT-P0Z-4fXQe-__Qy-vPVgC56bc5rzAwMDAwMQ&meetingMasterEventId=zzNd4ZUyTrmUVJnN31jJmA\n \nJoin Zoom Meeting\nHttps://us02web.zoom.us/j/81517563879?pwd=9FCUaaQEXgNGbvqJUMQhKyyrBp1yTW.1\n \nMeeting ID: 815 1756 3879\nPasscode: 903237\n \nIf joining by phone:\n \nOne tap mobile\n+61370182005\,\,81517563879#\,\,\,\,*903237# Australia\n+61731853730\,\,81517563879#\,\,\,\,*903237# Australia\n \nJoin instructions\nHttps://us02web.zoom.us/meetings/81517563879/invitations?signature=BFitA8rSUYgPR-TK-V-4LtlvBfEC6RHS1nRX9kJplfY
URL:https://www.historyvictoria.org.au/event/cataloguing-clinics-2026-08-august/
LOCATION:ZOOM\, Join from anywhere in the world
CATEGORIES:What's On
ORGANIZER;CN="Royal Historical Society of Victoria":MAILTO:office@historyvictoria.org.au
END:VEVENT
BEGIN:VEVENT
DTSTART;TZID=Australia/Melbourne:20260924T110000
DTEND;TZID=Australia/Melbourne:20260924T120000
DTSTAMP:20260420T222328
CREATED:20251030T014046Z
LAST-MODIFIED:20260325T045955Z
UID:10000618-1790247600-1790251200@www.historyvictoria.org.au
SUMMARY:Cataloguing Clinics 2026
DESCRIPTION:Join Jillian Hiscock\, the RHSV Collections Manager\, each month in this informative and easy-going Zoom forum on all aspects of cataloguing collections for historical societies. \nJillian has a different topic each month and is happy to be guided by those who attend as to what they would like covered in upcoming clinics. Bring your questions (no matter the topic) – this is an interactive space where questions are encouraged. The RHSV does not endorse any particular cataloguing software – we believe it is horses for courses – and Jillian will talk about issues that impact on cataloguing whether you are using cataloguing cards or software. \nThe one-hour clinics are free and the Zoom log-in below is used every month in 2026\, however\, we do ask you to register each month as this enables Jillian to send you extra material / links etc. after each session. \nSessions:\n11am (AEDT) Thursday 26 February 2026\n11am (AEDT) Thursday 26 March 2026\n11am (AEST) Thursday 30 April 2026\n11am (AEST) Thursday 28 May 2026\n11am (AEST) Thursday 25 June 2026\n11am (AEST) Thursday 30 July 2026\n11am (AEST) Thursday 27 August 2026\n11am (AEST) Thursday 24 September 2026\n11am (AEDT) Thursday 29 October 2026\n11am (AEDT) Thursday 26 November 2026\n \n\nPlease download and import the following iCalendar (.ics) files to your calendar system.\nMonthly: https://us02web.zoom.us/meeting/tZAud-6tqzIoGNf-ekfqpiWBEHdAbuAa0G3b/ics?icsToken=DN5S8U6HvgmiIfnZeQAALAAAAN0_NDs1hJchwoY_zJTvmShIYBwfvHQ6cVVI1mr9JF731GvWHc8T-7wi3EH803NiEyODSEXX-QK5oMaaWTAwMDAwMQ&meetingMasterEventId=FY4VyCTcTh6FmDBdzDJrwg \nJoin Zoom Meeting\nhttps://us02web.zoom.us/j/84307559223 \nMeeting ID: 843 0755 9223\nPasscode: 517973 \nJoin instructions\nhttps://us02web.zoom.us/meetings/84307559223/invitations?signature=rozCoa22a48VMzpAjeAsb42g9UVJvKwL-kG9nWOezJU
URL:https://www.historyvictoria.org.au/event/cataloguing-clinics-2026-09-sept/
LOCATION:ZOOM\, Join from anywhere in the world
CATEGORIES:What's On
ORGANIZER;CN="Royal Historical Society of Victoria":MAILTO:office@historyvictoria.org.au
END:VEVENT
BEGIN:VEVENT
DTSTART;TZID=Australia/Melbourne:20261029T110000
DTEND;TZID=Australia/Melbourne:20261029T120000
DTSTAMP:20260420T222328
CREATED:20251030T014409Z
LAST-MODIFIED:20260325T050035Z
UID:10001093-1793271600-1793275200@www.historyvictoria.org.au
SUMMARY:Cataloguing Clinics 2026
DESCRIPTION:Join Jillian Hiscock\, the RHSV Collections Manager\, each month in this informative and easy-going Zoom forum on all aspects of cataloguing collections for historical societies. \nJillian has a different topic each month and is happy to be guided by those who attend as to what they would like covered in upcoming clinics. Bring your questions (no matter the topic) – this is an interactive space where questions are encouraged. The RHSV does not endorse any particular cataloguing software – we believe it is horses for courses – and Jillian will talk about issues that impact on cataloguing whether you are using cataloguing cards or software. \nThe one-hour clinics are free and the Zoom log-in below is used every month in 2026\, however\, we do ask you to register each month as this enables Jillian to send you extra material / links etc. after each session. \nSessions:\n11am (AEDT) Thursday 26 February 2026\n11am (AEDT) Thursday 26 March 2026\n11am (AEST) Thursday 30 April 2026\n11am (AEST) Thursday 28 May 2026\n11am (AEST) Thursday 25 June 2026\n11am (AEST) Thursday 30 July 2026\n11am (AEST) Thursday 27 August 2026\n11am (AEST) Thursday 24 September 2026\n11am (AEDT) Thursday 29 October 2026\n11am (AEDT) Thursday 26 November 2026\n \n\nPlease download and import the following iCalendar (.ics) files to your calendar system.\nMonthly: https://us02web.zoom.us/meeting/tZAud-6tqzIoGNf-ekfqpiWBEHdAbuAa0G3b/ics?icsToken=DN5S8U6HvgmiIfnZeQAALAAAAN0_NDs1hJchwoY_zJTvmShIYBwfvHQ6cVVI1mr9JF731GvWHc8T-7wi3EH803NiEyODSEXX-QK5oMaaWTAwMDAwMQ&meetingMasterEventId=FY4VyCTcTh6FmDBdzDJrwg \nJoin Zoom Meeting\nhttps://us02web.zoom.us/j/84307559223 \nMeeting ID: 843 0755 9223\nPasscode: 517973 \nJoin instructions\nhttps://us02web.zoom.us/meetings/84307559223/invitations?signature=rozCoa22a48VMzpAjeAsb42g9UVJvKwL-kG9nWOezJU
URL:https://www.historyvictoria.org.au/event/cataloguing-clinics-2026-10-oct/
LOCATION:ZOOM\, Join from anywhere in the world
CATEGORIES:What's On
ORGANIZER;CN="Royal Historical Society of Victoria":MAILTO:office@historyvictoria.org.au
END:VEVENT
BEGIN:VEVENT
DTSTART;TZID=Australia/Melbourne:20261126T110000
DTEND;TZID=Australia/Melbourne:20261126T120000
DTSTAMP:20260420T222328
CREATED:20251030T014659Z
LAST-MODIFIED:20260325T050119Z
UID:10001094-1795690800-1795694400@www.historyvictoria.org.au
SUMMARY:Cataloguing Clinics 2026
DESCRIPTION:Join Jillian Hiscock\, the RHSV Collections Manager\, each month in this informative and easy-going Zoom forum on all aspects of cataloguing collections for historical societies. \nJillian has a different topic each month and is happy to be guided by those who attend as to what they would like covered in upcoming clinics. Bring your questions (no matter the topic) – this is an interactive space where questions are encouraged. The RHSV does not endorse any particular cataloguing software – we believe it is horses for courses – and Jillian will talk about issues that impact on cataloguing whether you are using cataloguing cards or software. \nThe one-hour clinics are free and the Zoom log-in below is used every month in 2026\, however\, we do ask you to register each month as this enables Jillian to send you extra material / links etc. after each session. \nSessions:\n11am (AEDT) Thursday 26 February 2026\n11am (AEDT) Thursday 26 March 2026\n11am (AEST) Thursday 30 April 2026\n11am (AEST) Thursday 28 May 2026\n11am (AEST) Thursday 25 June 2026\n11am (AEST) Thursday 30 July 2026\n11am (AEST) Thursday 27 August 2026\n11am (AEST) Thursday 24 September 2026\n11am (AEDT) Thursday 29 October 2026\n11am (AEDT) Thursday 26 November 2026\n \n\nPlease download and import the following iCalendar (.ics) files to your calendar system.\nMonthly: https://us02web.zoom.us/meeting/tZAud-6tqzIoGNf-ekfqpiWBEHdAbuAa0G3b/ics?icsToken=DN5S8U6HvgmiIfnZeQAALAAAAN0_NDs1hJchwoY_zJTvmShIYBwfvHQ6cVVI1mr9JF731GvWHc8T-7wi3EH803NiEyODSEXX-QK5oMaaWTAwMDAwMQ&meetingMasterEventId=FY4VyCTcTh6FmDBdzDJrwg \nJoin Zoom Meeting\nhttps://us02web.zoom.us/j/84307559223 \nMeeting ID: 843 0755 9223\nPasscode: 517973 \nJoin instructions\nhttps://us02web.zoom.us/meetings/84307559223/invitations?signature=rozCoa22a48VMzpAjeAsb42g9UVJvKwL-kG9nWOezJU
URL:https://www.historyvictoria.org.au/event/cataloguing-clinics-2026-11-nov/
LOCATION:ZOOM\, Join from anywhere in the world
CATEGORIES:What's On
ORGANIZER;CN="Royal Historical Society of Victoria":MAILTO:office@historyvictoria.org.au
END:VEVENT
END:VCALENDAR