BEGIN:VCALENDAR
VERSION:2.0
PRODID:-//Royal Historical Society of Victoria - ECPv6.15.12.2//NONSGML v1.0//EN
CALSCALE:GREGORIAN
METHOD:PUBLISH
X-WR-CALNAME:Royal Historical Society of Victoria
X-ORIGINAL-URL:https://www.historyvictoria.org.au
X-WR-CALDESC:Events for Royal Historical Society of Victoria
REFRESH-INTERVAL;VALUE=DURATION:PT1H
X-Robots-Tag:noindex
X-PUBLISHED-TTL:PT1H
BEGIN:VTIMEZONE
TZID:Australia/Melbourne
BEGIN:STANDARD
TZOFFSETFROM:+1100
TZOFFSETTO:+1000
TZNAME:AEST
DTSTART:20200404T160000
END:STANDARD
BEGIN:DAYLIGHT
TZOFFSETFROM:+1000
TZOFFSETTO:+1100
TZNAME:AEDT
DTSTART:20201003T160000
END:DAYLIGHT
BEGIN:STANDARD
TZOFFSETFROM:+1100
TZOFFSETTO:+1000
TZNAME:AEST
DTSTART:20210403T160000
END:STANDARD
BEGIN:DAYLIGHT
TZOFFSETFROM:+1000
TZOFFSETTO:+1100
TZNAME:AEDT
DTSTART:20211002T160000
END:DAYLIGHT
BEGIN:STANDARD
TZOFFSETFROM:+1100
TZOFFSETTO:+1000
TZNAME:AEST
DTSTART:20220402T160000
END:STANDARD
BEGIN:DAYLIGHT
TZOFFSETFROM:+1000
TZOFFSETTO:+1100
TZNAME:AEDT
DTSTART:20221001T160000
END:DAYLIGHT
BEGIN:STANDARD
TZOFFSETFROM:+1100
TZOFFSETTO:+1000
TZNAME:AEST
DTSTART:20230401T160000
END:STANDARD
BEGIN:DAYLIGHT
TZOFFSETFROM:+1000
TZOFFSETTO:+1100
TZNAME:AEDT
DTSTART:20230930T160000
END:DAYLIGHT
END:VTIMEZONE
BEGIN:VEVENT
DTSTART;TZID=Australia/Melbourne:20221106T100000
DTEND;TZID=Australia/Melbourne:20221106T160000
DTSTAMP:20260425T012656
CREATED:20221031T005019Z
LAST-MODIFIED:20221031T064952Z
UID:10000344-1667728800-1667750400@www.historyvictoria.org.au
SUMMARY:HISTORYFEST by Romsey & Lancefield Districts Historical Society
DESCRIPTION:Connecting Communities\nThe importance of writing local history and heritage\nRomsey & Lancefield Districts Historical Society will be holding its second annual HistoryFest in November 2022. \nThis event is aimed fairly and squarely at historical societies and their members so do come along and learn from others\, and share your knowledge and experience. \nEight Historical Societies in central Victoria are joining together for the day to talk about connecting their communities to the work they do. For decades historical societies have helped their local community\, and those more distant\, explore their family history and heritage. They also assist home buyers find out who lived in their house before them. The Royal Historical Society of Victoria will discuss the need for local historical societies\, their core work\, and how the RHSV can assist us. Two distinguished historians – Peter Yule and Richard Trembath – will talk about their experience writing local history and its importance to the history of Victoria. Peter and Richard are engaging speakers and have a great deal to offer our HistoryFest.\nAnd local historical societies will talk about their latest books and latest projects. These books will be available for sale during and at the end of the day while the audience enjoys music and exchanging ideas. Entry at $30 includes morning tea\, lunch and afternoon tea.\nVenue: The Annexe\, Lancefield Mechanics’ Institute\, corner The Crescent and High Street\, Lancefield \nTickets are $30 and can be pre-purchased here: History@Lancefield Connecting Communities HistoryFest Tickets\, Lancefield Mechancis’ Institute\, Lancefield | TryBooking Australia \nProgram \n10.30 am:         Opening of HistoryFest by Professor Dimity Reed and the Hon. Mary-Anne Thomas \n10.40 am:         The importance of writing local history and heritage: Historians Dr Peter Yule and Dr Richard Trembath \n11.30 am:          Morning Tea: 15 minutes \n11.45 am:          Meet your Local Historical Society – Presentations (1): \nRoyal Historical Society of Victoria – Dr Rosalie Triolo; Broadford Historical Society; Chewton Historical Society; Kilmore Historical Society; Friends of Kyneton Museum \n1.00 pm:            Lunch: 30 minutes \n1.30pm:             Meet your Local Historical Society – Presentations (2): \nMalmsbury Historical Society; Romsey & Lancefield Districts Historical Society; Wallan History Group; Woodend & District Heritage Society \n3.00 pm:           Dimity Reed concluding remarks \nRefreshments\, Drinks and Afternoon Tea\, book sales
URL:https://www.historyvictoria.org.au/event/historyfest-by-romsey-lancefield-districts-historical-society/
LOCATION:Lancefield Mechanics Institute\, High Street\, Lancefield\, VIC\, 3435\, Australia
CATEGORIES:Victorian History Events
ATTACH;FMTTYPE=image/jpeg:https://www.historyvictoria.org.au/wp-content/uploads/2022/10/History@lancefield.jpg
END:VEVENT
BEGIN:VEVENT
DTSTART;TZID=Australia/Melbourne:20220823T130000
DTEND;TZID=Australia/Melbourne:20220823T150000
DTSTAMP:20260425T012656
CREATED:20220811T080140Z
LAST-MODIFIED:20220811T080140Z
UID:10000793-1661259600-1661266800@www.historyvictoria.org.au
SUMMARY:Exploring Burke and Wills - Enigmas and Curiosities
DESCRIPTION:A talk by David Corke for Romsey & Lancefield Districts Historical Society\n \nOn 23 August 1860\, Burke & Wills and their party stayed overnight in Lancefield. \nOn 23 August 2022\, documentarian and historian of this journey\, David Corke\, will talk about his findings and his book\, Exploring Burke and Wills: Enigmas and Curiosities. \nThis book does not tell the story of the Burke and Wills Expedition; instead\, it explores several important issues in the very well-known saga —asking questions and probing some apparent enigmas\, curiosities\, and misunderstandings that have always been part of that tragedy.\nThis promises to be a fascinating afternoon about a much-discussed historical event\, and we are sure Members and Friends will enjoy it. \nCost of the event is $15.00 per person which includes refreshments. \nDavid Corke’s book will be on sale for $35.00. All enquiries to Beth Child on 0418 361 478. \nBook at Trybooking: https://www.trybooking.com/CBIPN
URL:https://www.historyvictoria.org.au/event/exploring-burke-and-wills-enigmas-and-curiosities/
LOCATION:Lancefield Mechancis’ Institute Annexe\, corner High Street and The Crescent\, Lancefield\, VIC\, 3435\, Australia
CATEGORIES:Victorian History Events
ATTACH;FMTTYPE=image/jpeg:https://www.historyvictoria.org.au/wp-content/uploads/2022/08/BW-Corke.jpg
END:VEVENT
BEGIN:VEVENT
DTSTART;TZID=Australia/Melbourne:20211128T140000
DTEND;TZID=Australia/Melbourne:20211128T160000
DTSTAMP:20260425T012656
CREATED:20211105T013052Z
LAST-MODIFIED:20211125T230557Z
UID:10000709-1638108000-1638115200@www.historyvictoria.org.au
SUMMARY:Seymour Cottage and World Heritage Nomination with Professor Miles Lewis
DESCRIPTION:Presented as part of Romsey and Lancefield Districts Historical Society’s Talking History series\, esteemed Melbourne architectural historian Professor Miles Lewis is coming to Romsey to discuss the 165 year old Seymour Cottage\, timber portables imported into Australia between 1840 and 1880 and the current World Heritage Nomination. \nHe will be joined by World Heritage Taskforce members Andrew Muir and Tony Isaacson. \nThe Society was recently awarded a Living Heritage Grant to investigate restoration requirements for Seymour Cottage. \nThis is a special event for Romsey and the entire region not to be missed by anyone with an interest in architecture and history. \n\nSunday 28 November 2021 2:00 PM – 4:00 PM\n\nTo Book – https://www.trybooking.com/events/landing?eid=803981&
URL:https://www.historyvictoria.org.au/event/talking-history-seymour-cottage-and-world-heritage-nomination-with-professor-miles-lewis/
LOCATION:Romsey Community Hub\, 96 Main Street\, Romsey\, VIC\, 3434\, Australia
CATEGORIES:Victorian History Events
ATTACH;FMTTYPE=image/jpeg:https://www.historyvictoria.org.au/wp-content/uploads/2021/08/Seymour-cottage-cover.jpg
END:VEVENT
BEGIN:VEVENT
DTSTART;TZID=Australia/Melbourne:20211114T120000
DTEND;TZID=Australia/Melbourne:20211114T160000
DTSTAMP:20260425T012656
CREATED:20211105T012012Z
LAST-MODIFIED:20211105T012228Z
UID:10000708-1636891200-1636905600@www.historyvictoria.org.au
SUMMARY:NOVEMBER HISTORY FEST
DESCRIPTION:Our first ‘HISTORY FEST’ will celebrate History Month. Enjoy talks and themed food: starting with Craig Sandy who will talk about Surveying through the ages. \nA short break and burgers and bangers will be served before Peter Sanders talks about his Burke & Wills expedition paintings. We can also taste wines from the Burke & Wills Winery. \nFinally\, we will launch our new book\, Discover Springfield by Brenda Sorragahn. A glass of champagne to celebrate her achievement! \nFor bookings\, please visit https://www.trybooking.com/BTZKV \nSunday 14th November 2021 \n12pm – 4pm \nLancefield Mechanics Institute Annex\nHigh St\, Lancefield \nFor more information – https://www.romseylancefieldhistorical.org.au/upcoming-events/november-history-fest
URL:https://www.historyvictoria.org.au/event/november-history-fest/
LOCATION:Lancefield Mechanics Institute\, High Street\, Lancefield\, VIC\, 3435\, Australia
CATEGORIES:Victorian History Events
END:VEVENT
END:VCALENDAR