BEGIN:VCALENDAR
VERSION:2.0
PRODID:-//Royal Historical Society of Victoria - ECPv6.15.12.2//NONSGML v1.0//EN
CALSCALE:GREGORIAN
METHOD:PUBLISH
X-WR-CALNAME:Royal Historical Society of Victoria
X-ORIGINAL-URL:https://www.historyvictoria.org.au
X-WR-CALDESC:Events for Royal Historical Society of Victoria
REFRESH-INTERVAL;VALUE=DURATION:PT1H
X-Robots-Tag:noindex
X-PUBLISHED-TTL:PT1H
BEGIN:VTIMEZONE
TZID:Australia/Melbourne
BEGIN:STANDARD
TZOFFSETFROM:+1100
TZOFFSETTO:+1000
TZNAME:AEST
DTSTART:20180331T160000
END:STANDARD
BEGIN:DAYLIGHT
TZOFFSETFROM:+1000
TZOFFSETTO:+1100
TZNAME:AEDT
DTSTART:20181006T160000
END:DAYLIGHT
BEGIN:STANDARD
TZOFFSETFROM:+1100
TZOFFSETTO:+1000
TZNAME:AEST
DTSTART:20190406T160000
END:STANDARD
BEGIN:DAYLIGHT
TZOFFSETFROM:+1000
TZOFFSETTO:+1100
TZNAME:AEDT
DTSTART:20191005T160000
END:DAYLIGHT
BEGIN:STANDARD
TZOFFSETFROM:+1100
TZOFFSETTO:+1000
TZNAME:AEST
DTSTART:20200404T160000
END:STANDARD
BEGIN:DAYLIGHT
TZOFFSETFROM:+1000
TZOFFSETTO:+1100
TZNAME:AEDT
DTSTART:20201003T160000
END:DAYLIGHT
END:VTIMEZONE
BEGIN:VEVENT
DTSTART;TZID=Australia/Melbourne:20190303T140000
DTEND;TZID=Australia/Melbourne:20190303T160000
DTSTAMP:20260424T060206
CREATED:20190210T231445Z
LAST-MODIFIED:20190210T231445Z
UID:10000301-1551621600-1551628800@www.historyvictoria.org.au
SUMMARY:What Makes A Good Historical Society
DESCRIPTION:The Sandringham Historical Society is holding its AGM on March 3 and Assoc Professor Don Garden OAM\, FFAHS\, FRHSV will be delivering a talk on What Makes A Good Historical Society. \nDon Garden is the President of the Royal Historical Society of Victoria\, immediate Past President of the Federation of Australian Historical Societies\, a member of the Australian Heritage Council and Vice President of the Kew Historical Society. For many years he taught History and Environmental History at the University of Melbourne\, where he is now an honorary Fellow\, Department of Resource Management & Geography\, Faculty of Science and Adjunct Associate Professor\, University of New England\, NSW.\nHis recent publications includes “Droughts\, floods and cyclones: El Ninos that shaped our colonial past”.\nAs well as Kew and Sandringham he is a member of Nepean\, Rye and Newstead historical societies.
URL:https://www.historyvictoria.org.au/event/what-makes-a-good-historical-society/
LOCATION:Hampton Community Centre\, 14 Willis St\, Hampton\, VIC\, 3188\, Australia
CATEGORIES:Victorian History Events
ORGANIZER;CN="Sandringham & District Historical Society":MAILTO:sandringhamhistorical@gmail.com
GEO:-37.9366752;145.0015043
X-APPLE-STRUCTURED-LOCATION;VALUE=URI;X-ADDRESS=Hampton Community Centre 14 Willis St Hampton VIC 3188 Australia;X-APPLE-RADIUS=500;X-TITLE=14 Willis St:geo:145.0015043,-37.9366752
END:VEVENT
END:VCALENDAR