BEGIN:VCALENDAR
VERSION:2.0
PRODID:-//Royal Historical Society of Victoria - ECPv6.15.12.2//NONSGML v1.0//EN
CALSCALE:GREGORIAN
METHOD:PUBLISH
X-WR-CALNAME:Royal Historical Society of Victoria
X-ORIGINAL-URL:https://www.historyvictoria.org.au
X-WR-CALDESC:Events for Royal Historical Society of Victoria
REFRESH-INTERVAL;VALUE=DURATION:PT1H
X-Robots-Tag:noindex
X-PUBLISHED-TTL:PT1H
BEGIN:VTIMEZONE
TZID:Australia/Melbourne
BEGIN:STANDARD
TZOFFSETFROM:+1100
TZOFFSETTO:+1000
TZNAME:AEST
DTSTART:20230401T160000
END:STANDARD
BEGIN:DAYLIGHT
TZOFFSETFROM:+1000
TZOFFSETTO:+1100
TZNAME:AEDT
DTSTART:20230930T160000
END:DAYLIGHT
BEGIN:STANDARD
TZOFFSETFROM:+1100
TZOFFSETTO:+1000
TZNAME:AEST
DTSTART:20240406T160000
END:STANDARD
BEGIN:DAYLIGHT
TZOFFSETFROM:+1000
TZOFFSETTO:+1100
TZNAME:AEDT
DTSTART:20241005T160000
END:DAYLIGHT
BEGIN:STANDARD
TZOFFSETFROM:+1100
TZOFFSETTO:+1000
TZNAME:AEST
DTSTART:20250405T160000
END:STANDARD
BEGIN:DAYLIGHT
TZOFFSETFROM:+1000
TZOFFSETTO:+1100
TZNAME:AEDT
DTSTART:20251004T160000
END:DAYLIGHT
END:VTIMEZONE
BEGIN:VEVENT
DTSTART;TZID=Australia/Melbourne:20240518T090000
DTEND;TZID=Australia/Melbourne:20240518T160000
DTSTAMP:20260421T104459
CREATED:20240422T044214Z
LAST-MODIFIED:20240422T044214Z
UID:10000985-1716022800-1716048000@www.historyvictoria.org.au
SUMMARY:Open Day: Broadmeadows Historical Society
DESCRIPTION:As part of the Australian Heritage Festival\, the Broadmeadows Historical Society are having an Open Day! \nThe Broadmeadows Historical Museum is reopening after extensive redesign of displays\, to become more Broadmeadows and district centric. Enjoy our clean more open display with designated research facilities.  Click here for more info. \nWhere: Broadmeadows Museum\, 21 Pearcedale Parade\, Broadmeadows\, Victoria -The museum is located behind the Youth Central building.\nWhen: 18th May 2024\nTime: 9:00am-4:00pm\nEntry Fee: By donation\nBHS website:http://home.vicnet.net.au/~broadhs \nAs Broadmeadows Historical Society undergoes an exciting revitalization\, they’re looking for enthusiastic volunteers from the local community to be a part of this transformative journey. Whether you have a passion for preserving the past\, love sharing stories\, or simply want to make a difference in your community\, this is the perfect opportunity for you. Sign up today to be a volunteer and become part of history! \nPlease contact BHS for all enquires: secretarybroadmeadowshs@outlook.com
URL:https://www.historyvictoria.org.au/event/open-day-broadmeadows-historical-society/
LOCATION:Broadmeadows Museum\, 21 Pearcedale Parade\, Broadmeadows\, VIC\, Australia
CATEGORIES:Victorian History Events
ATTACH;FMTTYPE=image/jpeg:https://www.historyvictoria.org.au/wp-content/uploads/2024/04/broadmeadows-open-day.jpg
END:VEVENT
END:VCALENDAR