BEGIN:VCALENDAR
VERSION:2.0
PRODID:-//Royal Historical Society of Victoria - ECPv6.15.12.2//NONSGML v1.0//EN
CALSCALE:GREGORIAN
METHOD:PUBLISH
X-WR-CALNAME:Royal Historical Society of Victoria
X-ORIGINAL-URL:https://www.historyvictoria.org.au
X-WR-CALDESC:Events for Royal Historical Society of Victoria
REFRESH-INTERVAL;VALUE=DURATION:PT1H
X-Robots-Tag:noindex
X-PUBLISHED-TTL:PT1H
BEGIN:VTIMEZONE
TZID:Australia/Melbourne
BEGIN:STANDARD
TZOFFSETFROM:+1100
TZOFFSETTO:+1000
TZNAME:AEST
DTSTART:20180331T160000
END:STANDARD
BEGIN:DAYLIGHT
TZOFFSETFROM:+1000
TZOFFSETTO:+1100
TZNAME:AEDT
DTSTART:20181006T160000
END:DAYLIGHT
BEGIN:STANDARD
TZOFFSETFROM:+1100
TZOFFSETTO:+1000
TZNAME:AEST
DTSTART:20190406T160000
END:STANDARD
BEGIN:DAYLIGHT
TZOFFSETFROM:+1000
TZOFFSETTO:+1100
TZNAME:AEDT
DTSTART:20191005T160000
END:DAYLIGHT
BEGIN:STANDARD
TZOFFSETFROM:+1100
TZOFFSETTO:+1000
TZNAME:AEST
DTSTART:20200404T160000
END:STANDARD
BEGIN:DAYLIGHT
TZOFFSETFROM:+1000
TZOFFSETTO:+1100
TZNAME:AEDT
DTSTART:20201003T160000
END:DAYLIGHT
END:VTIMEZONE
BEGIN:VEVENT
DTSTART;VALUE=DATE:20191020
DTEND;VALUE=DATE:20191021
DTSTAMP:20260421T161529
CREATED:20190801T015146Z
LAST-MODIFIED:20190801T015146Z
UID:10000030-1571529600-1571615999@www.historyvictoria.org.au
SUMMARY:Historic Houses Tour
DESCRIPTION:Two historic houses in Castlemaine will be open to the public to raise funds for the Castlemaine Historical Society.
URL:https://www.historyvictoria.org.au/event/historic-houses-tour/
LOCATION:Castlemaine Town\, Two venues\, Castlemaine\, VIC\, 3450\, Australia
CATEGORIES:Victorian History Events
ORGANIZER;CN="Castlemaine Historical Society":MAILTO:chsi@castlemainehistoricalsociety.com
GEO:-37.07331;144.1961761
X-APPLE-STRUCTURED-LOCATION;VALUE=URI;X-ADDRESS=Castlemaine Town Two venues Castlemaine VIC 3450 Australia;X-APPLE-RADIUS=500;X-TITLE=Two venues:geo:144.1961761,-37.07331
END:VEVENT
END:VCALENDAR