BEGIN:VCALENDAR
VERSION:2.0
PRODID:-//Royal Historical Society of Victoria - ECPv6.15.12.2//NONSGML v1.0//EN
CALSCALE:GREGORIAN
METHOD:PUBLISH
X-WR-CALNAME:Royal Historical Society of Victoria
X-ORIGINAL-URL:https://www.historyvictoria.org.au
X-WR-CALDESC:Events for Royal Historical Society of Victoria
REFRESH-INTERVAL;VALUE=DURATION:PT1H
X-Robots-Tag:noindex
X-PUBLISHED-TTL:PT1H
BEGIN:VTIMEZONE
TZID:Australia/Melbourne
BEGIN:STANDARD
TZOFFSETFROM:+1100
TZOFFSETTO:+1000
TZNAME:AEST
DTSTART:20180331T160000
END:STANDARD
BEGIN:DAYLIGHT
TZOFFSETFROM:+1000
TZOFFSETTO:+1100
TZNAME:AEDT
DTSTART:20181006T160000
END:DAYLIGHT
BEGIN:STANDARD
TZOFFSETFROM:+1100
TZOFFSETTO:+1000
TZNAME:AEST
DTSTART:20190406T160000
END:STANDARD
BEGIN:DAYLIGHT
TZOFFSETFROM:+1000
TZOFFSETTO:+1100
TZNAME:AEDT
DTSTART:20191005T160000
END:DAYLIGHT
BEGIN:STANDARD
TZOFFSETFROM:+1100
TZOFFSETTO:+1000
TZNAME:AEST
DTSTART:20200404T160000
END:STANDARD
BEGIN:DAYLIGHT
TZOFFSETFROM:+1000
TZOFFSETTO:+1100
TZNAME:AEDT
DTSTART:20201003T160000
END:DAYLIGHT
END:VTIMEZONE
BEGIN:VEVENT
DTSTART;TZID=Australia/Melbourne:20191027T140000
DTEND;TZID=Australia/Melbourne:20191027T163000
DTSTAMP:20260421T033659
CREATED:20191005T022213Z
LAST-MODIFIED:20191005T022213Z
UID:10000460-1572184800-1572193800@www.historyvictoria.org.au
SUMMARY:Tour – The Streets Where We Live – Cheltenham Pioneer Cemetery
DESCRIPTION:Have you ever wondered where our street names come from? Many are named after local settlers and dignitaries who are buried at the Cheltenham Pioneer historic cemetery. Some of the streets we will look at – Crawford\, Barrett\, Charles\, Edward and Booker Streets Cheltenham; Comport\, Beaumaris; Cullinane\, Black Rock; Kingston Road\, Moorabbin; Tootal Road Dingley; Bloxsidge Mordialloc; Watkins Aspendale; Mundy Mentone and the proposed new suburb of Pennydale. This new tour is part of our ongoing quest to document the life stories of our early settlers. Perhaps one of these is your ancestor or you live near one of these streets!
URL:https://www.historyvictoria.org.au/event/tour-the-streets-where-we-live-cheltenham-pioneer-cemetery/
LOCATION:Cheltenham Pioneer Cemetery\, Charman Road\, Cheltenham\, Victoria\, 3192\, Australia
CATEGORIES:Victorian History Events
ATTACH;FMTTYPE=image/jpeg:https://www.historyvictoria.org.au/wp-content/uploads/2019/10/Cheltenham-sign-400-.jpg
ORGANIZER;CN="Friends of Cheltenham Cemeteries":MAILTO:info@focrc.org
END:VEVENT
END:VCALENDAR