BEGIN:VCALENDAR
VERSION:2.0
PRODID:-//Royal Historical Society of Victoria - ECPv6.15.12.2//NONSGML v1.0//EN
CALSCALE:GREGORIAN
METHOD:PUBLISH
X-ORIGINAL-URL:https://www.historyvictoria.org.au
X-WR-CALDESC:Events for Royal Historical Society of Victoria
REFRESH-INTERVAL;VALUE=DURATION:PT1H
X-Robots-Tag:noindex
X-PUBLISHED-TTL:PT1H
BEGIN:VTIMEZONE
TZID:Australia/Melbourne
BEGIN:STANDARD
TZOFFSETFROM:+1100
TZOFFSETTO:+1000
TZNAME:AEST
DTSTART:20220402T160000
END:STANDARD
BEGIN:DAYLIGHT
TZOFFSETFROM:+1000
TZOFFSETTO:+1100
TZNAME:AEDT
DTSTART:20221001T160000
END:DAYLIGHT
BEGIN:STANDARD
TZOFFSETFROM:+1100
TZOFFSETTO:+1000
TZNAME:AEST
DTSTART:20230401T160000
END:STANDARD
BEGIN:DAYLIGHT
TZOFFSETFROM:+1000
TZOFFSETTO:+1100
TZNAME:AEDT
DTSTART:20230930T160000
END:DAYLIGHT
BEGIN:STANDARD
TZOFFSETFROM:+1100
TZOFFSETTO:+1000
TZNAME:AEST
DTSTART:20240406T160000
END:STANDARD
BEGIN:DAYLIGHT
TZOFFSETFROM:+1000
TZOFFSETTO:+1100
TZNAME:AEDT
DTSTART:20241005T160000
END:DAYLIGHT
BEGIN:STANDARD
TZOFFSETFROM:+1100
TZOFFSETTO:+1000
TZNAME:AEST
DTSTART:20250405T160000
END:STANDARD
BEGIN:DAYLIGHT
TZOFFSETFROM:+1000
TZOFFSETTO:+1100
TZNAME:AEDT
DTSTART:20251004T160000
END:DAYLIGHT
END:VTIMEZONE
BEGIN:VEVENT
DTSTART;TZID=Australia/Melbourne:20240818T110000
DTEND;TZID=Australia/Melbourne:20240818T153000
DTSTAMP:20260421T202936
CREATED:20240722T052123Z
LAST-MODIFIED:20240722T052123Z
UID:10001011-1723978800-1723995000@www.historyvictoria.org.au
SUMMARY:CAFHOV Chinese Family History Day 2024
DESCRIPTION:MORE THAN GOLD – An event hosted by the Chinese Australian Family Historians of Victoria (CAFHOV)\, supported by the Museum of Chinese Australian History. \nMost people are familiar with the Chinese migration to Victoria in the pursuit of gold in the 1850s\, but also many Chinese businesses were established during this period in support of the growing population. \nCome along to this event to learn about the diverse occupations and businesses that the Chinese maintained and the impact they had on the future of the community. \nGUEST SPEAKERS:\nChinese migration to Australia – Dr Sophie Couchman\, Historian and Curator\nChinese restaurants of Melbourne – Dr Barbara Nichol\, Historian\nThe history of the David Wang Emporium – Mark Wang\, CEO Chinese Museum \nCAFHOV member presentations: \nChinatown/Bendigo merchant – Anna Wolf \nChinese interpreter – Mark Hillyer \nChinatown Church minister – Derek Leong \nQueen Victoria market stallholder/grocer – Linda Wong\nCreswick Butcher and storekeeper – Ian Young \nCost: Normal Chinese Museum entry.\nPayable on the day of event at the Museum venue.\nAdult $12.50\, Concession/Children 5 years and over $10.50\n*Entry provides access to the event including all Museum exhibits/galleries. \nBookings via Trybooking.com/CTLDV
URL:https://www.historyvictoria.org.au/event/cafhov-chinese-family-history-day-2024/
LOCATION:Chinese Museum\, 22 Cohen Place\, Melbourne\, VIC\, 3000\, Australia
CATEGORIES:Victorian History Events
ATTACH;FMTTYPE=image/png:https://www.historyvictoria.org.au/wp-content/uploads/2024/07/CAFHOV-Family-History-Day-2024.png
ORGANIZER;CN="Chinese Australian Family Historians of Victoria":MAILTO:cafhov.secretary@gmail.com
END:VEVENT
BEGIN:VEVENT
DTSTART;TZID=Australia/Melbourne:20230122T133000
DTEND;TZID=Australia/Melbourne:20230122T180000
DTSTAMP:20260421T202936
CREATED:20221221T052713Z
LAST-MODIFIED:20221221T052836Z
UID:10000850-1674394200-1674410400@www.historyvictoria.org.au
SUMMARY:CHINESE MUSEUM: CHINESE LUNAR NEW YEAR PROGRAM
DESCRIPTION:In 2023\, the Chinese Museum gets off to a BANG! with their biggest ever Chinese Lunar New Year program! \nOn Friday 20th January\, they open our Lucky Rabbit Exhibition\, which reveals our traits and fortunes predicted by the 2023 Chinese Horoscope. On Sunday 22nd Jan\, Chinese Lunar New Year Day\, there will be discounted entry to the Chinese Museum as part of the day’s street festival celebrations with includes the famous Millenium Dragon Parade. \nThrough Time and Space\, opens simultaneously at the Chinese Museum and in Beijing showing the works of Chinese students during the pandemic. Screen Presence 23 will explore the portrayal of Chinese in the Australian film industry. Our CNY celebration continues with House of the Heart\, a series of cabaret performances staring a cornucopia of singers\, dancers\, and storytellers in a work that swirls across language and culture to explore home. \nChinese Museum Discounted Entry (Ticketed Event)\n22 Cohen Place\, Melbourne\, VIC \n1.30pm-6pm (last entry 5pm). \n$5 per ticket. Children 12yrs and under free of charge. \nRead more and book here
URL:https://www.historyvictoria.org.au/event/chinese-museum-chinese-lunar-new-year-program/
LOCATION:Chinese Museum\, 22 Cohen Place\, Melbourne\, VIC\, 3000\, Australia
CATEGORIES:Victorian History Events
ATTACH;FMTTYPE=image/jpeg:https://www.historyvictoria.org.au/wp-content/uploads/2022/12/Chinese-Museum.jpeg
ORGANIZER;CN="Museum of Chinese Australian History":MAILTO:info@chinesemuseum.com.au
END:VEVENT
END:VCALENDAR