BEGIN:VCALENDAR
VERSION:2.0
PRODID:-//Royal Historical Society of Victoria - ECPv6.15.12.2//NONSGML v1.0//EN
CALSCALE:GREGORIAN
METHOD:PUBLISH
X-WR-CALNAME:Royal Historical Society of Victoria
X-ORIGINAL-URL:https://www.historyvictoria.org.au
X-WR-CALDESC:Events for Royal Historical Society of Victoria
REFRESH-INTERVAL;VALUE=DURATION:PT1H
X-Robots-Tag:noindex
X-PUBLISHED-TTL:PT1H
BEGIN:VTIMEZONE
TZID:Australia/Melbourne
BEGIN:STANDARD
TZOFFSETFROM:+1100
TZOFFSETTO:+1000
TZNAME:AEST
DTSTART:20180331T160000
END:STANDARD
BEGIN:DAYLIGHT
TZOFFSETFROM:+1000
TZOFFSETTO:+1100
TZNAME:AEDT
DTSTART:20181006T160000
END:DAYLIGHT
BEGIN:STANDARD
TZOFFSETFROM:+1100
TZOFFSETTO:+1000
TZNAME:AEST
DTSTART:20190406T160000
END:STANDARD
BEGIN:DAYLIGHT
TZOFFSETFROM:+1000
TZOFFSETTO:+1100
TZNAME:AEDT
DTSTART:20191005T160000
END:DAYLIGHT
BEGIN:STANDARD
TZOFFSETFROM:+1100
TZOFFSETTO:+1000
TZNAME:AEST
DTSTART:20200404T160000
END:STANDARD
BEGIN:DAYLIGHT
TZOFFSETFROM:+1000
TZOFFSETTO:+1100
TZNAME:AEDT
DTSTART:20201003T160000
END:DAYLIGHT
END:VTIMEZONE
BEGIN:VEVENT
DTSTART;TZID=Australia/Melbourne:20191128T163000
DTEND;TZID=Australia/Melbourne:20191128T183000
DTSTAMP:20260420T204356
CREATED:20191018T033514Z
LAST-MODIFIED:20191018T033618Z
UID:10000470-1574958600-1574965800@www.historyvictoria.org.au
SUMMARY:Explorations Series - Living with the Hume Dam\, 1919-2019
DESCRIPTION:In 1919 work began on Hume Dam with celebration and acclaim. When it was completed in 1936 it was hailed as an engineering and political achievement\, indeed\, a nation-building project. \nHow do we understand its history and legacy now in 2019? \nJoin river system and dam managers\, environmentalists\, historians\, photographers and musicians as they share stories and reflect on the centenary of Hume Dam. We have challenged them to excite us and even try to persuade us to their view in a series of quick-fire ‘show and tell’ presentations. \n\nWhat have been the opportunities and the challenges that came with Hume Dam?\nWhat have been the social\, economic and environmental impacts of Hume Dam?\nWhat stories does Hume Dam reveal or obscure?\nHow might the people of Albury-Wodonga and the people of Australia\, reflect on their connections with Hume Dam\, the lake\, and the regulated river?\nWhat do representations of Hume Dam and its surrounds reveal about past and present day mind-sets\n\nThis event is organised by Charles Sturt University working in conjunction with La Trobe University and Albury & District Historical Society. This is a Two Cities One Community initiative held with the support of the Murray Darling Basin Authority. \nLight refreshments will be provided concluding the event. \nFREE EVENT \nBookings: https://about.csu.edu.au/community/events/upcoming/albury-wodonga/explorations-series-living-with-the-hume-dam-1919-2019
URL:https://www.historyvictoria.org.au/event/explorations-series-living-with-the-hume-dam-1919-2019/
LOCATION:Commerical Club\, 618 Dean Street\, Albury\, NSW\, 2640\, Australia
CATEGORIES:Victorian History Events
ATTACH;FMTTYPE=image/jpeg:https://www.historyvictoria.org.au/wp-content/uploads/2019/10/hume-dam-at-dusk.jpg
ORGANIZER;CN="Charles Sturt University":MAILTO:engagealburywodonga@csu.edu.au
END:VEVENT
END:VCALENDAR