BEGIN:VCALENDAR
VERSION:2.0
PRODID:-//Royal Historical Society of Victoria - ECPv6.15.12.2//NONSGML v1.0//EN
CALSCALE:GREGORIAN
METHOD:PUBLISH
X-WR-CALNAME:Royal Historical Society of Victoria
X-ORIGINAL-URL:https://www.historyvictoria.org.au
X-WR-CALDESC:Events for Royal Historical Society of Victoria
REFRESH-INTERVAL;VALUE=DURATION:PT1H
X-Robots-Tag:noindex
X-PUBLISHED-TTL:PT1H
BEGIN:VTIMEZONE
TZID:Australia/Melbourne
BEGIN:STANDARD
TZOFFSETFROM:+1100
TZOFFSETTO:+1000
TZNAME:AEST
DTSTART:20210403T160000
END:STANDARD
BEGIN:DAYLIGHT
TZOFFSETFROM:+1000
TZOFFSETTO:+1100
TZNAME:AEDT
DTSTART:20211002T160000
END:DAYLIGHT
BEGIN:STANDARD
TZOFFSETFROM:+1100
TZOFFSETTO:+1000
TZNAME:AEST
DTSTART:20220402T160000
END:STANDARD
BEGIN:DAYLIGHT
TZOFFSETFROM:+1000
TZOFFSETTO:+1100
TZNAME:AEDT
DTSTART:20221001T160000
END:DAYLIGHT
BEGIN:STANDARD
TZOFFSETFROM:+1100
TZOFFSETTO:+1000
TZNAME:AEST
DTSTART:20230401T160000
END:STANDARD
BEGIN:DAYLIGHT
TZOFFSETFROM:+1000
TZOFFSETTO:+1100
TZNAME:AEDT
DTSTART:20230930T160000
END:DAYLIGHT
END:VTIMEZONE
BEGIN:VEVENT
DTSTART;TZID=Australia/Melbourne:20221005T100000
DTEND;TZID=Australia/Melbourne:20221005T120000
DTSTAMP:20260423T194246
CREATED:20220928T004511Z
LAST-MODIFIED:20220929T222534Z
UID:10000807-1664964000-1664971200@www.historyvictoria.org.au
SUMMARY:Women in Eltham Cemetery Tour
DESCRIPTION:Stories connect us to our local heritage. \nNestled on high ground\, once overlooking the village of Eltham\, we will tour part of the cemetery and recognise the contributions of some local women to the Eltham district community and share stories of women now interred in these grounds. \nFrom pioneer women to the first woman in Eltham to attend University\, the silent film actress\, and the community-spirited politician. From the Post Mistress to the World War One nurse. \nBookings are essential and places are limited. \nThis event is being hosted by Yarra Plenty Regional Library  in partnership with Eltham District Historical Society and Eltham Cemetery Trust. \nEltham Cemetery\, 40 Mt Pleasant Road\, Eltham.  Access car park via Metery Road.
URL:https://www.historyvictoria.org.au/event/women-in-eltham-cemetery-tour/
LOCATION:Eltham Cemetery\, Metery Road\, Eltham\, VIC\, 3095\, Australia
CATEGORIES:Victorian History Events
ATTACH;FMTTYPE=image/png:https://www.historyvictoria.org.au/wp-content/uploads/2022/09/Women-in-Eltham-Cemetery-Tour.png
ORGANIZER;CN="Yarra Plenty Regional Library":MAILTO:LPidgeon@yprl.vic.gov.au
END:VEVENT
BEGIN:VEVENT
DTSTART;TZID=Australia/Melbourne:20220305T140000
DTEND;TZID=Australia/Melbourne:20220305T153000
DTSTAMP:20260423T194246
CREATED:20220208T040900Z
LAST-MODIFIED:20220208T041137Z
UID:10000716-1646488800-1646494200@www.historyvictoria.org.au
SUMMARY:Heritage Excursion - Eltham Cemetery
DESCRIPTION:Stories connect us to our local heritage. March is Women’s History Month. During our first excursion of the year\, we will recognise the contributions of some local women to our community. Nestled on high ground\, once overlooking the village of Eltham we will tour the Eltham Cemetery and share stories of women now interred in these grounds. From pioneer women to the first woman in Eltham to attend University. From the silent film actress to the community spirited politician. From the post mistress to the World War One nurse. \nThis free excursion is open to the general public as well as members and friends of the Society. Dogs are not permitted. Enter the car park from Metery Road\, Eltham\, follow signs for parking\nand note this walk is on uneven ground in places. Please meet at the rotunda near the lake\, for 2.00 pm start on Saturday 5 March 2022\, 2.00pm – 3.30pm. Bookings are not necessary and\nany COVID requirements will be in place. \nThe Eltham District Historical Society appreciates the support we receive from the Eltham Cemetery Trust\, including being able to undertake our heritage excursions within the well\nmaintained\, attractive grounds of their cemetery.
URL:https://www.historyvictoria.org.au/event/heritage-excursion-eltham-cemetery/
LOCATION:Eltham Cemetery\, Metery Road\, Eltham\, VIC\, 3095\, Australia
CATEGORIES:Victorian History Events
ATTACH;FMTTYPE=image/jpeg:https://www.historyvictoria.org.au/wp-content/uploads/2022/02/WHM_logo_RHSV_fin_RGB.jpg
ORGANIZER;CN="Eltham District Historical Society":MAILTO:edhsoffice@gmail.com
END:VEVENT
END:VCALENDAR