BEGIN:VCALENDAR
VERSION:2.0
PRODID:-//Royal Historical Society of Victoria - ECPv6.15.12.2//NONSGML v1.0//EN
CALSCALE:GREGORIAN
METHOD:PUBLISH
X-WR-CALNAME:Royal Historical Society of Victoria
X-ORIGINAL-URL:https://www.historyvictoria.org.au
X-WR-CALDESC:Events for Royal Historical Society of Victoria
REFRESH-INTERVAL;VALUE=DURATION:PT1H
X-Robots-Tag:noindex
X-PUBLISHED-TTL:PT1H
BEGIN:VTIMEZONE
TZID:Australia/Melbourne
BEGIN:STANDARD
TZOFFSETFROM:+1100
TZOFFSETTO:+1000
TZNAME:AEST
DTSTART:20180331T160000
END:STANDARD
BEGIN:DAYLIGHT
TZOFFSETFROM:+1000
TZOFFSETTO:+1100
TZNAME:AEDT
DTSTART:20181006T160000
END:DAYLIGHT
BEGIN:STANDARD
TZOFFSETFROM:+1100
TZOFFSETTO:+1000
TZNAME:AEST
DTSTART:20190406T160000
END:STANDARD
BEGIN:DAYLIGHT
TZOFFSETFROM:+1000
TZOFFSETTO:+1100
TZNAME:AEDT
DTSTART:20191005T160000
END:DAYLIGHT
BEGIN:STANDARD
TZOFFSETFROM:+1100
TZOFFSETTO:+1000
TZNAME:AEST
DTSTART:20200404T160000
END:STANDARD
BEGIN:DAYLIGHT
TZOFFSETFROM:+1000
TZOFFSETTO:+1100
TZNAME:AEDT
DTSTART:20201003T160000
END:DAYLIGHT
END:VTIMEZONE
BEGIN:VEVENT
DTSTART;TZID=Australia/Melbourne:20190831T100000
DTEND;TZID=Australia/Melbourne:20190831T120000
DTSTAMP:20260422T012623
CREATED:20190716T024456Z
LAST-MODIFIED:20190722T122221Z
UID:10000029-1567245600-1567252800@www.historyvictoria.org.au
SUMMARY:JOSEPH PANTON\, Police Magistrate\, Goldfields Commissioner and Artist
DESCRIPTION:FRIENDS OF ST KILDA CEMETERY AGM AND TALK\nCome and join us at the Friends of St  Kilda Cemetery AGM and hear Susan Grant speak on Joseph Panton\, Police Magistrate\, Goldfields Commissioner and artist.\nSusan Grant is a committee  member of the Flinders District Historical Society and the Port Phillip Pioneer Group.  Her fascination with Panton started with her interest in his land holdings in Flinders.  Panton was a goldfields commissioner\, police magistrate\, geologist\, winemaker\, explorer\, land speculator\, pastoralist\, and artist.  He is buried in the St Kilda Cemetery. \nTHIS IS A FREE EVENT WITH MORNING TEA.\n10.00AM-12 NOON SATURDAY 31 AUGUST 2019 AT EMERALD HILL LIBRARY AND HERITAGE CENTRE\, 195 BANK STREET\, SOUTH MELBOURNE.\nBOOKINGS: email info@foskc.org or tel 0422379053
URL:https://www.historyvictoria.org.au/event/joseph-panton-police-magistrate-goldfields-commissioner-and-artist/
LOCATION:Emerald Hill Library and Heritage Centre\, 195 Bank Street\, SOUTH MELBOURNE\, VICTORIA\, Australia
CATEGORIES:Victorian History Events
ORGANIZER;CN="Friends of St Kilda Cemetery":MAILTO:info@foskc.org
GEO:-37.834698;144.9603427
X-APPLE-STRUCTURED-LOCATION;VALUE=URI;X-ADDRESS=Emerald Hill Library and Heritage Centre 195 Bank Street SOUTH MELBOURNE VICTORIA Australia;X-APPLE-RADIUS=500;X-TITLE=195 Bank Street:geo:144.9603427,-37.834698
END:VEVENT
END:VCALENDAR