BEGIN:VCALENDAR
VERSION:2.0
PRODID:-//Royal Historical Society of Victoria - ECPv6.15.12.2//NONSGML v1.0//EN
CALSCALE:GREGORIAN
METHOD:PUBLISH
X-WR-CALNAME:Royal Historical Society of Victoria
X-ORIGINAL-URL:https://www.historyvictoria.org.au
X-WR-CALDESC:Events for Royal Historical Society of Victoria
REFRESH-INTERVAL;VALUE=DURATION:PT1H
X-Robots-Tag:noindex
X-PUBLISHED-TTL:PT1H
BEGIN:VTIMEZONE
TZID:Australia/Melbourne
BEGIN:STANDARD
TZOFFSETFROM:+1100
TZOFFSETTO:+1000
TZNAME:AEST
DTSTART:20180331T160000
END:STANDARD
BEGIN:DAYLIGHT
TZOFFSETFROM:+1000
TZOFFSETTO:+1100
TZNAME:AEDT
DTSTART:20181006T160000
END:DAYLIGHT
BEGIN:STANDARD
TZOFFSETFROM:+1100
TZOFFSETTO:+1000
TZNAME:AEST
DTSTART:20190406T160000
END:STANDARD
BEGIN:DAYLIGHT
TZOFFSETFROM:+1000
TZOFFSETTO:+1100
TZNAME:AEDT
DTSTART:20191005T160000
END:DAYLIGHT
BEGIN:STANDARD
TZOFFSETFROM:+1100
TZOFFSETTO:+1000
TZNAME:AEST
DTSTART:20200404T160000
END:STANDARD
BEGIN:DAYLIGHT
TZOFFSETFROM:+1000
TZOFFSETTO:+1100
TZNAME:AEDT
DTSTART:20201003T160000
END:DAYLIGHT
END:VTIMEZONE
BEGIN:VEVENT
DTSTART;TZID=Australia/Melbourne:20190622T110000
DTEND;TZID=Australia/Melbourne:20190622T114000
DTSTAMP:20260420T223643
CREATED:20190524T033619Z
LAST-MODIFIED:20190524T033619Z
UID:10000338-1561201200-1561203600@www.historyvictoria.org.au
SUMMARY:Adam Lindsay Gordon Annual Statue Gathering
DESCRIPTION:We meet at the Cafe Excello\, 99 Spring Street Melbourne at 10:30am and cross\nto the statue of Adam Lindsay Gordon at 11:00am for Speeces\, Readings\, Wattle Laying and the Blowing of Bubbles.\n“Life is mostly froth and bubble”
URL:https://www.historyvictoria.org.au/event/adam-lindsay-gordon-annual-statue-gathering/
LOCATION:GORDON RESERVE SPRING STREET MELBOURNE\, Opp. 99 Spring Street\, Melbourne\, Victoria\, 3000\, Australia
CATEGORIES:Victorian History Events
ATTACH;FMTTYPE=image/jpeg:https://www.historyvictoria.org.au/wp-content/uploads/2019/05/alg-gathering-june-2019.jpg
ORGANIZER;CN="Adam Lindsay Gordon Commemorative Committee Inc.":MAILTO:adamlindsaygordon@gmail.com
GEO:-37.8125281;144.9733347
X-APPLE-STRUCTURED-LOCATION;VALUE=URI;X-ADDRESS=GORDON RESERVE SPRING STREET MELBOURNE Opp. 99 Spring Street Melbourne Victoria 3000 Australia;X-APPLE-RADIUS=500;X-TITLE=Opp. 99 Spring Street:geo:144.9733347,-37.8125281
END:VEVENT
END:VCALENDAR