BEGIN:VCALENDAR
VERSION:2.0
PRODID:-//Royal Historical Society of Victoria - ECPv6.15.12.2//NONSGML v1.0//EN
CALSCALE:GREGORIAN
METHOD:PUBLISH
X-WR-CALNAME:Royal Historical Society of Victoria
X-ORIGINAL-URL:https://www.historyvictoria.org.au
X-WR-CALDESC:Events for Royal Historical Society of Victoria
REFRESH-INTERVAL;VALUE=DURATION:PT1H
X-Robots-Tag:noindex
X-PUBLISHED-TTL:PT1H
BEGIN:VTIMEZONE
TZID:Australia/Melbourne
BEGIN:STANDARD
TZOFFSETFROM:+1100
TZOFFSETTO:+1000
TZNAME:AEST
DTSTART:20230401T160000
END:STANDARD
BEGIN:DAYLIGHT
TZOFFSETFROM:+1000
TZOFFSETTO:+1100
TZNAME:AEDT
DTSTART:20230930T160000
END:DAYLIGHT
BEGIN:STANDARD
TZOFFSETFROM:+1100
TZOFFSETTO:+1000
TZNAME:AEST
DTSTART:20240406T160000
END:STANDARD
BEGIN:DAYLIGHT
TZOFFSETFROM:+1000
TZOFFSETTO:+1100
TZNAME:AEDT
DTSTART:20241005T160000
END:DAYLIGHT
BEGIN:STANDARD
TZOFFSETFROM:+1100
TZOFFSETTO:+1000
TZNAME:AEST
DTSTART:20250405T160000
END:STANDARD
BEGIN:DAYLIGHT
TZOFFSETFROM:+1000
TZOFFSETTO:+1100
TZNAME:AEDT
DTSTART:20251004T160000
END:DAYLIGHT
END:VTIMEZONE
BEGIN:VEVENT
DTSTART;TZID=Australia/Melbourne:20240720T110000
DTEND;TZID=Australia/Melbourne:20240720T120000
DTSTAMP:20260421T022151
CREATED:20240423T231357Z
LAST-MODIFIED:20240423T231357Z
UID:10000989-1721473200-1721476800@www.historyvictoria.org.au
SUMMARY:Incinerator History Tours
DESCRIPTION:Discover the captivating history of the Essendon incinerator on our monthly volunteer-led history tour. \nStrategically located near parkland and residences\, this iconic structure emerged in 1929\, revolutionising waste disposal was designed by the offices of visionary architects Walter Burley Griffin and Marion Mahony Griffin. \nJoin us as our knowledgeable guides unveil the ‘Destructor’s’ transformative journey\, from waste disposal facility to council depot\, to a performing arts venue and now Incinerator Gallery. Immerse yourself in the essence of Griffin’s design ethos and explore a bygone era where sanitation and aesthetics converged. Don’t miss the chance to delve into this historic gem’s narrative on our engaging monthly tours. \nHistory Tours are presented at Incinerator Gallery and run from 11 am to 12 noon.
URL:https://www.historyvictoria.org.au/event/incinerator-history-tours/2024-07-20/
LOCATION:Incinerator Gallery\, 180 Holmes Road\, Aberfeldie\, VIC\, 3045\, Australia
CATEGORIES:Victorian History Events
ATTACH;FMTTYPE=image/jpeg:https://www.historyvictoria.org.au/wp-content/uploads/2024/04/Incinerator-History-Tours-2-764x371-1.jpg
END:VEVENT
BEGIN:VEVENT
DTSTART;TZID=Australia/Melbourne:20240620T110000
DTEND;TZID=Australia/Melbourne:20240620T120000
DTSTAMP:20260421T022151
CREATED:20240423T231357Z
LAST-MODIFIED:20240423T231357Z
UID:10000988-1718881200-1718884800@www.historyvictoria.org.au
SUMMARY:Incinerator History Tours
DESCRIPTION:Discover the captivating history of the Essendon incinerator on our monthly volunteer-led history tour. \nStrategically located near parkland and residences\, this iconic structure emerged in 1929\, revolutionising waste disposal was designed by the offices of visionary architects Walter Burley Griffin and Marion Mahony Griffin. \nJoin us as our knowledgeable guides unveil the ‘Destructor’s’ transformative journey\, from waste disposal facility to council depot\, to a performing arts venue and now Incinerator Gallery. Immerse yourself in the essence of Griffin’s design ethos and explore a bygone era where sanitation and aesthetics converged. Don’t miss the chance to delve into this historic gem’s narrative on our engaging monthly tours. \nHistory Tours are presented at Incinerator Gallery and run from 11 am to 12 noon.
URL:https://www.historyvictoria.org.au/event/incinerator-history-tours/2024-06-20/
LOCATION:Incinerator Gallery\, 180 Holmes Road\, Aberfeldie\, VIC\, 3045\, Australia
CATEGORIES:Victorian History Events
ATTACH;FMTTYPE=image/jpeg:https://www.historyvictoria.org.au/wp-content/uploads/2024/04/Incinerator-History-Tours-2-764x371-1.jpg
END:VEVENT
BEGIN:VEVENT
DTSTART;TZID=Australia/Melbourne:20240526T110000
DTEND;TZID=Australia/Melbourne:20240526T120000
DTSTAMP:20260421T022151
CREATED:20240423T231357Z
LAST-MODIFIED:20240423T231357Z
UID:10000987-1716721200-1716724800@www.historyvictoria.org.au
SUMMARY:Incinerator History Tours
DESCRIPTION:Discover the captivating history of the Essendon incinerator on our monthly volunteer-led history tour. \nStrategically located near parkland and residences\, this iconic structure emerged in 1929\, revolutionising waste disposal was designed by the offices of visionary architects Walter Burley Griffin and Marion Mahony Griffin. \nJoin us as our knowledgeable guides unveil the ‘Destructor’s’ transformative journey\, from waste disposal facility to council depot\, to a performing arts venue and now Incinerator Gallery. Immerse yourself in the essence of Griffin’s design ethos and explore a bygone era where sanitation and aesthetics converged. Don’t miss the chance to delve into this historic gem’s narrative on our engaging monthly tours. \nHistory Tours are presented at Incinerator Gallery and run from 11 am to 12 noon.
URL:https://www.historyvictoria.org.au/event/incinerator-history-tours/2024-05-26/
LOCATION:Incinerator Gallery\, 180 Holmes Road\, Aberfeldie\, VIC\, 3045\, Australia
CATEGORIES:Victorian History Events
ATTACH;FMTTYPE=image/jpeg:https://www.historyvictoria.org.au/wp-content/uploads/2024/04/Incinerator-History-Tours-2-764x371-1.jpg
END:VEVENT
END:VCALENDAR