BEGIN:VCALENDAR
VERSION:2.0
PRODID:-//Royal Historical Society of Victoria - ECPv6.15.12.2//NONSGML v1.0//EN
CALSCALE:GREGORIAN
METHOD:PUBLISH
X-WR-CALNAME:Royal Historical Society of Victoria
X-ORIGINAL-URL:https://www.historyvictoria.org.au
X-WR-CALDESC:Events for Royal Historical Society of Victoria
REFRESH-INTERVAL;VALUE=DURATION:PT1H
X-Robots-Tag:noindex
X-PUBLISHED-TTL:PT1H
BEGIN:VTIMEZONE
TZID:Australia/Melbourne
BEGIN:STANDARD
TZOFFSETFROM:+1100
TZOFFSETTO:+1000
TZNAME:AEST
DTSTART:20230401T160000
END:STANDARD
BEGIN:DAYLIGHT
TZOFFSETFROM:+1000
TZOFFSETTO:+1100
TZNAME:AEDT
DTSTART:20230930T160000
END:DAYLIGHT
BEGIN:STANDARD
TZOFFSETFROM:+1100
TZOFFSETTO:+1000
TZNAME:AEST
DTSTART:20240406T160000
END:STANDARD
BEGIN:DAYLIGHT
TZOFFSETFROM:+1000
TZOFFSETTO:+1100
TZNAME:AEDT
DTSTART:20241005T160000
END:DAYLIGHT
BEGIN:STANDARD
TZOFFSETFROM:+1100
TZOFFSETTO:+1000
TZNAME:AEST
DTSTART:20250405T160000
END:STANDARD
BEGIN:DAYLIGHT
TZOFFSETFROM:+1000
TZOFFSETTO:+1100
TZNAME:AEDT
DTSTART:20251004T160000
END:DAYLIGHT
END:VTIMEZONE
BEGIN:VEVENT
DTSTART;TZID=Australia/Melbourne:20240629T090000
DTEND;TZID=Australia/Melbourne:20240629T170000
DTSTAMP:20260419T222519
CREATED:20240404T004454Z
LAST-MODIFIED:20240404T004454Z
UID:10000503-1719651600-1719680400@www.historyvictoria.org.au
SUMMARY:The Value of Local History - Into the Future 2024 Conference
DESCRIPTION:The Association of Eastern Historical Societies presents \nThe Value of Local History – Into the Future 2024 Conference \nSaturday 29 June 2024\n9am-5pm\nLilydale Lakeside Conference Centre\n1 Jarlo Drive\, Lilydale \nSpeakers include: \n\nBryan Kalms- Keynote\nRichard Broome\nAnthony McAleer\nRosalie Trioli\nJanice Newton\nJohn Peterson\nGraeme Davison\nVal Polley\nPatrick Ferry – NAA\nDavid Taylor – PROV\nKitty Owens – Yarra Ranges Regional Museum\nChristine Barker Byrnes/Chris Byrnes – Malmsbury Historical Society\nJackie Fraser – Victorian Collections\n\nFor more information: associationofeasternhistorical@gmail.com \nTo book tickets: https://www.trybooking.com/CQJSC 
URL:https://www.historyvictoria.org.au/event/the-value-of-local-history-into-the-future-2024-conference/
LOCATION:Lilydale Lakeside Conference Centre\, 1 Jarlo Drive\, Lilydale\, VIC\, 3140\, Australia
CATEGORIES:Victorian History Events
ATTACH;FMTTYPE=image/jpeg:https://www.historyvictoria.org.au/wp-content/uploads/2024/04/AEHS-conference.jpg
ORGANIZER;CN="The Association of Eastern Historical Societies":MAILTO:associationofeasternhistorical@gmail.com
END:VEVENT
BEGIN:VEVENT
DTSTART;VALUE=DATE:20240629
DTEND;VALUE=DATE:20240630
DTSTAMP:20260419T222519
CREATED:20240528T051433Z
LAST-MODIFIED:20240528T051433Z
UID:10001004-1719619200-1719705599@www.historyvictoria.org.au
SUMMARY:Association of Eastern Historical Societies - Conference
DESCRIPTION:May we have our conference advertised again please? \nThe Value of Local History- Into the Future will be held on June 29 at Lilydale Lakeside conference centre \nThe all day program aims to inspire local history groups to consider ways to survive and grow in the coming years.
URL:https://www.historyvictoria.org.au/event/association-of-eastern-historical-societies-conference/
LOCATION:Lilydale Lakeside Conference Centre\, 1 Jarlo Drive\, Lilydale\, VIC\, 3140\, Australia
CATEGORIES:Victorian History Events
ATTACH;FMTTYPE=image/jpeg:https://www.historyvictoria.org.au/wp-content/uploads/2024/05/AEHS-Conference-Poster-1.jpg
END:VEVENT
BEGIN:VEVENT
DTSTART;VALUE=DATE:20240629
DTEND;VALUE=DATE:20240630
DTSTAMP:20260419T222519
CREATED:20240508T232158Z
LAST-MODIFIED:20240508T232158Z
UID:10000518-1719619200-1719705599@www.historyvictoria.org.au
SUMMARY:The Value of Local History- Into the Future
DESCRIPTION:Conference held by Association of Eastern Historical Societies
URL:https://www.historyvictoria.org.au/event/the-value-of-local-history-into-the-future/
LOCATION:Lilydale Lakeside Conference Centre\, 1 Jarlo Drive\, Lilydale\, VIC\, 3140\, Australia
CATEGORIES:Victorian History Events
ATTACH;FMTTYPE=image/jpeg:https://www.historyvictoria.org.au/wp-content/uploads/2024/05/AEHS-Conference-Poster.jpg
END:VEVENT
END:VCALENDAR