BEGIN:VCALENDAR
VERSION:2.0
PRODID:-//Royal Historical Society of Victoria - ECPv6.15.12.2//NONSGML v1.0//EN
CALSCALE:GREGORIAN
METHOD:PUBLISH
X-ORIGINAL-URL:https://www.historyvictoria.org.au
X-WR-CALDESC:Events for Royal Historical Society of Victoria
REFRESH-INTERVAL;VALUE=DURATION:PT1H
X-Robots-Tag:noindex
X-PUBLISHED-TTL:PT1H
BEGIN:VTIMEZONE
TZID:Australia/Melbourne
BEGIN:STANDARD
TZOFFSETFROM:+1100
TZOFFSETTO:+1000
TZNAME:AEST
DTSTART:20210403T160000
END:STANDARD
BEGIN:DAYLIGHT
TZOFFSETFROM:+1000
TZOFFSETTO:+1100
TZNAME:AEDT
DTSTART:20211002T160000
END:DAYLIGHT
BEGIN:STANDARD
TZOFFSETFROM:+1100
TZOFFSETTO:+1000
TZNAME:AEST
DTSTART:20220402T160000
END:STANDARD
BEGIN:DAYLIGHT
TZOFFSETFROM:+1000
TZOFFSETTO:+1100
TZNAME:AEDT
DTSTART:20221001T160000
END:DAYLIGHT
BEGIN:STANDARD
TZOFFSETFROM:+1100
TZOFFSETTO:+1000
TZNAME:AEST
DTSTART:20230401T160000
END:STANDARD
BEGIN:DAYLIGHT
TZOFFSETFROM:+1000
TZOFFSETTO:+1100
TZNAME:AEDT
DTSTART:20230930T160000
END:DAYLIGHT
END:VTIMEZONE
BEGIN:VEVENT
DTSTART;TZID=Australia/Melbourne:20220411T180000
DTEND;TZID=Australia/Melbourne:20220411T191500
DTSTAMP:20260421T043850
CREATED:20220329T213517Z
LAST-MODIFIED:20220329T213517Z
UID:10000739-1649700000-1649704500@www.historyvictoria.org.au
SUMMARY:A World of Architectural History 
DESCRIPTION:This lecture will discuss the preparations and outcomes of the 21st Edition of Sir Banister Fletcher’s Global History of Architecture.\n\n\n\n\n\n\n\nThis lecture will discuss the preparations and outcomes of the 21st Edition of Sir Banister Fletcher’s Global History of Architecture\, in what are two entirely re-written volumes\, also available online. It constitutes the most ambitious attempt to provide an overall account of architectural history in all parts of the world across the past 5\,500 years. Three scholars from the University of Melbourne (Dr Amanda Achmadi\, Prof Philip Goad\, Prof Paul Walker) wrote chapters on Australian/Southeast Asian architectural history\, and hence in part this public lecture will also be a celebration of their roles within the task. \nMurray Fraser is joining ACAHUCH for April of 2022\, supported by the Macgeorge Bequest at the University of Melbourne. \nMurray Fraser is Professor of Architecture and Global Culture at UCL’s Bartlett School of Architecture\, and Chair of the Society of Architectural Historians of Great Britain. In 2008 his book Architecture and the ‘Special Relationship’ won the RIBA Research Award and CICA Bruno Zevi Book Prize. He is General Editor for the 21st Edition of Sir Banister Fletcher’s Global History of Architecture (2020)\, awarded the SAHGB’s Colvin Prize. He received the 2018 RIBA Annie Spink Award for Excellence in Education. \nHosted by Australian Centre of Architectural History\, Urban and Cultural Heritage\, University of Melbourne \n\nBOOK HERE.
URL:https://www.historyvictoria.org.au/event/a-world-of-architectural-history/
LOCATION:Malaysian Theatre\, Glyn Davis Building\, Masson Road The University of Melbourne Parkville\, VIC 3010\, Parkville\, VIC\, 3000\, Australia
CATEGORIES:Victorian History Events
ATTACH;FMTTYPE=image/jpeg:https://www.historyvictoria.org.au/wp-content/uploads/2022/03/ACHUH-image.jpg
ORGANIZER;CN="Australian Centre of Architectural History%2C Urban and Cultural Heritage":MAILTO:theo.blankley@unimelb.edu.au
END:VEVENT
END:VCALENDAR