BEGIN:VCALENDAR
VERSION:2.0
PRODID:-//Royal Historical Society of Victoria - ECPv6.15.12.2//NONSGML v1.0//EN
CALSCALE:GREGORIAN
METHOD:PUBLISH
X-ORIGINAL-URL:https://www.historyvictoria.org.au
X-WR-CALDESC:Events for Royal Historical Society of Victoria
REFRESH-INTERVAL;VALUE=DURATION:PT1H
X-Robots-Tag:noindex
X-PUBLISHED-TTL:PT1H
BEGIN:VTIMEZONE
TZID:Australia/Melbourne
BEGIN:STANDARD
TZOFFSETFROM:+1100
TZOFFSETTO:+1000
TZNAME:AEST
DTSTART:20170401T160000
END:STANDARD
BEGIN:DAYLIGHT
TZOFFSETFROM:+1000
TZOFFSETTO:+1100
TZNAME:AEDT
DTSTART:20170930T160000
END:DAYLIGHT
BEGIN:STANDARD
TZOFFSETFROM:+1100
TZOFFSETTO:+1000
TZNAME:AEST
DTSTART:20180331T160000
END:STANDARD
BEGIN:DAYLIGHT
TZOFFSETFROM:+1000
TZOFFSETTO:+1100
TZNAME:AEDT
DTSTART:20181006T160000
END:DAYLIGHT
BEGIN:STANDARD
TZOFFSETFROM:+1100
TZOFFSETTO:+1000
TZNAME:AEST
DTSTART:20190406T160000
END:STANDARD
BEGIN:DAYLIGHT
TZOFFSETFROM:+1000
TZOFFSETTO:+1100
TZNAME:AEDT
DTSTART:20191005T160000
END:DAYLIGHT
END:VTIMEZONE
BEGIN:VEVENT
DTSTART;TZID=Australia/Melbourne:20180804T160000
DTEND;TZID=Australia/Melbourne:20180804T200000
DTSTAMP:20260421T224530
CREATED:20180803T033225Z
LAST-MODIFIED:20180803T033225Z
UID:10000099-1533398400-1533412800@www.historyvictoria.org.au
SUMMARY:Malmsbury Town Hall 150th Celebration
DESCRIPTION:150th Anniversary Celebrations commence 4:00pm. Brass Band. Fun family bush dance. Re-enactment of Town Hall opening. Bring a plate to share. Bar available. Gold coin donation.
URL:https://www.historyvictoria.org.au/event/malmsbury-town-hall-150th-celebration/
LOCATION:Malmsbury Town Hall\, 91 Mollison Street Malmsbury\, Melbourne\, 3446\, Australia
ATTACH;FMTTYPE=image/png:https://www.historyvictoria.org.au/wp-content/uploads/2018/08/13_05_Kenneys-baths-St-Kilda_-300x165.png
ORGANIZER;CN="Royal Historical Society of Victoria":MAILTO:office@historyvictoria.org.au
GEO:-37.188679;144.3821586
X-APPLE-STRUCTURED-LOCATION;VALUE=URI;X-ADDRESS=Malmsbury Town Hall 91 Mollison Street Malmsbury Melbourne 3446 Australia;X-APPLE-RADIUS=500;X-TITLE=91 Mollison Street Malmsbury:geo:144.3821586,-37.188679
END:VEVENT
END:VCALENDAR