BEGIN:VCALENDAR
VERSION:2.0
PRODID:-//Royal Historical Society of Victoria - ECPv6.15.12.2//NONSGML v1.0//EN
CALSCALE:GREGORIAN
METHOD:PUBLISH
X-WR-CALNAME:Royal Historical Society of Victoria
X-ORIGINAL-URL:https://www.historyvictoria.org.au
X-WR-CALDESC:Events for Royal Historical Society of Victoria
REFRESH-INTERVAL;VALUE=DURATION:PT1H
X-Robots-Tag:noindex
X-PUBLISHED-TTL:PT1H
BEGIN:VTIMEZONE
TZID:Australia/Melbourne
BEGIN:STANDARD
TZOFFSETFROM:+1100
TZOFFSETTO:+1000
TZNAME:AEST
DTSTART:20190406T160000
END:STANDARD
BEGIN:DAYLIGHT
TZOFFSETFROM:+1000
TZOFFSETTO:+1100
TZNAME:AEDT
DTSTART:20191005T160000
END:DAYLIGHT
BEGIN:STANDARD
TZOFFSETFROM:+1100
TZOFFSETTO:+1000
TZNAME:AEST
DTSTART:20200404T160000
END:STANDARD
BEGIN:DAYLIGHT
TZOFFSETFROM:+1000
TZOFFSETTO:+1100
TZNAME:AEDT
DTSTART:20201003T160000
END:DAYLIGHT
BEGIN:STANDARD
TZOFFSETFROM:+1100
TZOFFSETTO:+1000
TZNAME:AEST
DTSTART:20210403T160000
END:STANDARD
BEGIN:DAYLIGHT
TZOFFSETFROM:+1000
TZOFFSETTO:+1100
TZNAME:AEDT
DTSTART:20211002T160000
END:DAYLIGHT
END:VTIMEZONE
BEGIN:VEVENT
DTSTART;TZID=Australia/Melbourne:20200321T143000
DTEND;TZID=Australia/Melbourne:20200321T160000
DTSTAMP:20260421T232952
CREATED:20200314T023722Z
LAST-MODIFIED:20200317T221144Z
UID:10000090-1584801000-1584806400@www.historyvictoria.org.au
SUMMARY:Fishermans Bend: an urban renewal project unlike any other in Australia
DESCRIPTION:Please contact the organiser before attending this event in case it has been cancelled. \nWant to know more about what’s going on with Fishermans Bend?\nU3A’s Saturday seminar Fishermans Bend: an urban renewal project unlike any other in Australia is on 21 March from 2.30 to 4.00 pm at the Mary Kehoe Centre in Danks St.  Speakers are Janet Bolitho\, Bernadene Voss\, Mayor and Councillor\, and Rob McGuaran\, local resident and director of MGS Architects. The moderator will be Max Nankervis who is with the Middle Park History Group. \nAll are welcome to this free seminar but rsvps are essential to 9696 3495.
URL:https://www.historyvictoria.org.au/event/fishermans-bend-an-urban-renewal-project-unlike-any-other-in-australia/
LOCATION:Mary Kehoe Community Centre\, 224 Danks St\, VIC\, Albert Park\, VIC\, 3206\, Australia
CATEGORIES:Victorian History Events
ATTACH;FMTTYPE=image/jpeg:https://www.historyvictoria.org.au/wp-content/uploads/2020/03/scl-fishermans-bend-twitter.jpg
END:VEVENT
END:VCALENDAR