BEGIN:VCALENDAR
VERSION:2.0
PRODID:-//Royal Historical Society of Victoria - ECPv6.15.12.2//NONSGML v1.0//EN
CALSCALE:GREGORIAN
METHOD:PUBLISH
X-WR-CALNAME:Royal Historical Society of Victoria
X-ORIGINAL-URL:https://www.historyvictoria.org.au
X-WR-CALDESC:Events for Royal Historical Society of Victoria
REFRESH-INTERVAL;VALUE=DURATION:PT1H
X-Robots-Tag:noindex
X-PUBLISHED-TTL:PT1H
BEGIN:VTIMEZONE
TZID:Australia/Melbourne
BEGIN:STANDARD
TZOFFSETFROM:+1100
TZOFFSETTO:+1000
TZNAME:AEST
DTSTART:20200404T160000
END:STANDARD
BEGIN:DAYLIGHT
TZOFFSETFROM:+1000
TZOFFSETTO:+1100
TZNAME:AEDT
DTSTART:20201003T160000
END:DAYLIGHT
BEGIN:STANDARD
TZOFFSETFROM:+1100
TZOFFSETTO:+1000
TZNAME:AEST
DTSTART:20210403T160000
END:STANDARD
BEGIN:DAYLIGHT
TZOFFSETFROM:+1000
TZOFFSETTO:+1100
TZNAME:AEDT
DTSTART:20211002T160000
END:DAYLIGHT
BEGIN:STANDARD
TZOFFSETFROM:+1100
TZOFFSETTO:+1000
TZNAME:AEST
DTSTART:20220402T160000
END:STANDARD
BEGIN:DAYLIGHT
TZOFFSETFROM:+1000
TZOFFSETTO:+1100
TZNAME:AEDT
DTSTART:20221001T160000
END:DAYLIGHT
BEGIN:STANDARD
TZOFFSETFROM:+1100
TZOFFSETTO:+1000
TZNAME:AEST
DTSTART:20230401T160000
END:STANDARD
BEGIN:DAYLIGHT
TZOFFSETFROM:+1000
TZOFFSETTO:+1100
TZNAME:AEDT
DTSTART:20230930T160000
END:DAYLIGHT
BEGIN:STANDARD
TZOFFSETFROM:+1100
TZOFFSETTO:+1000
TZNAME:AEST
DTSTART:20240406T160000
END:STANDARD
BEGIN:DAYLIGHT
TZOFFSETFROM:+1000
TZOFFSETTO:+1100
TZNAME:AEDT
DTSTART:20241005T160000
END:DAYLIGHT
BEGIN:STANDARD
TZOFFSETFROM:+1100
TZOFFSETTO:+1000
TZNAME:AEST
DTSTART:20250405T160000
END:STANDARD
BEGIN:DAYLIGHT
TZOFFSETFROM:+1000
TZOFFSETTO:+1100
TZNAME:AEDT
DTSTART:20251004T160000
END:DAYLIGHT
END:VTIMEZONE
BEGIN:VEVENT
DTSTART;TZID=Australia/Melbourne:20240308T173000
DTEND;TZID=Australia/Melbourne:20240308T183000
DTSTAMP:20260421T032451
CREATED:20240206T214707Z
LAST-MODIFIED:20240206T215020Z
UID:10000493-1709919000-1709922600@www.historyvictoria.org.au
SUMMARY:History Matters Series: Women of Ballarat 1838-1851
DESCRIPTION:Join us for this year’s International Women’s Day as Sovereign Hill Museums Association explores this year’s theme\, Count Her In\, and look to the past to explore pathways to greater economic inclusion for women and girls everywhere. \nWhen gold was discovered in Victoria in 1851 women flocked to the Ballarat goldfields to try their hands at a new life and to find prosperity. But women had been part of the Ballarat region for much longer\, First Nations women for generations. PhD candidate Sharni Brownbridge will share with us the stories of some the women living in the Ballarat area from 1838 and in the first wild days after gold discovery and show how they acted as key members of these societies\, acting as farm workers\, gold fossickers\, business owners and creators of social connection.
URL:https://www.historyvictoria.org.au/event/history-matters-series-women-of-ballarat-1838-1851/
LOCATION:Sovereign Hill Museums Association\, 39 Magpie Street\, Ballarat\, VIC\, Australia
CATEGORIES:Victorian History Events
ATTACH;FMTTYPE=image/jpeg:https://www.historyvictoria.org.au/wp-content/uploads/2024/02/MDP_GoldMuseum-1835-002-scaled.jpg
END:VEVENT
BEGIN:VEVENT
DTSTART;TZID=Australia/Melbourne:20220527T200000
DTEND;TZID=Australia/Melbourne:20220527T213000
DTSTAMP:20260421T032451
CREATED:20220420T022234Z
LAST-MODIFIED:20220420T022234Z
UID:10000745-1653681600-1653687000@www.historyvictoria.org.au
SUMMARY:WOOD\, FIRE\, METAL\, HEAT\, STEAM AND WHISKY!
DESCRIPTION:Another Whisky in the Wheelwrights event announced for Friday 27 May \nFollowing on from the sellout success of its earlier Whisky in the Wheelwrights event\, Sovereign Hill has announced an additional session at 8.00pm on Friday 27 May – in perfect time for Melbourne-based whisky lovers to head to the Hill and experience this unique sensory event. \nWood\, fire\, metal\, heat and steam take centrestage as Sovereign Hill’s rare trades team demonstrate the classic art of hot tyring and steam bending whilst guests can sip the finest in artisan crafted whiskies. Rare trades are certainly alive and well at Sovereign Hill and this event will create an immersive and evocative experience. \nThe event features six whiskies\, matched with a tasty bite created by the Peter Rowland Group\, and is hosted by Paul Slater from Archie Rose and Matty Folent from Starward who will take whisky enthusiasts through a guided tasting of their finest drams. With a conversation about craftmanship at the centre of this experience\, guests will sip\, savour and learn. Definitely full of atmosphere\, this event is sure to ignite the senses on all levels. This is an 18 years plus event. \n  \nBookings essential: Whisky in the Wheelwrights Tickets\, Fri 27/05/2022 at 8:00 pm | Eventbrite
URL:https://www.historyvictoria.org.au/event/wood-fire-metal-heat-steam-and-whisky/
LOCATION:Sovereign Hill Museums Association\, 39 Magpie Street\, Ballarat\, VIC\, Australia
CATEGORIES:Victorian History Events
ATTACH;FMTTYPE=image/jpeg:https://www.historyvictoria.org.au/wp-content/uploads/2022/04/whisky.jpg
END:VEVENT
BEGIN:VEVENT
DTSTART;TZID=Australia/Melbourne:20211118T180000
DTEND;TZID=Australia/Melbourne:20211118T193000
DTSTAMP:20260421T032451
CREATED:20211115T013922Z
LAST-MODIFIED:20211115T013922Z
UID:10000250-1637258400-1637263800@www.historyvictoria.org.au
SUMMARY:Needlework on the Diggings and Extravagance\, Tradition and Power: Governor Latrobe's Uniform
DESCRIPTION:Join Sovereign Hill Museums Association for a special Weston Bate Memorial Lecture on colonial fashion and needlework with researchers\, Dr Lorinda Cramer and Megan Anderson\n\n\n\n\n\n\n\n‘I find my sewing powers of great advantage here’: Needlework on the diggings \nGuest speaker: Dr Lorinda Cramer \nIn 1856\, Maggie Hoey wrote to her sister in Scotland: ‘I find my sewing powers of great advantage here’. By ‘here’\, Maggie was referring to her new home on the Victorian goldfields. By her ‘sewing powers’\, she meant her skills in needlework that ranged from making and mending clothing to furnishing her tent. This lecture will explore the ‘great advantage’ of women’s and men’s sewing on the diggings: how it made them comfortable by clothing and housing them\, but how it also helped assert their place in the tumultuous gold-rush society. It will draw on diaries\, letters and memoirs written on the diggings\, on the illustrations and photographs that richly captured those experiences\, and on the rare surviving examples of needlework now preserved in museum collections. It will show just how important sewing could be to transform daily life. \nDr Lorinda Cramer is a postdoctoral researcher at the Australian Catholic University\, where she is currently working on the ARC Discovery project Men’s Dress in Twentieth-Century Australia: Masculinity\, Fashion\, Social Change. Her research into dress\, fashion and textile history is underpinned by material culture and inspired by her work for more than a decade as a museum curator and collection manager. Her PhD\, completed in 2015\, explored the lives of Victoria’s female gold-rush migrants through their needlework: from the clothes they sewed for themselves and their families to the textile goods they made for their homes and the relentless demands of mending and darning. \nThis research was published by Bloomsbury in 2020 as Needlework and Women’s Identity in Colonial Australia and has recently been released in paperback. \nDr Cramer’s research will be presented alongside Sovereign Hill’s former Costume Production Assistant\, Megan Anderson’s research on Lieutenant-Governor Charles LaTrobe. \nExtravagance\, Tradition and Power: Governor Latrobe’s Uniform \nGuest speaker: Megan Anderson \nMegan’s project will explore the significance\, history\, tradition and symbolism encompassed in the uniform of Lieutenant–Governor Charles La Trobe. Within the garment industry\, tailoring is extensively revered as the highest standard of garment construction\, with the highest quality achieved. Ceremonial uniforms\, including that of Lieutenant-Governor\, are from an even higher echelon – every element of this uniform was designed to impress\, emphasise and enhance the wearer in both status and stature. As holder of the highest office in the new colony of Victoria\, a distinguished uniform to solidify that position was absolutely necessary for La Trobe. The outcome of Megan’s research will include an impeccably tailored suit with accents of gold and silver. \nThis is a COVIDSafe event and will be held under the current government guidelines. Visitors 16 years of age and over must show their COVID-19 vaccination status as a condition of entry. This requirement will extend to visitors aged 12 and over once phase D of the roadmap is reached (indicatively 24 November). \n\nBOOK TICKETS HERE: https://www.eventbrite.com.au/e/weston-bate-memorial-lecture-tickets-168363695345
URL:https://www.historyvictoria.org.au/event/needlework-on-the-diggings-and-extravagance-tradition-and-power-governor-latrobes-uniform/
LOCATION:Sovereign Hill Museums Association\, 39 Magpie Street\, Ballarat\, VIC\, Australia
CATEGORIES:Victorian History Events
ATTACH;FMTTYPE=image/jpeg:https://www.historyvictoria.org.au/wp-content/uploads/2021/11/La-Trobe.jpg
END:VEVENT
END:VCALENDAR