BEGIN:VCALENDAR
VERSION:2.0
PRODID:-//Royal Historical Society of Victoria - ECPv6.15.12.2//NONSGML v1.0//EN
CALSCALE:GREGORIAN
METHOD:PUBLISH
X-WR-CALNAME:Royal Historical Society of Victoria
X-ORIGINAL-URL:https://www.historyvictoria.org.au
X-WR-CALDESC:Events for Royal Historical Society of Victoria
REFRESH-INTERVAL;VALUE=DURATION:PT1H
X-Robots-Tag:noindex
X-PUBLISHED-TTL:PT1H
BEGIN:VTIMEZONE
TZID:Australia/Melbourne
BEGIN:STANDARD
TZOFFSETFROM:+1100
TZOFFSETTO:+1000
TZNAME:AEST
DTSTART:20230401T160000
END:STANDARD
BEGIN:DAYLIGHT
TZOFFSETFROM:+1000
TZOFFSETTO:+1100
TZNAME:AEDT
DTSTART:20230930T160000
END:DAYLIGHT
BEGIN:STANDARD
TZOFFSETFROM:+1100
TZOFFSETTO:+1000
TZNAME:AEST
DTSTART:20240406T160000
END:STANDARD
BEGIN:DAYLIGHT
TZOFFSETFROM:+1000
TZOFFSETTO:+1100
TZNAME:AEDT
DTSTART:20241005T160000
END:DAYLIGHT
BEGIN:STANDARD
TZOFFSETFROM:+1100
TZOFFSETTO:+1000
TZNAME:AEST
DTSTART:20250405T160000
END:STANDARD
BEGIN:DAYLIGHT
TZOFFSETFROM:+1000
TZOFFSETTO:+1100
TZNAME:AEDT
DTSTART:20251004T160000
END:DAYLIGHT
END:VTIMEZONE
BEGIN:VEVENT
DTSTART;TZID=Australia/Melbourne:20240215T180000
DTEND;TZID=Australia/Melbourne:20240215T190000
DTSTAMP:20260420T200543
CREATED:20240205T051805Z
LAST-MODIFIED:20240205T051806Z
UID:10000490-1708020000-1708023600@www.historyvictoria.org.au
SUMMARY:Panel Discussion: Paulie Stewart\, Fred Negro\, Fiona Lee Maynard
DESCRIPTION:Building on the success of the Unplugged in St Kilda podcast series\, iconic musicians Paulie Stewart (Painters and Dockers)\, Fiona Lee Maynard (Have a Nice Day) and Fred Negro (I Piss on Your Gravy) will share musical tales from the St Kilda scene of the 1970s\, 80s and 90s. \nFacilitated by Sally Moore\, host of the Unplugged podcasts\, the panel will discuss the rich musical history of St Kilda\, sharing insights into their time in the local area and how it shaped their music. \nThis event is proudly presented in partnership with St Kilda Library and St Kilda Historical Society. \nThis is a free public event.  Booking essential.  \n  \nBook here: St Kilda Unplugged Panel Discussion Tickets\, St Kilda Library\, St Kilda | TryBooking Australia
URL:https://www.historyvictoria.org.au/event/panel-discussion-paulie-stewart-fred-negro-fiona-lee-maynard/
LOCATION:St Kilda Library\, 150 Carlisle Street\, St Kilda\, VIC\, 3182\, Australia
CATEGORIES:Victorian History Events
ATTACH;FMTTYPE=image/jpeg:https://www.historyvictoria.org.au/wp-content/uploads/2024/02/Unplugged-St-Kilda.jpg
ORGANIZER;CN="St Kilda Historical Society":MAILTO:info@stkildahistory.org.au
END:VEVENT
END:VCALENDAR