BEGIN:VCALENDAR
VERSION:2.0
PRODID:-//Royal Historical Society of Victoria - ECPv6.15.12.2//NONSGML v1.0//EN
CALSCALE:GREGORIAN
METHOD:PUBLISH
X-ORIGINAL-URL:https://www.historyvictoria.org.au
X-WR-CALDESC:Events for Royal Historical Society of Victoria
REFRESH-INTERVAL;VALUE=DURATION:PT1H
X-Robots-Tag:noindex
X-PUBLISHED-TTL:PT1H
BEGIN:VTIMEZONE
TZID:Australia/Melbourne
BEGIN:STANDARD
TZOFFSETFROM:+1100
TZOFFSETTO:+1000
TZNAME:AEST
DTSTART:20210403T160000
END:STANDARD
BEGIN:DAYLIGHT
TZOFFSETFROM:+1000
TZOFFSETTO:+1100
TZNAME:AEDT
DTSTART:20211002T160000
END:DAYLIGHT
BEGIN:STANDARD
TZOFFSETFROM:+1100
TZOFFSETTO:+1000
TZNAME:AEST
DTSTART:20220402T160000
END:STANDARD
BEGIN:DAYLIGHT
TZOFFSETFROM:+1000
TZOFFSETTO:+1100
TZNAME:AEDT
DTSTART:20221001T160000
END:DAYLIGHT
BEGIN:STANDARD
TZOFFSETFROM:+1100
TZOFFSETTO:+1000
TZNAME:AEST
DTSTART:20230401T160000
END:STANDARD
BEGIN:DAYLIGHT
TZOFFSETFROM:+1000
TZOFFSETTO:+1100
TZNAME:AEDT
DTSTART:20230930T160000
END:DAYLIGHT
BEGIN:STANDARD
TZOFFSETFROM:+1100
TZOFFSETTO:+1000
TZNAME:AEST
DTSTART:20240406T160000
END:STANDARD
BEGIN:DAYLIGHT
TZOFFSETFROM:+1000
TZOFFSETTO:+1100
TZNAME:AEDT
DTSTART:20241005T160000
END:DAYLIGHT
BEGIN:STANDARD
TZOFFSETFROM:+1100
TZOFFSETTO:+1000
TZNAME:AEST
DTSTART:20250405T160000
END:STANDARD
BEGIN:DAYLIGHT
TZOFFSETFROM:+1000
TZOFFSETTO:+1100
TZNAME:AEDT
DTSTART:20251004T160000
END:DAYLIGHT
END:VTIMEZONE
BEGIN:VEVENT
DTSTART;TZID=Australia/Melbourne:20240307T133000
DTEND;TZID=Australia/Melbourne:20240307T160000
DTSTAMP:20260421T142833
CREATED:20231031T031740Z
LAST-MODIFIED:20240209T025817Z
UID:10000946-1709818200-1709827200@www.historyvictoria.org.au
SUMMARY:Tour of Historical Trades Hall followed by more labour history in the Curtin Hotel
DESCRIPTION:In 2023 we organised a tour of Trades Hall and everyone on the tour said it was exceptional and that Antony Moore\, the guide\, was worth bottling. \nSo\, in 2024\, we’ll be hosting another tour with Antony but with a great addition.  From 2pm – 3:30pm you’ll be touring Trades Hall with Antony and then we’ll skip over the road to the Curtin Hotel where so much labour history played out and\, over a drink\, David Cragg\, will enlighten us with this additional labour history. \nOur Heritage Committee\, under Charles Sowerwine\, successfully lobbied to save this historic pub from the threat of redevelopment. There was a great upswelling of community concern\, opposition from heritage organisations and concerted trade union action which culminated in a 10-year contract for the management of the John Curtin Hotel so it will continue as a pub and music venue. \nDuring those lost COVID years the Victorian Trades Hall underwent a massive renovation which focused on not just the building but the vital cultural heritage that lives within its walls. Photos and text courtesy of architects\, Lovell Chen’s\, website: “The Trades Hall\, on the corner of Victoria and Lygon streets in Melbourne\, is one of the world’s oldest trade union buildings. It has been the home of trade unionism in the state of Victoria since 1874\, and is associated with the history of the Australian Labor Party and with events significant to the whole country. In 2016\, we completed a condition survey and Conservation Management Plan\, considering the whole of the much-expanded complex. A grant application for state funding through the Living Heritage Program was successfully made for implementation of conservation and refurbishment works to key public spaces\, the portico and the roof. The Victorian Trades Hall Council also funded works from its own resources (and individual union contributions)\, which were carried out at the same time. \n“The Trades Hall was constructed in ten stages\, the most significant of which occurred between 1876 and 1925. It is principally recognisable for its imposing two-storey Classical/Renaissance Revival facade\, which has been extended relatively consistently as each new wing has been added. The earliest section (1874) is at the southern end of the site\, directly behind the present Victoria Street entry building (1925). The original architects were Joseph Reed (1822-1890) and Frederick Barnes (c.1823-1883)\, of Reed and Barnes\, designers of much of Melbourne’s grand 19th century architectural heritage\, including the Royal Exhibition Building. \n“Stage 1 of the project was completed in 2019. Stage 2 in 2022. Stage 3 has commenced. \n“Victorian Architecture Award 2020 : Heritage Architecture – conservation\nProperty Council of Australia : Innovation & Excellence Awards 2022 : Best Heritage Development (Stages 1+ 2)” \n\nYour guide will be Antony Moore who is a long-time union official with the Vehicle Division of the AMWU. Unfortunately\, with the closing of Australia’s car manufacturing plants\, Antony no longer had a role\, however\, for the past 6 years\, from the very start\, he has been heavily involved in the renovations at Trades Hall – working alongside archaeologists\, conservators and many other experts who have ensured that this important building and its cultural heritage are preserved. Antony is a passionate amateur historian and advocate for the building and its cultural heritage. \n\nAnd our second guide for the Curtin Hotel is David Cragg\, Labour History Melbourne Vice President\, former Trades Hall Assistant Secretary\, a Life Member of the ALP\, a Trustee of the Victorian Trades Hall & Literary Institute and all-round labour history raconteur. \nYour ticket money will be donated to the Victorian Trades Hall for their work on stage 3 of the renovation. \nYou will be sent an automatic confirmation email once you book – if this doesn’t appear in your in-box please check your Spam Mail or Junk Mail folders as automatically-generated emails often go astray. \n\nBecause this tour is limited to 20 persons we do limit it to RHSV financial members only. Please be aware that tour participants will be walking up and down flights of stairs – it is not a fully accessible tour. Ticket price includes a drink at the Curtin Hotel.
URL:https://www.historyvictoria.org.au/event/tour-of-historical-trades-hall-followed-by-more-labour-history-in-the-curtin-hotel/
LOCATION:Victorian Trades Hall\, 54 Victoria Street\, Carlton\, Victoria\, 3053\, Australia
CATEGORIES:What's On
ATTACH;FMTTYPE=image/png:https://www.historyvictoria.org.au/wp-content/uploads/2023/02/Untitled-design-4.png
END:VEVENT
BEGIN:VEVENT
DTSTART;TZID=Australia/Melbourne:20230511T100000
DTEND;TZID=Australia/Melbourne:20230511T113000
DTSTAMP:20260421T142833
CREATED:20230209T013157Z
LAST-MODIFIED:20230502T003720Z
UID:10000398-1683799200-1683804600@www.historyvictoria.org.au
SUMMARY:Tour of Victorian Trades Hall
DESCRIPTION:During those lost COVID years the Victorian Trades Hall underwent a massive renovation which focused on not just the building but the vital cultural heritage that lives within its walls. We have organised a tour for RHSV members only (as we have limited places). \nPhotos and text courtesy of architects\, Lovell Chen’s\, website: “The Trades Hall\, on the corner of Victoria and Lygon streets in Melbourne\, is one of the world’s oldest trade union buildings. It has been the home of trade unionism in the state of Victoria since 1874\, and is associated with the history of the Australian Labour Party and with events significant to the whole country. In 2016\, we completed a condition survey and Conservation Management Plan\, considering the whole of the much-expanded complex. A grant application for state funding through the Living Heritage Program was successfully made for implementation of conservation and refurbishment works to key public spaces\, the portico and the roof. The Victorian Trades Hall Council also funded works from its own resources (and individual union contributions)\, which were carried out at the same time. \n“The Trades Hall was constructed in ten stages\, the most significant of which occurred between 1876 and 1925. It is principally recognisable for its imposing two-storey Classical/Renaissance Revival facade\, which has been extended relatively consistently as each new wing has been added. The earliest section (1874) is at the southern end of the site\, directly behind the present Victoria Street entry building (1925). The original architects were Joseph Reed (1822-1890) and Frederick Barnes (c.1823-1883)\, of Reed and Barnes\, designers of much of Melbourne’s grand 19th century architectural heritage\, including the Royal Exhibition Building. \n“Stage 1 of the project was completed in 2019. Stage 2 in 2022. Stage 3 has commenced. \n“Victorian Architecture Award 2020 : Heritage Architecture – conservation\nProperty Council of Australia : Innovation & Excellence Awards 2022 : Best Heritage Development (Stages 1+ 2)” \n\nYour guide will be Antony Moore who is a long-time union official with the Vehicle Division of the AMWU. Unfortunately\, with the closing of Australia’s car manufacturing plants\, Antony no longer had a role\, however\, for the past 6 years\, from the very start\, he has been heavily involved in the renovations at Trades Hall – working alongside archaeologists\, conservators and many other experts who have ensured that this important building and its cultural heritage are preserved. Antony is a passionate amateur historian and advocate for the building and its cultural heritage. \n\nYour ticket money will be donated to the Victorian Trades Hall for their work on stage 3 of the renovation. \n\n\n\nYou will be sent a reminder about the event\, with your meeting place for the tour\, 24 hours before the event. \nBecause this tour is limited to 20 persons we do limit it to RHSV financial members only. Please be aware that tour participants will be walking up and down flights of stairs – it is not a fully accessible tour.
URL:https://www.historyvictoria.org.au/event/tour-of-victorian-trades-hall/
LOCATION:Victorian Trades Hall\, 54 Victoria Street\, Carlton\, Victoria\, 3053\, Australia
CATEGORIES:What's On
ATTACH;FMTTYPE=image/png:https://www.historyvictoria.org.au/wp-content/uploads/2023/02/Untitled-design-4.png
ORGANIZER;CN="Royal Historical Society of Victoria":MAILTO:office@historyvictoria.org.au
END:VEVENT
BEGIN:VEVENT
DTSTART;TZID=Australia/Melbourne:20220609T180000
DTEND;TZID=Australia/Melbourne:20220609T193000
DTSTAMP:20260421T142833
CREATED:20220519T031533Z
LAST-MODIFIED:20220519T031533Z
UID:10000302-1654797600-1654803000@www.historyvictoria.org.au
SUMMARY:BOOK LAUNCH –– RADICALS: REMEMBERING THE SIXITES BY MEREDITH BURGMANN AND NADIA WHEATLEY
DESCRIPTION:Launched be First Nations icon\, Dr Gary Foley backed by sixties activists Margaret Roadknight\, Peter Batchelor\, Arthur Dent (Albert Langer) & Margaret Reynolds. \nShort speeches followed by refreshments and book signing. \nSolidarity Hall\, Victorian Trades Hall \n  \nPlease RSVP here: MCKELLINSTITUTE Email Marketing – (activehosted.com) \nOrganised by Labour History Melbourne\, the Australian Society for the Study of Labour History (Melbourne Branch)
URL:https://www.historyvictoria.org.au/event/book-launch-radicals-remembering-the-sixites-by-meredith-burgmann-and-nadia-wheatley/
LOCATION:Victorian Trades Hall\, 54 Victoria Street\, Carlton\, Victoria\, 3053\, Australia
CATEGORIES:Victorian History Events
ATTACH;FMTTYPE=image/jpeg:https://www.historyvictoria.org.au/wp-content/uploads/2022/05/Radicals-scaled.jpeg
END:VEVENT
BEGIN:VEVENT
DTSTART;TZID=Australia/Melbourne:20220316T173000
DTEND;TZID=Australia/Melbourne:20220316T193000
DTSTAMP:20260421T142833
CREATED:20220223T011518Z
LAST-MODIFIED:20220223T011518Z
UID:10000722-1647451800-1647459000@www.historyvictoria.org.au
SUMMARY:The Party: Book Launch
DESCRIPTION:The long awaited launch of Stuart Macintyre’s second volume of the history of the Communist Party of Australia is happening on Wednesday 16th March in the Solidarity Hall of Victorian Trades Hall. Hosted by SEARCH Foundation and the Melbourne Labour History Society\, the event will feature a formal launch and a panel discussion. \nStarting time is 5:30pm for 6pm\, followed by drinks and light refreshments. For catering purposes\, please RSVP to:  admin@search.org.au \nSee the attached flyer for further details\, and to forward on to your networks. \nAbout the launch \nFrank Bongiorno\, Professor of History at the Australian National University and a close colleague of Stuart\, will launch the book. The launch will be followed by a panel discussion on Stuart Macintyre’s contributions to Australian labour history in general and the history of communism in Australia in particular\, moderated by Carmel Shute\, former historian and CPA member. \nThe panel members will be: \n– Joy Damousi\, Historian\, Australian Catholic University\n– Julie Kimber\, Historian and federal secretary of the Australian Society for the Study of Labour History (ASSLH)\n– Julius Roe\, Former national president of the Australian Manufacturing Workers Union (AMWU) and former CPA member \nGet your copy of The Party today! \n 
URL:https://www.historyvictoria.org.au/event/the-party-book-launch/
LOCATION:Victorian Trades Hall\, 54 Victoria Street\, Carlton\, Victoria\, 3053\, Australia
CATEGORIES:Victorian History Events
ATTACH;FMTTYPE=image/jpeg:https://www.historyvictoria.org.au/wp-content/uploads/2022/02/the-party-scaled.jpg
ORGANIZER;CN="SEARCH Foundation":MAILTO:admin@search.org.au
END:VEVENT
END:VCALENDAR