BEGIN:VCALENDAR
VERSION:2.0
PRODID:-//Royal Historical Society of Victoria - ECPv6.15.12.2//NONSGML v1.0//EN
CALSCALE:GREGORIAN
METHOD:PUBLISH
X-WR-CALNAME:Royal Historical Society of Victoria
X-ORIGINAL-URL:https://www.historyvictoria.org.au
X-WR-CALDESC:Events for Royal Historical Society of Victoria
REFRESH-INTERVAL;VALUE=DURATION:PT1H
X-Robots-Tag:noindex
X-PUBLISHED-TTL:PT1H
BEGIN:VTIMEZONE
TZID:Australia/Melbourne
BEGIN:STANDARD
TZOFFSETFROM:+1100
TZOFFSETTO:+1000
TZNAME:AEST
DTSTART:20190406T160000
END:STANDARD
BEGIN:DAYLIGHT
TZOFFSETFROM:+1000
TZOFFSETTO:+1100
TZNAME:AEDT
DTSTART:20191005T160000
END:DAYLIGHT
BEGIN:STANDARD
TZOFFSETFROM:+1100
TZOFFSETTO:+1000
TZNAME:AEST
DTSTART:20200404T160000
END:STANDARD
BEGIN:DAYLIGHT
TZOFFSETFROM:+1000
TZOFFSETTO:+1100
TZNAME:AEDT
DTSTART:20201003T160000
END:DAYLIGHT
BEGIN:STANDARD
TZOFFSETFROM:+1100
TZOFFSETTO:+1000
TZNAME:AEST
DTSTART:20210403T160000
END:STANDARD
BEGIN:DAYLIGHT
TZOFFSETFROM:+1000
TZOFFSETTO:+1100
TZNAME:AEDT
DTSTART:20211002T160000
END:DAYLIGHT
END:VTIMEZONE
BEGIN:VEVENT
DTSTART;TZID=Australia/Melbourne:20200124T100000
DTEND;TZID=Australia/Melbourne:20200124T150000
DTSTAMP:20260419T235534
CREATED:20191124T232729Z
LAST-MODIFIED:20200122T050731Z
UID:10000057-1579860000-1579878000@www.historyvictoria.org.au
SUMMARY:Workshop: Born Digital Documents
DESCRIPTION:Presented by the Royal Historical Society of Victoria and Victorian Collections\, this hands-on workshop provides an introduction to the principles of acquiring\, storing\, cataloguing and caring for born-digital material. This workshop is suitable for beginners who may have\, or plan to acquire\, digital images\, media files or documents in their collection. \nParticipants are asked to bring along their own laptop or contact the organisers to arrange a device upon booking. Morning tea and afternoon tea will be provided and we will break for a self-catered lunch. \nTime: 10:00am – 3:00pm (2 x 10 minute breaks for morning/afternoon tea and a 45 minute self-catered lunch) \n 
URL:https://www.historyvictoria.org.au/event/workshop-born-digital-documents/
LOCATION:RHSV ZOOM by Invitation\, Australia
CATEGORIES:What's On,Workshop
ATTACH;FMTTYPE=image/jpeg:https://www.historyvictoria.org.au/wp-content/uploads/2019/11/image-digital.jpg
ORGANIZER;CN="Royal Historical Society of Victoria":MAILTO:office@historyvictoria.org.au
GEO:-37.8107817;144.9562417
END:VEVENT
END:VCALENDAR