BEGIN:VCALENDAR
VERSION:2.0
PRODID:-//Royal Historical Society of Victoria - ECPv6.15.12.2//NONSGML v1.0//EN
CALSCALE:GREGORIAN
METHOD:PUBLISH
X-ORIGINAL-URL:https://www.historyvictoria.org.au
X-WR-CALDESC:Events for Royal Historical Society of Victoria
REFRESH-INTERVAL;VALUE=DURATION:PT1H
X-Robots-Tag:noindex
X-PUBLISHED-TTL:PT1H
BEGIN:VTIMEZONE
TZID:Australia/Melbourne
BEGIN:STANDARD
TZOFFSETFROM:+1100
TZOFFSETTO:+1000
TZNAME:AEST
DTSTART:20190406T160000
END:STANDARD
BEGIN:DAYLIGHT
TZOFFSETFROM:+1000
TZOFFSETTO:+1100
TZNAME:AEDT
DTSTART:20191005T160000
END:DAYLIGHT
BEGIN:STANDARD
TZOFFSETFROM:+1100
TZOFFSETTO:+1000
TZNAME:AEST
DTSTART:20200404T160000
END:STANDARD
BEGIN:DAYLIGHT
TZOFFSETFROM:+1000
TZOFFSETTO:+1100
TZNAME:AEDT
DTSTART:20201003T160000
END:DAYLIGHT
BEGIN:STANDARD
TZOFFSETFROM:+1100
TZOFFSETTO:+1000
TZNAME:AEST
DTSTART:20210403T160000
END:STANDARD
BEGIN:DAYLIGHT
TZOFFSETFROM:+1000
TZOFFSETTO:+1100
TZNAME:AEDT
DTSTART:20211002T160000
END:DAYLIGHT
END:VTIMEZONE
BEGIN:VEVENT
DTSTART;TZID=Australia/Melbourne:20200217T140000
DTEND;TZID=Australia/Melbourne:20200218T190000
DTSTAMP:20260420T210145
CREATED:20200128T080042Z
LAST-MODIFIED:20200128T080217Z
UID:10000070-1581948000-1582052400@www.historyvictoria.org.au
SUMMARY:Translating European Culture to Colonial Melbourne: James Goold and his Legacies
DESCRIPTION:This international conference celebrates the conclusion of an Australian Research Council Discovery Project on Archbishop Goold and his patronage. Hosted by the project’s research team\, it brings a comparative dimension to our research with keynote contributions on the cultural visions of the Church in seventeenth-century Spain\, in nineteenth-century Canada\, and with Anglicanism in nineteenth-century Melbourne. It will present very recent research on religious orders in Australia\, Goold’s patronage of contemporary artists\, and the nineteenth architects who have contributed significant heritage buildings to the built environment of Melbourne and country Victoria. \n  \nFREE CONFERENCE \nREGISTRATION
URL:https://www.historyvictoria.org.au/event/translating-european-culture-to-colonial-melbourne-james-goold-and-his-legacies/
LOCATION:Newman College\, 887 Swanston St\, Parkville\, VIC\, 3052\, Australia
CATEGORIES:Victorian History Events
ATTACH;FMTTYPE=image/jpeg:https://www.historyvictoria.org.au/wp-content/uploads/2020/01/Goold.jpg
ORGANIZER;CN="University of Melbourne":MAILTO:jaynie@unimelb.edu.au
END:VEVENT
BEGIN:VEVENT
DTSTART;TZID=Australia/Melbourne:20200218T171500
DTEND;TZID=Australia/Melbourne:20200218T191500
DTSTAMP:20260420T210145
CREATED:20191111T074555Z
LAST-MODIFIED:20200217T205125Z
UID:10000052-1582046100-1582053300@www.historyvictoria.org.au
SUMMARY:John Marshall and Bounty Migration to Port Phillip
DESCRIPTION:Emeritus Professor Graeme Davison AO\, Chair of the History Council of Victoria\, will launch Dr Liz Rushen’s book\, John Marshall: Shipowner\, Lloyd’s reformer and emigration agent. \nAfter the launch\, Dr Rushen will deliver a paper which explores the significant role John Marshall played in the white settlement of the Port Phillip District. When Port Phillip was first opened up for settlement\, Marshall was Britain’s most active emigration agent: in the three years 1839-1841\, he sent 21 ships containing nearly 5000 bounty migrants to the new settlement. A major shipowner of London\, Marshall instigated reform of Lloyd’s Register of Shipping and established Britain’s first emigration depot at Plymouth\, but today his contributions to the shipowning and merchant worlds of the nineteenth century have been largely forgotten. \nDr Liz Rushen\, well-known to RHSV members\, is a Melbourne-based historian who has written extensively on nineteenth-century migration to Australia. \nDrinks are served in the Gallery Downstairs from 5:15pm\, with the launch / lecture starting at 5:30pm. Books will be available for purchase and signing by the author.  \nPenny Larkins from The Good Girl Song Project will also be performing at the launch.  \nImmigration was as controversial in the nineteenth century as it is today. Australia has a long history of migration and is considered one of the world’s great immigration success stories\, but this process has not been without cost. \nThis book tells the story of the most active emigration agent of the nineteenth-century: John Marshall. His influence can be read in the naming of the town Marshall\, outside Geelong\, Victoria\, and in the lives of the descendants of the thousands of people he assisted to migrate to the British colonies of New Zealand\, Canada and North America\, Cape Town and most importantly\, Australia. Marshall’s work also impacts the world today through Lloyd’s Register of Shipping. \nA brilliant strategist\, Marshall instigated a review of the classification of ships and the merger of the red and green registers used by Lloyd’s shipowners and underwriters\, and later established Britain’s first emigration depot at Plymouth. Enterprise was much-admired in the early to mid-nineteenth century and Marshall was one of the most active entrepreneurs of the period. He was a merchant-adventurer and superb logistician who read the marketplace and was prepared to move to a new start-up each time his finances dictated a fresh start: brokerage\, trade\, shipping\, emigration\, coal. \nMarshall had both the vision and analytical skills to achieve great things\, but he lacked business acumen or the personality to successfully carry through any of his undertakings. This book links the various facets of Marshall’s life from his humble beginnings to his impoverished end. It explains how an unknown insurance broker from the provinces could rise to be a key player in London’s ship owning and merchant world of the early nineteenth century. \n 
URL:https://www.historyvictoria.org.au/event/john-marshall-and-bounty-migration-to-port-phillip/
LOCATION:RHSV\, Gallery Downstairs\, 239 A'Beckett Street\, Melbourne\, VIC\, 3000\, Australia
CATEGORIES:What's On
ATTACH;FMTTYPE=image/jpeg:https://www.historyvictoria.org.au/wp-content/uploads/2019/11/AnchorBooks-John-Marshall-Cover-002-768x1098-LOWRES.jpg
ORGANIZER;CN="Royal Historical Society of Victoria":MAILTO:office@historyvictoria.org.au
GEO:-37.8107817;144.9562417
X-APPLE-STRUCTURED-LOCATION;VALUE=URI;X-ADDRESS=RHSV Gallery Downstairs 239 A'Beckett Street Melbourne VIC 3000 Australia;X-APPLE-RADIUS=500;X-TITLE=239 A'Beckett Street:geo:144.9562417,-37.8107817
END:VEVENT
END:VCALENDAR