BEGIN:VCALENDAR
VERSION:2.0
PRODID:-//Royal Historical Society of Victoria - ECPv6.15.12.2//NONSGML v1.0//EN
CALSCALE:GREGORIAN
METHOD:PUBLISH
X-WR-CALNAME:Royal Historical Society of Victoria
X-ORIGINAL-URL:https://www.historyvictoria.org.au
X-WR-CALDESC:Events for Royal Historical Society of Victoria
REFRESH-INTERVAL;VALUE=DURATION:PT1H
X-Robots-Tag:noindex
X-PUBLISHED-TTL:PT1H
BEGIN:VTIMEZONE
TZID:Australia/Melbourne
BEGIN:STANDARD
TZOFFSETFROM:+1100
TZOFFSETTO:+1000
TZNAME:AEST
DTSTART:20190406T160000
END:STANDARD
BEGIN:DAYLIGHT
TZOFFSETFROM:+1000
TZOFFSETTO:+1100
TZNAME:AEDT
DTSTART:20191005T160000
END:DAYLIGHT
BEGIN:STANDARD
TZOFFSETFROM:+1100
TZOFFSETTO:+1000
TZNAME:AEST
DTSTART:20200404T160000
END:STANDARD
BEGIN:DAYLIGHT
TZOFFSETFROM:+1000
TZOFFSETTO:+1100
TZNAME:AEDT
DTSTART:20201003T160000
END:DAYLIGHT
BEGIN:STANDARD
TZOFFSETFROM:+1100
TZOFFSETTO:+1000
TZNAME:AEST
DTSTART:20210403T160000
END:STANDARD
BEGIN:DAYLIGHT
TZOFFSETFROM:+1000
TZOFFSETTO:+1100
TZNAME:AEDT
DTSTART:20211002T160000
END:DAYLIGHT
END:VTIMEZONE
BEGIN:VEVENT
DTSTART;TZID=Australia/Melbourne:20200224T133000
DTEND;TZID=Australia/Melbourne:20200224T150000
DTSTAMP:20260420T192211
CREATED:20191126T015724Z
LAST-MODIFIED:20191126T015724Z
UID:10000058-1582551000-1582556400@www.historyvictoria.org.au
SUMMARY:Starting Family History
DESCRIPTION:The Genealogical Society of Victoria offers RHSV members & friends an introduction to the resources and skills needed to immerse yourself in family history. \nFor anyone contemplating researching their family this event is key. It is also of great interest for those undertaking more general research as family research skills and resources can be used to create histories for any characters\, not just your family. The GSV has not just an impressive research centre but it hosts a multitude of focused research groups which meet monthly to assist each other with knotty problems. As we all know family research is more than births\, deaths and marriages and good research skills and resources are needed to put flesh on bones. A couple of years ago the RHSV was fortunate to absorb some of the GSV’s library when they downsized and we will be hosting joint workshops and seminars throughout the year. \nThe two speakers will be Jenny Redman (current President) and David Down (immediate Past President) who will cover three topics: \n\nIntroduction to the GSV\nStarting family history\nDNA\n\nand ending with Q&A. \nThis event is limited to 15 so that David & Jenny have time to answer everyone’s questions.
URL:https://www.historyvictoria.org.au/event/starting-family-history/
LOCATION:Genealogical Society of Victoria\, Level 1\, 10 Queen Street\, Melbourne\, Victoria\, 3000\, Australia
CATEGORIES:What's On
ATTACH;FMTTYPE=image/jpeg:https://www.historyvictoria.org.au/wp-content/uploads/2019/08/GSV-Logo-Full-small.jpg
ORGANIZER;CN="Royal Historical Society of Victoria":MAILTO:office@historyvictoria.org.au
END:VEVENT
END:VCALENDAR