BEGIN:VCALENDAR
VERSION:2.0
PRODID:-//Royal Historical Society of Victoria - ECPv6.15.12.2//NONSGML v1.0//EN
CALSCALE:GREGORIAN
METHOD:PUBLISH
X-WR-CALNAME:Royal Historical Society of Victoria
X-ORIGINAL-URL:https://www.historyvictoria.org.au
X-WR-CALDESC:Events for Royal Historical Society of Victoria
REFRESH-INTERVAL;VALUE=DURATION:PT1H
X-Robots-Tag:noindex
X-PUBLISHED-TTL:PT1H
BEGIN:VTIMEZONE
TZID:Australia/Melbourne
BEGIN:STANDARD
TZOFFSETFROM:+1100
TZOFFSETTO:+1000
TZNAME:AEST
DTSTART:20190406T160000
END:STANDARD
BEGIN:DAYLIGHT
TZOFFSETFROM:+1000
TZOFFSETTO:+1100
TZNAME:AEDT
DTSTART:20191005T160000
END:DAYLIGHT
BEGIN:STANDARD
TZOFFSETFROM:+1100
TZOFFSETTO:+1000
TZNAME:AEST
DTSTART:20200404T160000
END:STANDARD
BEGIN:DAYLIGHT
TZOFFSETFROM:+1000
TZOFFSETTO:+1100
TZNAME:AEDT
DTSTART:20201003T160000
END:DAYLIGHT
BEGIN:STANDARD
TZOFFSETFROM:+1100
TZOFFSETTO:+1000
TZNAME:AEST
DTSTART:20210403T160000
END:STANDARD
BEGIN:DAYLIGHT
TZOFFSETFROM:+1000
TZOFFSETTO:+1100
TZNAME:AEDT
DTSTART:20211002T160000
END:DAYLIGHT
END:VTIMEZONE
BEGIN:VEVENT
DTSTART;TZID=Australia/Melbourne:20200229T100000
DTEND;TZID=Australia/Melbourne:20200229T120000
DTSTAMP:20260421T040156
CREATED:20200210T052342Z
LAST-MODIFIED:20200210T052342Z
UID:10000554-1582970400-1582977600@www.historyvictoria.org.au
SUMMARY:Box Hill Cemetery Tour
DESCRIPTION:To coincide with the beginning of Women’s History Month and International Women’s Day in March\, our tour will focus on women in Box Hill cemetery. We will visit the graves of a variety of women\, from nurses\, teachers and artists to pioneers of women’s organisations. Come along and learn about the part that some women have played in Victoria’s history.
URL:https://www.historyvictoria.org.au/event/box-hill-cemetery-tour/
LOCATION:Box Hill Cemetery\, 395 Middleborough Road\, Box Hill\, VIC\, 3128\, Australia
CATEGORIES:Victorian History Events
ATTACH;FMTTYPE=image/jpeg:https://www.historyvictoria.org.au/wp-content/uploads/2020/02/Box-Hill-Cemetery..jpg
ORGANIZER;CN="Box Hill Historical Society":MAILTO:boxhillhistory@gmail.com
END:VEVENT
END:VCALENDAR