BEGIN:VCALENDAR
VERSION:2.0
PRODID:-//Royal Historical Society of Victoria - ECPv6.15.12.2//NONSGML v1.0//EN
CALSCALE:GREGORIAN
METHOD:PUBLISH
X-WR-CALNAME:Royal Historical Society of Victoria
X-ORIGINAL-URL:https://www.historyvictoria.org.au
X-WR-CALDESC:Events for Royal Historical Society of Victoria
REFRESH-INTERVAL;VALUE=DURATION:PT1H
X-Robots-Tag:noindex
X-PUBLISHED-TTL:PT1H
BEGIN:VTIMEZONE
TZID:Australia/Melbourne
BEGIN:STANDARD
TZOFFSETFROM:+1100
TZOFFSETTO:+1000
TZNAME:AEST
DTSTART:20190406T160000
END:STANDARD
BEGIN:DAYLIGHT
TZOFFSETFROM:+1000
TZOFFSETTO:+1100
TZNAME:AEDT
DTSTART:20191005T160000
END:DAYLIGHT
BEGIN:STANDARD
TZOFFSETFROM:+1100
TZOFFSETTO:+1000
TZNAME:AEST
DTSTART:20200404T160000
END:STANDARD
BEGIN:DAYLIGHT
TZOFFSETFROM:+1000
TZOFFSETTO:+1100
TZNAME:AEDT
DTSTART:20201003T160000
END:DAYLIGHT
BEGIN:STANDARD
TZOFFSETFROM:+1100
TZOFFSETTO:+1000
TZNAME:AEST
DTSTART:20210403T160000
END:STANDARD
BEGIN:DAYLIGHT
TZOFFSETFROM:+1000
TZOFFSETTO:+1100
TZNAME:AEDT
DTSTART:20211002T160000
END:DAYLIGHT
END:VTIMEZONE
BEGIN:VEVENT
DTSTART;TZID=Australia/Melbourne:20200310T130000
DTEND;TZID=Australia/Melbourne:20200310T140000
DTSTAMP:20260420T192310
CREATED:20200303T074149Z
LAST-MODIFIED:20200303T074149Z
UID:10000081-1583845200-1583848800@www.historyvictoria.org.au
SUMMARY:Up from the vaults: As the River Flows
DESCRIPTION:The changing shape of Birrarung (Yarra River) \nIn the first outing of our ‘Up from the Vaults’ series for 2020\, Dr Liz Dean from the School of Social and Political Sciences will explore the significance of Birrarung (the Yarra River). \nIn 2017 the Victorian Government implemented the landmark Yarra River Protection Wilip-gin Birrarung murron Act 2017; legislation which recognises the Yarra River as a living entity and acknowledges the Wurundjeri Woi-wurrung people as its traditional custodians\, while also protecting the river for future generations. \n‘Wilip-gin Birrarung murron’ translates as ‘keep the Birrarung alive’ in Woi-wurrung; and significantly\, the act was the first legislation in Australia to be co-titled in a Traditional Owner language. \nWhile largely overlooked\, this Act can promote public discussions about Sovereignty. In granting the rights of the river\, the boundaries of ownership are put into question. It also creates a focus on Indigenous representations of the Birrarung/Yarra River and on Indigenous knowledge of and care for the river\, how rivers shape themselves and how the settler state altered the Yarra River. The early representations of this river help us begin to explore the diverse layers of the river and the spaces it occupies. \nImage: George William Perry ‘Princes Bridge and the Yarra in flood\, December’ 1863 albumen photograph The University of Melbourne Art Collection. Gift of the Russell and Mab Grimwade Bequest 1973
URL:https://www.historyvictoria.org.au/event/up-from-the-vaults-as-the-river-flows/
LOCATION:Old Quadrangle University of Melbourne\, First floor\, Parkville\, VIC\, 3052\, Australia
CATEGORIES:Victorian History Events
ATTACH;FMTTYPE=image/jpeg:https://www.historyvictoria.org.au/wp-content/uploads/2020/03/h6arl6y3jmpw2eibykhm.jpg
ORGANIZER;CN="Ian Potter Museum of Art":MAILTO:potter-events@unimelb.edu.au
END:VEVENT
BEGIN:VEVENT
DTSTART;TZID=Australia/Melbourne:20200310T173000
DTEND;TZID=Australia/Melbourne:20200310T193000
DTSTAMP:20260420T192310
CREATED:20200216T224514Z
LAST-MODIFIED:20200216T231718Z
UID:10000560-1583861400-1583868600@www.historyvictoria.org.au
SUMMARY:RHSV History Bookclub
DESCRIPTION:This will be the inaugural meeting of our History Bookclub. And the first book chosen is Chloe Hooper’s The Arsonist: A mind on fire.  \nThe bookclub will focus on Victorian history but there may be little deviations. It will be moderated at first but it is planned for it to be self-sufficient. We will organise occasional author visits and guest speakers. The group size will be capped. There will be monthly meetings – currently planned for the 2nd Tuesday of each month. A bookclub is\, of course\, focused on the book but the word ‘club’ in the title is there for a reason – we want these gatherings to be fun. \nIf you have queries\, please contact Rosemary / 9326 9288 / rosemary.cameron@historyvictoria.org.au \nThe Arsonist is available through the History Victoria Bookshop at the discounted price of $19 \nThe Arsonist was awarded a Judge’s Special Prize in the 2019 Victorian Community History Awards. The Judges’ citation is: \n“This powerful and suspenseful story of the 2009 bushfires in the Latrobe Valley is told from the perspectives of the police\, the victims\, the alleged perpetrator and his parents. The drama revolves around the accused\, Brendan Sokaluk from Churchill\, a social misfit with a cognitive disability. The author raises the issue as to what extent was he knowingly responsible for the inferno as she reflects on the nature of his disability and pyromania theories. \nThe backdrop is a disadvantaged community that experienced widespread unemployment after privatisation of the State’s energy grid and loss of community facilities at Yallourn and elsewhere owing to obeisance to coal mining. \nHooper uses a novelist’s skills to evoke the savage fury of the fire\, a monster unleashed on a hapless little community\, but her writing is anchored in fact; her sources are primarily the 2009 Victorian Bushfires Royal Commission and court records. Her creative narrative represents a compelling way of telling the history of a catastrophe.”
URL:https://www.historyvictoria.org.au/event/rhsv-history-bookclub/
LOCATION:RHSV\, Gordon Moffatt Room\, 239 A'Beckett St\, Melbourne\, VIC\, 3000\, Australia
CATEGORIES:What's On
ATTACH;FMTTYPE=image/jpeg:https://www.historyvictoria.org.au/wp-content/uploads/2020/02/Arsonist-scaled.jpg
ORGANIZER;CN="Royal Historical Society of Victoria":MAILTO:office@historyvictoria.org.au
END:VEVENT
END:VCALENDAR