BEGIN:VCALENDAR
VERSION:2.0
PRODID:-//Royal Historical Society of Victoria - ECPv6.15.12.2//NONSGML v1.0//EN
CALSCALE:GREGORIAN
METHOD:PUBLISH
X-ORIGINAL-URL:https://www.historyvictoria.org.au
X-WR-CALDESC:Events for Royal Historical Society of Victoria
REFRESH-INTERVAL;VALUE=DURATION:PT1H
X-Robots-Tag:noindex
X-PUBLISHED-TTL:PT1H
BEGIN:VTIMEZONE
TZID:Australia/Melbourne
BEGIN:STANDARD
TZOFFSETFROM:+1100
TZOFFSETTO:+1000
TZNAME:AEST
DTSTART:20190406T160000
END:STANDARD
BEGIN:DAYLIGHT
TZOFFSETFROM:+1000
TZOFFSETTO:+1100
TZNAME:AEDT
DTSTART:20191005T160000
END:DAYLIGHT
BEGIN:STANDARD
TZOFFSETFROM:+1100
TZOFFSETTO:+1000
TZNAME:AEST
DTSTART:20200404T160000
END:STANDARD
BEGIN:DAYLIGHT
TZOFFSETFROM:+1000
TZOFFSETTO:+1100
TZNAME:AEDT
DTSTART:20201003T160000
END:DAYLIGHT
BEGIN:STANDARD
TZOFFSETFROM:+1100
TZOFFSETTO:+1000
TZNAME:AEST
DTSTART:20210403T160000
END:STANDARD
BEGIN:DAYLIGHT
TZOFFSETFROM:+1000
TZOFFSETTO:+1100
TZNAME:AEDT
DTSTART:20211002T160000
END:DAYLIGHT
END:VTIMEZONE
BEGIN:VEVENT
DTSTART;TZID=Australia/Melbourne:20200315T140000
DTEND;TZID=Australia/Melbourne:20200315T150000
DTSTAMP:20260420T192640
CREATED:20200310T050437Z
LAST-MODIFIED:20200310T050437Z
UID:10000087-1584280800-1584284400@www.historyvictoria.org.au
SUMMARY:Ceremony to unveil a plaque to the Sparrow family
DESCRIPTION:Tony Wright wrote a terrific article in The Age on Saturday 7 March\, The Sparrows fell\, and the town won’t forget. It tells of the big flood of March 1946 when Hamilton\, Casterton\, Heywood\, Portland\, Port Fairy and Warrnambool and all the villages in between were engulfed by floods. \nOn Sunday 15 March at 2pm a ceremony will be held at the entrance to the Old Sparrow farm on Lake Gorrie Road\, south of Macarthur\, to unveil a bluestone plaque to mark the day when a whole family\, the Sparrows\, drowned. \nOrganised by the Macarthur & District Historical Society. (03) 55761221 \nTony’s article can be read here
URL:https://www.historyvictoria.org.au/event/ceremony-to-unveil-a-plaque-to-the-sparrow-family/
LOCATION:Sparrow Farm\, Lake Gorrie Road\, Macarthur\, VIC\, 3286\, Australia
CATEGORIES:Victorian History Events
ATTACH;FMTTYPE=image/jpeg:https://www.historyvictoria.org.au/wp-content/uploads/2020/03/flood8.jpg
END:VEVENT
END:VCALENDAR