BEGIN:VCALENDAR
VERSION:2.0
PRODID:-//Royal Historical Society of Victoria - ECPv6.15.12.2//NONSGML v1.0//EN
CALSCALE:GREGORIAN
METHOD:PUBLISH
X-ORIGINAL-URL:https://www.historyvictoria.org.au
X-WR-CALDESC:Events for Royal Historical Society of Victoria
REFRESH-INTERVAL;VALUE=DURATION:PT1H
X-Robots-Tag:noindex
X-PUBLISHED-TTL:PT1H
BEGIN:VTIMEZONE
TZID:Australia/Melbourne
BEGIN:STANDARD
TZOFFSETFROM:+1100
TZOFFSETTO:+1000
TZNAME:AEST
DTSTART:20190406T160000
END:STANDARD
BEGIN:DAYLIGHT
TZOFFSETFROM:+1000
TZOFFSETTO:+1100
TZNAME:AEDT
DTSTART:20191005T160000
END:DAYLIGHT
BEGIN:STANDARD
TZOFFSETFROM:+1100
TZOFFSETTO:+1000
TZNAME:AEST
DTSTART:20200404T160000
END:STANDARD
BEGIN:DAYLIGHT
TZOFFSETFROM:+1000
TZOFFSETTO:+1100
TZNAME:AEDT
DTSTART:20201003T160000
END:DAYLIGHT
BEGIN:STANDARD
TZOFFSETFROM:+1100
TZOFFSETTO:+1000
TZNAME:AEST
DTSTART:20210403T160000
END:STANDARD
BEGIN:DAYLIGHT
TZOFFSETFROM:+1000
TZOFFSETTO:+1100
TZNAME:AEDT
DTSTART:20211002T160000
END:DAYLIGHT
END:VTIMEZONE
BEGIN:VEVENT
DTSTART;TZID=Australia/Melbourne:20200317T171500
DTEND;TZID=Australia/Melbourne:20200317T190000
DTSTAMP:20260420T105846
CREATED:20200131T025938Z
LAST-MODIFIED:20200315T062339Z
UID:10000076-1584465300-1584471600@www.historyvictoria.org.au
SUMMARY:What the Little Bird didn't tell me
DESCRIPTION:Due to the COVID-19 restrictions we have regretfully decided to postpone this event and our other large events in April. We hope to reschedule later in the year.\nThose who have already booked will receive a full refund.\nTwenty years ago I wrote a book that documented a journey I had been on for over a decade. The book was A Little Bird Told: Family Secrets\, Necessary Lives. This book represented a journey of discovery where I located my Aboriginal ancestors and answered a number of questions that had dogged my family for generations. Along the way\, I discovered a story of secrets and lies\, of madness\, and refuge.  In this talk\, I will reflect on this book nearly 20 years later with a focus on the importance of women as the keepers and tellers of family stories. In so doing I will consider the reasons why I wrote the book\, what impact it had at the time and its ongoing influence. I hope that these reflections might have something to say to other family historians. I want to question whether there are there some family secrets and necessary lies that should never be told? \nProfessor Lynette Russell AM is an award-winning historian and Indigenous studies scholar. In 2020 she is taking up an Australian Research Council’s Laureate Fellowship to examine Global Encounters and First Nations People: 1000 Years of Australian History. \n 
URL:https://www.historyvictoria.org.au/event/what-the-little-bird-didnt-tell-me/
LOCATION:RHSV ZOOM by Invitation\, Australia
CATEGORIES:Distinguished Lecturer Series,What's On
ATTACH;FMTTYPE=image/jpeg:https://www.historyvictoria.org.au/wp-content/uploads/2020/01/Lynette-Russell-portrait-med-res-scaled.jpg
ORGANIZER;CN="Royal Historical Society of Victoria":MAILTO:office@historyvictoria.org.au
GEO:-37.8107817;144.9562417
END:VEVENT
END:VCALENDAR