BEGIN:VCALENDAR
VERSION:2.0
PRODID:-//Royal Historical Society of Victoria - ECPv6.15.12.2//NONSGML v1.0//EN
CALSCALE:GREGORIAN
METHOD:PUBLISH
X-WR-CALNAME:Royal Historical Society of Victoria
X-ORIGINAL-URL:https://www.historyvictoria.org.au
X-WR-CALDESC:Events for Royal Historical Society of Victoria
REFRESH-INTERVAL;VALUE=DURATION:PT1H
X-Robots-Tag:noindex
X-PUBLISHED-TTL:PT1H
BEGIN:VTIMEZONE
TZID:Australia/Melbourne
BEGIN:STANDARD
TZOFFSETFROM:+1100
TZOFFSETTO:+1000
TZNAME:AEST
DTSTART:20190406T160000
END:STANDARD
BEGIN:DAYLIGHT
TZOFFSETFROM:+1000
TZOFFSETTO:+1100
TZNAME:AEDT
DTSTART:20191005T160000
END:DAYLIGHT
BEGIN:STANDARD
TZOFFSETFROM:+1100
TZOFFSETTO:+1000
TZNAME:AEST
DTSTART:20200404T160000
END:STANDARD
BEGIN:DAYLIGHT
TZOFFSETFROM:+1000
TZOFFSETTO:+1100
TZNAME:AEDT
DTSTART:20201003T160000
END:DAYLIGHT
BEGIN:STANDARD
TZOFFSETFROM:+1100
TZOFFSETTO:+1000
TZNAME:AEST
DTSTART:20210403T160000
END:STANDARD
BEGIN:DAYLIGHT
TZOFFSETFROM:+1000
TZOFFSETTO:+1100
TZNAME:AEDT
DTSTART:20211002T160000
END:DAYLIGHT
END:VTIMEZONE
BEGIN:VEVENT
DTSTART;TZID=Australia/Melbourne:20200401T110000
DTEND;TZID=Australia/Melbourne:20200730T150000
DTSTAMP:20260421T040155
CREATED:20200308T091311Z
LAST-MODIFIED:20200415T075127Z
UID:10000084-1585738800-1596121200@www.historyvictoria.org.au
SUMMARY:Our Chinese Community
DESCRIPTION:Please contact the organiser before attending this event in case it has been cancelled. \nOur Chinese Community Exhibition opens daily from 1st April 11am till 3pm at Echuca Historical Society Museum\, 1 Dickson Street Echuca 3564\nThis exhibition tells the story of some of our earliest residents the Chinese. Find out why our first Chinese residents made Echuca home.\nChinese market gardeners arrived in Echuca in April 1865 and by 1892 there were seventeen different Chinese paying rates on land. Others had experience as bankers\, storekeepers and interpreters\, general labourers and even a river boat owner/captain.\nThere were many marriages between white women and Chinese men on the goldfields and then in towns to where the miners moved when the gold failed. Find out about the burning tower.
URL:https://www.historyvictoria.org.au/event/our-chinese-community/
LOCATION:ECHUCA HISTORICAL SCOEITY MUSEUM\, 1 Dickson Street\, Echuca\, victoria\, 3564\, Australia
ATTACH;FMTTYPE=image/jpeg:https://www.historyvictoria.org.au/wp-content/uploads/2020/03/Water-wheel-in-operation.jpg
ORGANIZER;CN="ECHUCA HISTORICAL SOCIETY":MAILTO:eh.soc@bigpond.com
END:VEVENT
END:VCALENDAR