BEGIN:VCALENDAR
VERSION:2.0
PRODID:-//Royal Historical Society of Victoria - ECPv6.15.12.2//NONSGML v1.0//EN
CALSCALE:GREGORIAN
METHOD:PUBLISH
X-WR-CALNAME:Royal Historical Society of Victoria
X-ORIGINAL-URL:https://www.historyvictoria.org.au
X-WR-CALDESC:Events for Royal Historical Society of Victoria
REFRESH-INTERVAL;VALUE=DURATION:PT1H
X-Robots-Tag:noindex
X-PUBLISHED-TTL:PT1H
BEGIN:VTIMEZONE
TZID:Australia/Melbourne
BEGIN:STANDARD
TZOFFSETFROM:+1100
TZOFFSETTO:+1000
TZNAME:AEST
DTSTART:20200404T160000
END:STANDARD
BEGIN:DAYLIGHT
TZOFFSETFROM:+1000
TZOFFSETTO:+1100
TZNAME:AEDT
DTSTART:20201003T160000
END:DAYLIGHT
BEGIN:STANDARD
TZOFFSETFROM:+1100
TZOFFSETTO:+1000
TZNAME:AEST
DTSTART:20210403T160000
END:STANDARD
BEGIN:DAYLIGHT
TZOFFSETFROM:+1000
TZOFFSETTO:+1100
TZNAME:AEDT
DTSTART:20211002T160000
END:DAYLIGHT
BEGIN:STANDARD
TZOFFSETFROM:+1100
TZOFFSETTO:+1000
TZNAME:AEST
DTSTART:20220402T160000
END:STANDARD
BEGIN:DAYLIGHT
TZOFFSETFROM:+1000
TZOFFSETTO:+1100
TZNAME:AEDT
DTSTART:20221001T160000
END:DAYLIGHT
END:VTIMEZONE
BEGIN:VEVENT
DTSTART;TZID=Australia/Melbourne:20210225T170000
DTEND;TZID=Australia/Melbourne:20210225T200000
DTSTAMP:20260421T123920
CREATED:20210111T045453Z
LAST-MODIFIED:20210218T035744Z
UID:10000646-1614272400-1614283200@www.historyvictoria.org.au
SUMMARY:BOOK FAIR
DESCRIPTION:We have been forced to delay the Book Fair because of the latest lockdown. The updated dates appear below. \nEvery year the RHSV hosts a fabulous second-hand history book fair where we sell history books of every imaginable genre. Victorian and Australian history dominate but you’ll find biographies and memoirs\, military history\, art history\, natural history\, classics\, children’s books\, political and social history\, literary history etc \nThere wasn’t a book fair in 2020 so the Drill Hall is bursting at the seams with accumulated donations of books from members and friends: professional and professorial libraries being downsized\, private\, public and educational libraries deaccessioning and old books making way for new. Books are priced to go – we don’t want any books left behind! A COVID silver-lining has to be that everyone Marie-Kondo’ed their libraries in 2020 and we’ve benefited. \nAt the 2021 Book Fair we are honoured to offer the Les Blake Collection for sale. Leslie Bamford James Blake\, O.B.E.\, B.A. Melb.\, M.Ed. Melb.\, F.A.C.E.\, F.R.S.H.V.\, F.I.B.A. was born at Bendigo (Vic.) on 5 March 1913 and died 4 June 1987 at Karingal. A long-time member of the Victorian Education Department\, during which he was an Inspector of Schools (1958-1972)\, and official historian of the Department (1966-1974)\, after which he became Victoria’s State Historian. He made major contributions to the Australian Dictionary of Biography and served in the Australian Army Signal Corps of the A.I.F. during WWII. He was President of the R.H.S.V. from 1966-1971 and Foundation President of the Western Victorian Association of historical Societies (1963-1964). \nThe Book Fair is open to the public however it kicks off with a Members-only night on Thursday 25th Feb from 5pm – 8pm. The fair then remains open to the public on Friday 26th\, Saturday 27th February and Monday 1st March (9am – 5pm except Saturday which is 10am – 4pm).
URL:https://www.historyvictoria.org.au/event/book-fair-2/
LOCATION:RHSV\, Gallery Downstairs\, 239 A'Beckett Street\, Melbourne\, VIC\, 3000\, Australia
CATEGORIES:What's On
ATTACH;FMTTYPE=image/jpeg:https://www.historyvictoria.org.au/wp-content/uploads/2019/05/Books-3-edited.jpg
ORGANIZER;CN="Royal Historical Society of Victoria":MAILTO:office@historyvictoria.org.au
GEO:-37.8107817;144.9562417
X-APPLE-STRUCTURED-LOCATION;VALUE=URI;X-ADDRESS=RHSV Gallery Downstairs 239 A'Beckett Street Melbourne VIC 3000 Australia;X-APPLE-RADIUS=500;X-TITLE=239 A'Beckett Street:geo:144.9562417,-37.8107817
END:VEVENT
END:VCALENDAR