BEGIN:VCALENDAR
VERSION:2.0
PRODID:-//Royal Historical Society of Victoria - ECPv6.15.12.2//NONSGML v1.0//EN
CALSCALE:GREGORIAN
METHOD:PUBLISH
X-ORIGINAL-URL:https://www.historyvictoria.org.au
X-WR-CALDESC:Events for Royal Historical Society of Victoria
REFRESH-INTERVAL;VALUE=DURATION:PT1H
X-Robots-Tag:noindex
X-PUBLISHED-TTL:PT1H
BEGIN:VTIMEZONE
TZID:Australia/Melbourne
BEGIN:STANDARD
TZOFFSETFROM:+1100
TZOFFSETTO:+1000
TZNAME:AEST
DTSTART:20210403T160000
END:STANDARD
BEGIN:DAYLIGHT
TZOFFSETFROM:+1000
TZOFFSETTO:+1100
TZNAME:AEDT
DTSTART:20211002T160000
END:DAYLIGHT
BEGIN:STANDARD
TZOFFSETFROM:+1100
TZOFFSETTO:+1000
TZNAME:AEST
DTSTART:20220402T160000
END:STANDARD
BEGIN:DAYLIGHT
TZOFFSETFROM:+1000
TZOFFSETTO:+1100
TZNAME:AEDT
DTSTART:20221001T160000
END:DAYLIGHT
BEGIN:STANDARD
TZOFFSETFROM:+1100
TZOFFSETTO:+1000
TZNAME:AEST
DTSTART:20230401T160000
END:STANDARD
BEGIN:DAYLIGHT
TZOFFSETFROM:+1000
TZOFFSETTO:+1100
TZNAME:AEDT
DTSTART:20230930T160000
END:DAYLIGHT
END:VTIMEZONE
BEGIN:VEVENT
DTSTART;VALUE=DATE:20220331
DTEND;VALUE=DATE:20221224
DTSTAMP:20260424T180152
CREATED:20220320T070712Z
LAST-MODIFIED:20220320T070927Z
UID:10000281-1648684800-1671839999@www.historyvictoria.org.au
SUMMARY:KALEIDOSCOPE
DESCRIPTION:This exhibition is biography imagined through the lens of a Kaleidoscope. The viewer is offered fragments of the lives represented here. There is no linear narrative. Each time the kaleidoscope turns\, a different story emerges. There are repeating patterns but different emphases and new ways of seeing\, new reflections\, new refractions. No one story dominates and one story does not fit all. \nin 2021\, during Women’s History Month we launched the RHSV Women’s Biographical Dictionary\, an online resource which builds profiles of women who have been involved in the RHSV over its 113 year history. This project is the work of Dr Cheryl Griffin and from this online resource\, Cheryl has curated Kaleidoscope\, launched in March 2022 by Judi Maddigan\, which looks at the lives of 50 of those important women. \nCURATOR: DR CHERYL GRIFFIN\nEXHIBITION DESIGNER: KATRIN STROHL\nEXHIBITION PRODUCTION: DR DAVID THOMPSON & HELEN STITT\nThe exhibition is opened Monday – Friday (excluding public holidays) from 9am-5pm and entry is free-of-charge.
URL:https://www.historyvictoria.org.au/event/kaleidoscope/
LOCATION:RHSV Gallery Downstairs\, 239 A'Beckett St\, Melbourne\, Victoria\, 3000\, Australia
CATEGORIES:Exhibition
ATTACH;FMTTYPE=image/jpeg:https://www.historyvictoria.org.au/wp-content/uploads/2022/02/Kaleidoscope.jpeg
ORGANIZER;CN="Royal Historical Society of Victoria":MAILTO:office@historyvictoria.org.au
END:VEVENT
BEGIN:VEVENT
DTSTART;TZID=Australia/Melbourne:20220731T100000
DTEND;TZID=Australia/Melbourne:20220731T160000
DTSTAMP:20260424T180152
CREATED:20220718T062352Z
LAST-MODIFIED:20220727T234348Z
UID:10000782-1659261600-1659283200@www.historyvictoria.org.au
SUMMARY:OPEN HOUSE MELBOURNE
DESCRIPTION:On Sunday 31st of July\, as part of Open House Melbourne\, we will be offering free guided tours of the Australian Army Medical Corps Drill Hall which is now home to the RHSV and several performing arts companies. \nIn light of the upsurge in COVID cases we ask that everyone taking a tour wears a mask. We will have masks available if people forget. This is an OH&S decision by the RHSV Council to protect our staff and volunteers in their workplace.  \nOur wonderful building is an art deco masterpiece built in 1938 as Australia and the rest of the world readied themselves for another world war. \nFrom 10am until 4pm we will be offering guided tours every 30 minutes (starting at 10am\, 10:30am etc). We will also have tea/coffee on tap for those of you rushing around on a tight schedule. \n\n\n\n\nThe featured materials in this late 1930s art deco building are high quality brick and plaster work with strong vertical and horizontal lines\, fluted pilasters\, arches\, keystones\, coffered ceilings\, built-in seats and Dutch (or stable) doors. Many of the original features are still in place. \nFunctional and utilitarian\, the building has two large drill halls with offices along their northern side. The halls are separated by a public entrance foyer which leads off A’Beckett Street. Messes are placed at the centre – for sergeants – and at the east and west ends of the building – for ‘other ranks’ and officers respectively. \nThe drill hall had a number of functions: as an indoor parade ground for marching and equipment drill; a gymnasium and for physical training; a social centre offering activities such as dances\, film nights etc\, and for displays. The mezzanine (the ceiling of a row of offices) allows for observation of the activities on the floor of the hall. The ceiling design itself is reminiscent of suburban cinemas of the time. \nBy 1990 the Army Medical Corps Drill Hall had been added to the Historic Building register for its state-wide architectural and historical significance. The western end of the building became the premises of the Royal Historical Society of Victoria in August 1999. \n\n\n\n\n\n\n\nBookings are not necessary. Tours are limited to 12 persons and\, if needed\, we’ll have more than one tour embarking at the same time.
URL:https://www.historyvictoria.org.au/event/open-house-melbourne/
LOCATION:Royal Historical Society of Victoria\, 239 A'Beckett St\, Melbourne\, VIC\, 3000\, Australia
CATEGORIES:What's On
ATTACH;FMTTYPE=image/jpeg:https://www.historyvictoria.org.au/wp-content/uploads/2022/07/Drill-Hall.jpg
ORGANIZER;CN="Royal Historical Society of Victoria":MAILTO:office@historyvictoria.org.au
END:VEVENT
BEGIN:VEVENT
DTSTART;TZID=Australia/Melbourne:20220731T110000
DTEND;TZID=Australia/Melbourne:20220731T153000
DTSTAMP:20260424T180152
CREATED:20220425T010352Z
LAST-MODIFIED:20220425T012004Z
UID:10000291-1659265200-1659281400@www.historyvictoria.org.au
SUMMARY:Open House weekend: guided historical tours of Brighton Cemetery
DESCRIPTION:Open House Melbourne – July 30th & 31st  \nThe Brighton Cemetery is over 160 years old and full of notable people that made Melbourne memorable: Sir John Monash; Carlo Catani – Civil Engineer; Charles Ogg\, Architect; George Frederick Ballantyne\, Architect; and William Guilfoyle\, Landscape Gardener and Botanist are but a few of the many people who lie resting within the walls of the cemetery. A self-paced walk around the notable internments and a short formal tour led by the Brighton Cemetorians are available on both Saturday and Sunday.  Short Guided Tours at 11am\, 12pm\, 1pm and 2pm on both days.
URL:https://www.historyvictoria.org.au/event/open-house-weekend-guided-historical-tours-of-brighton-cemetery/2022-07-31/
LOCATION:Brighton General Cemetery\, North Road\, Caulfield South\, Victoria\, 3162\, Australia
CATEGORIES:Victorian History Events
ATTACH;FMTTYPE=image/jpeg:https://www.historyvictoria.org.au/wp-content/uploads/2022/04/Brighton-Cemetery.jpg
ORGANIZER;CN="Brighton Cemetorians Inc":MAILTO:info@brightoncemetorians.org
GEO:-37.9020795;145.0247069
X-APPLE-STRUCTURED-LOCATION;VALUE=URI;X-ADDRESS=Brighton General Cemetery North Road Caulfield South Victoria 3162 Australia;X-APPLE-RADIUS=500;X-TITLE=North Road:geo:145.0247069,-37.9020795
END:VEVENT
END:VCALENDAR