BEGIN:VCALENDAR
VERSION:2.0
PRODID:-//Royal Historical Society of Victoria - ECPv6.15.12.2//NONSGML v1.0//EN
CALSCALE:GREGORIAN
METHOD:PUBLISH
X-ORIGINAL-URL:https://www.historyvictoria.org.au
X-WR-CALDESC:Events for Royal Historical Society of Victoria
REFRESH-INTERVAL;VALUE=DURATION:PT1H
X-Robots-Tag:noindex
X-PUBLISHED-TTL:PT1H
BEGIN:VTIMEZONE
TZID:Australia/Melbourne
BEGIN:STANDARD
TZOFFSETFROM:+1100
TZOFFSETTO:+1000
TZNAME:AEST
DTSTART:20210403T160000
END:STANDARD
BEGIN:DAYLIGHT
TZOFFSETFROM:+1000
TZOFFSETTO:+1100
TZNAME:AEDT
DTSTART:20211002T160000
END:DAYLIGHT
BEGIN:STANDARD
TZOFFSETFROM:+1100
TZOFFSETTO:+1000
TZNAME:AEST
DTSTART:20220402T160000
END:STANDARD
BEGIN:DAYLIGHT
TZOFFSETFROM:+1000
TZOFFSETTO:+1100
TZNAME:AEDT
DTSTART:20221001T160000
END:DAYLIGHT
BEGIN:STANDARD
TZOFFSETFROM:+1100
TZOFFSETTO:+1000
TZNAME:AEST
DTSTART:20230401T160000
END:STANDARD
BEGIN:DAYLIGHT
TZOFFSETFROM:+1000
TZOFFSETTO:+1100
TZNAME:AEDT
DTSTART:20230930T160000
END:DAYLIGHT
END:VTIMEZONE
BEGIN:VEVENT
DTSTART;VALUE=DATE:20220331
DTEND;VALUE=DATE:20221224
DTSTAMP:20260423T062602
CREATED:20220320T070712Z
LAST-MODIFIED:20220320T070927Z
UID:10000281-1648684800-1671839999@www.historyvictoria.org.au
SUMMARY:KALEIDOSCOPE
DESCRIPTION:This exhibition is biography imagined through the lens of a Kaleidoscope. The viewer is offered fragments of the lives represented here. There is no linear narrative. Each time the kaleidoscope turns\, a different story emerges. There are repeating patterns but different emphases and new ways of seeing\, new reflections\, new refractions. No one story dominates and one story does not fit all. \nin 2021\, during Women’s History Month we launched the RHSV Women’s Biographical Dictionary\, an online resource which builds profiles of women who have been involved in the RHSV over its 113 year history. This project is the work of Dr Cheryl Griffin and from this online resource\, Cheryl has curated Kaleidoscope\, launched in March 2022 by Judi Maddigan\, which looks at the lives of 50 of those important women. \nCURATOR: DR CHERYL GRIFFIN\nEXHIBITION DESIGNER: KATRIN STROHL\nEXHIBITION PRODUCTION: DR DAVID THOMPSON & HELEN STITT\nThe exhibition is opened Monday – Friday (excluding public holidays) from 9am-5pm and entry is free-of-charge.
URL:https://www.historyvictoria.org.au/event/kaleidoscope/
LOCATION:RHSV Gallery Downstairs\, 239 A'Beckett St\, Melbourne\, Victoria\, 3000\, Australia
CATEGORIES:Exhibition
ATTACH;FMTTYPE=image/jpeg:https://www.historyvictoria.org.au/wp-content/uploads/2022/02/Kaleidoscope.jpeg
ORGANIZER;CN="Royal Historical Society of Victoria":MAILTO:office@historyvictoria.org.au
END:VEVENT
BEGIN:VEVENT
DTSTART;TZID=Australia/Melbourne:20220817T093000
DTEND;TZID=Australia/Melbourne:20220817T170000
DTSTAMP:20260423T062602
CREATED:20220715T062653Z
LAST-MODIFIED:20220715T062653Z
UID:10000780-1660728600-1660755600@www.historyvictoria.org.au
SUMMARY:Wodonga Family History Society: Life on the Lake
DESCRIPTION:Join us for “Life on the Lake” \nAn inside look at what life was like around Lake Moodemere\, Rutherglen and the Carlyle Cemetery \nWHEN:     Wednesday 17th August 2022 \nWHERE:  Meet at Pfeiffer’s Wines:   167 Distillery Road\, Wahgunyah Vic 3687 \nTIME:        9.30 am \nAGENDA:      \n\nUsing own transportation; follow the guides for a view of Lake Moodemere and the old Lake Moodemere school site.\nAfter viewing the lake return to Pfeiffer’s Winery for Morning Tea\nGuest Speaker: Nyree Wiggins – Historian and Genealogist “Early life on and around Lake Moodemere” – The people and places past.\nLunch – Pfeiffer’s Winery  – History of Pfeiffer’s\nTour of the Carlyle Cemetery: guided by Nyree Wiggins\nRutherglen Historical Society – Common School Museum\n\n Optional – Afternoon Tea –  Caffeine n Machine  Rutherglen \nCOST:  $45 per head \nBOOKINGS: Essential  and paid by 10th August 2022 \nTo Book   Email – secretary@wodongafamilyhistorysociety.org  or Phone  60563220    0447035725 \nPlease bring warm clothing and substantial footwear – Carlyle Cemetery is fairly flat but has rough patches.
URL:https://www.historyvictoria.org.au/event/wodonga-family-history-society-life-on-the-lake/
LOCATION:167 Distillery Road\, Wahgunyah\, VIC 3687\, 167 Distillery Road\, Wahgunyah\, VIC\, 3687\, Australia
CATEGORIES:Victorian History Events
ATTACH;FMTTYPE=image/png:https://www.historyvictoria.org.au/wp-content/uploads/2022/07/wodonga-family-hs-event.png
END:VEVENT
BEGIN:VEVENT
DTSTART;TZID=Australia/Melbourne:20220817T120000
DTEND;TZID=Australia/Melbourne:20220817T130000
DTSTAMP:20260423T062602
CREATED:20220811T083544Z
LAST-MODIFIED:20220811T083620Z
UID:10000796-1660737600-1660741200@www.historyvictoria.org.au
SUMMARY:What’s behind discovery?
DESCRIPTION:Popular histories of science often tell a story of progress based around great ideas and great individuals. However\, historians and philosophers of science have long pointed to the other factors that are involved – social structures\, economic forces and the combined talents of many people. \nJoin us for this special History and Philosophy of Science Seminar to explore the factors that lie behind scientific discovery\, in conversation with historian of quantum mechanics\, Kristian Camilleri\, and particle physicist Suzie Sheehy\, author of “the matter of Everything: Twelve experiments that changed our world”. Kristian has an interest in how personality shapes the progress of science\, and Suzie’s book focuses on the material nature of experiments as well as the contribution of often-unsung women in science. \nTogether they will go behind the common ‘great man’ stories of science to explore the nature of discovery. \nThe History and Philosophy of Science program at the University of Melbourne is one of the oldest HPS departments in the world. In today’s world\, understanding how science works is more important than ever. \nThis event is also being broadcast online: \nhttps://unimelb.zoom.us/j/88607428680?pwd=WjBEblhVQi9MTTZuRmlQYU9hNU5MZz09 Password: 508772 \n\nFor more information click here \n\n\n\n\n\n\n\n\n\nPRESENTERS\n\nSENIOR LECTURER IN MEDICAL ACCELERATOR PHYSICS\, UNIVERSITY OF MELBOURNE\n\n\nDr Suzie Sheehy obtained a first-class honours degree in physics from the University of Melbourne in her native Australia in 2006\, before completing a DPhil at the University of Oxford in 2010. During her DPhil she worked on designing a new type of particle accelerator for cancer treatment using protons and light ions\, as part of the Particle Accelerator for MEdicaL Applications or ‘PAMELA’ project\, under the supervision of Prof. Ken Peach. \nShe was then awarded the prestigious 2010 Brunel Research Fellowship from the Royal Commission for the Exhibition of 1851 and from 2010 to 2013 was based in the ASTeC Intense Beams Group at the STFC Rutherford Appleton Lab in Oxfordshire. Here she worked on designing new and challenging high power proton accelerators for future applications\, based on the ‘Fixed Field Alternating Gradient’ accelerator principle. \nFrom November 2013 to March 2015\, she was a Senior Accelerator Physicist in the ASTeC Intense Beams Group\, developing research collaborations with groups in Japan and focusing on several aspects of fundamental beam physics\, novel high intensity hadron accelerators and accelerator characterisation. \nDr Sheehy joined Oxford Physics in April 2015 on a joint appointment with STFC/ASTeC to continue her research on the topic of high-power hadron accelerators and to further contribute to the John Adams Institute training and education programmes. From October 2017\, she is a Royal Society University Research Fellow in Oxford Physics. You can learn more about her research and collaborations here. \nAlongside her research\, Dr Sheehy is passionate about the promotion and communication of science\, for which she has received several awards. In 2010 she received the esteemed British Science Association Lord Kelvin Award and the University of Oxford Vice Chancellors Civic Award for her work in presenting science to school and public audiences. Dr Sheehy is regularly invited to present lectures at the Royal Institution\, Institute of Physics and other venues. In 2014 and 2015 she co-presented large headline shows at the Big Bang Fair to audiences totaling 12\,000 people each year alongside TV presenter and food writer \n\n\n\n\n\n\n  \n\n\n\n\nSENIOR LECTURER\nHISTORICAL AND PHILOSOPHICAL STUDIES\n\n\nDr Kristian Camilleri is a lecturer in the History and Philosophy of Science program in the School of Historical and Philosophical Studies. After studying physics and HPS at Melbourne University\, he completed his PhD in HPS at Melbourne University in 2005. \nKristian has published in the history and philosophy of modern physics\, and has collaborated with other scholars from around the world on the History and Foundations of Quantum Physics project. In 2009 he published a book entitled ‘Heisenberg and the Interpretation of Quantum Mechanics: The Physicist as Philosopher’ with Cambridge University Press. \nHis research interests include the interpretations of quantum mechanics\, the interplay between culture\, philosophy and physics in the first half of the twentieth century\, the structure of thought experiments in science and and the changing role of ‘popular science’ in the scientific culture of the late nineteenth and twentieth centuries. \nKristian has taught across a range of subjects in HPS ranging from the history of science\, social studies of technology\, and the philosophy of science. He has supervised postgraduate students working in a variety of areas including the history of modern physics\, philosophy of science and social theory. He currently teaches an introductory history of science first year subject called ‘From Plato to Einstein’\, a second year subject ‘Gd and the Natural Sciences’ with Rev Dr Stephen Ames\, and the third year HPS capstone subject ‘Knowledge in the Making’.
URL:https://www.historyvictoria.org.au/event/whats-behind-discovery/
LOCATION:ZOOM\, Join from anywhere in the world
CATEGORIES:Victorian History Events
ATTACH;FMTTYPE=image/jpeg:https://www.historyvictoria.org.au/wp-content/uploads/2022/08/4633_Whats_behind_discovery.jpg
ORGANIZER;CN="School of Historical and Philosophical Studies":MAILTO:shaps-events-admin@unimelb.edu.au
END:VEVENT
BEGIN:VEVENT
DTSTART;TZID=Australia/Melbourne:20220817T140000
DTEND;TZID=Australia/Melbourne:20220817T150000
DTSTAMP:20260423T062602
CREATED:20220728T230512Z
LAST-MODIFIED:20220731T063516Z
UID:10000319-1660744800-1660748400@www.historyvictoria.org.au
SUMMARY:No Ordinary Convict
DESCRIPTION:It is Family History Month at Yarra Plenty Regional Library. or much of her life\, Janine Marshall Wood\, a former English\, History and French teacher\, has been gripped by the remarkable story of John Hughes\, his leadership in the Rebecca Riots\, his convict years and life afterwards in Tasmania. She has retold this tale countless times to audiences of all ages throughout Australia – sometimes even in French. \nThe Rebecca Riots (1839–1844)\, a protest movement that galvanised and amused much of the Western world\, was known for its audaciousness and humour. Their aim was to alleviate the hardship of unfair tollgate charges in rural Wales. One of its leaders (or Rebeccas) was John Hughes (Jac Ty-isha)\, who is the subject of Janine’s recent book “No ordinary convict: a Welshman called Rebecca”. \n“No Ordinary Convict: a Welshman called Rebecca” addresses the context from which this extraordinary movement arose and then traces John Hughes’ background\, arrest\, trial\, petitions for freedom and voyage to Van Diemen’s Land. Simultaneously\, and throughout the entire book\, there are comparisons and contrasts between other Rebeccaites and the entire convict population. \nCopies of “No ordinary convict: a Welshman called Rebecca” will be available for sale. \nImage: Painting by John Wynne Hopkins\, 2021 \nEltham Library\, Panther Place\, Eltham\, Vic.
URL:https://www.historyvictoria.org.au/event/no-ordinary-convict/
LOCATION:Eltham Library
CATEGORIES:Victorian History Events
ATTACH;FMTTYPE=image/jpeg:https://www.historyvictoria.org.au/wp-content/uploads/2022/07/No-Ordinary-Convict.jpg
ORGANIZER;CN="Yarra Plenty Regional Library":MAILTO:LPidgeon@yprl.vic.gov.au
END:VEVENT
BEGIN:VEVENT
DTSTART;TZID=Australia/Melbourne:20220817T170000
DTEND;TZID=Australia/Melbourne:20220817T180000
DTSTAMP:20260423T062602
CREATED:20220802T231016Z
LAST-MODIFIED:20220802T231016Z
UID:10000789-1660755600-1660759200@www.historyvictoria.org.au
SUMMARY:Georgiana Molloy- celebrating one of Australia’s first female botanists
DESCRIPTION:Presented by Friends of the Royal Botanic Gardens\, Melbourne Inc \nThis online talk tells the extraordinary story of Georgiana Molloy\, one of Australia’s first internationally successful female botanists.  Georgiana and her husband\, Captain John Molloy\, who emigrated to Australia in 1830 with the first group of European settlers to the remote southwest of Western Australia.  Here\, despite personal tragedy\, Georgiana’s passion for flora was ignited. Entirely self-taught\, she gathered specimens of indigenous flora from Augusta and Busselton that are now held in some of the world’s leading herbarium collections \nOur presenter\, Bernice Barry lives on WA’s southwest coast near the place where Georgiana arrived.  Bernice has researched Georgiana’s own writings and notes and will share the stories of this botanist whose appreciation and wonder of the landscape around her became her salvation and legacy. \nBernice’s meticulously researched book\, Georgiana Molloy: The Mind That Shines is available to order from her publisher. \nBookings essential.
URL:https://www.historyvictoria.org.au/event/georgiana-molloy-celebrating-one-of-australias-first-female-botanists/
LOCATION:ZOOM\, Join from anywhere in the world
CATEGORIES:Victorian History Events
ATTACH;FMTTYPE=image/jpeg:https://www.historyvictoria.org.au/wp-content/uploads/2022/08/Georgiana-Molloy.jpg
ORGANIZER;CN="Friends of the Royal Botanic Gardens%2C Melbourne Inc":MAILTO:info@frbgmelb.org.au
END:VEVENT
END:VCALENDAR