BEGIN:VCALENDAR
VERSION:2.0
PRODID:-//Royal Historical Society of Victoria - ECPv6.15.12.2//NONSGML v1.0//EN
CALSCALE:GREGORIAN
METHOD:PUBLISH
X-ORIGINAL-URL:https://www.historyvictoria.org.au
X-WR-CALDESC:Events for Royal Historical Society of Victoria
REFRESH-INTERVAL;VALUE=DURATION:PT1H
X-Robots-Tag:noindex
X-PUBLISHED-TTL:PT1H
BEGIN:VTIMEZONE
TZID:Australia/Melbourne
BEGIN:STANDARD
TZOFFSETFROM:+1100
TZOFFSETTO:+1000
TZNAME:AEST
DTSTART:20210403T160000
END:STANDARD
BEGIN:DAYLIGHT
TZOFFSETFROM:+1000
TZOFFSETTO:+1100
TZNAME:AEDT
DTSTART:20211002T160000
END:DAYLIGHT
BEGIN:STANDARD
TZOFFSETFROM:+1100
TZOFFSETTO:+1000
TZNAME:AEST
DTSTART:20220402T160000
END:STANDARD
BEGIN:DAYLIGHT
TZOFFSETFROM:+1000
TZOFFSETTO:+1100
TZNAME:AEDT
DTSTART:20221001T160000
END:DAYLIGHT
BEGIN:STANDARD
TZOFFSETFROM:+1100
TZOFFSETTO:+1000
TZNAME:AEST
DTSTART:20230401T160000
END:STANDARD
BEGIN:DAYLIGHT
TZOFFSETFROM:+1000
TZOFFSETTO:+1100
TZNAME:AEDT
DTSTART:20230930T160000
END:DAYLIGHT
END:VTIMEZONE
BEGIN:VEVENT
DTSTART;VALUE=DATE:20220331
DTEND;VALUE=DATE:20221224
DTSTAMP:20260421T133012
CREATED:20220320T070712Z
LAST-MODIFIED:20220320T070927Z
UID:10000281-1648684800-1671839999@www.historyvictoria.org.au
SUMMARY:KALEIDOSCOPE
DESCRIPTION:This exhibition is biography imagined through the lens of a Kaleidoscope. The viewer is offered fragments of the lives represented here. There is no linear narrative. Each time the kaleidoscope turns\, a different story emerges. There are repeating patterns but different emphases and new ways of seeing\, new reflections\, new refractions. No one story dominates and one story does not fit all. \nin 2021\, during Women’s History Month we launched the RHSV Women’s Biographical Dictionary\, an online resource which builds profiles of women who have been involved in the RHSV over its 113 year history. This project is the work of Dr Cheryl Griffin and from this online resource\, Cheryl has curated Kaleidoscope\, launched in March 2022 by Judi Maddigan\, which looks at the lives of 50 of those important women. \nCURATOR: DR CHERYL GRIFFIN\nEXHIBITION DESIGNER: KATRIN STROHL\nEXHIBITION PRODUCTION: DR DAVID THOMPSON & HELEN STITT\nThe exhibition is opened Monday – Friday (excluding public holidays) from 9am-5pm and entry is free-of-charge.
URL:https://www.historyvictoria.org.au/event/kaleidoscope/
LOCATION:RHSV Gallery Downstairs\, 239 A'Beckett St\, Melbourne\, Victoria\, 3000\, Australia
CATEGORIES:Exhibition
ATTACH;FMTTYPE=image/jpeg:https://www.historyvictoria.org.au/wp-content/uploads/2022/02/Kaleidoscope.jpeg
ORGANIZER;CN="Royal Historical Society of Victoria":MAILTO:office@historyvictoria.org.au
END:VEVENT
BEGIN:VEVENT
DTSTART;TZID=Australia/Melbourne:20220901T100000
DTEND;TZID=Australia/Melbourne:20221023T160000
DTSTAMP:20260421T133012
CREATED:20220831T235728Z
LAST-MODIFIED:20220902T005422Z
UID:10000337-1662026400-1666540800@www.historyvictoria.org.au
SUMMARY:An exhibition - Glen Eira Historical Society 50 years 1972-2022
DESCRIPTION:Since its formation in 1972 the Glen Eira Historical Society has collected over 5000 items; documents\, photographs\, ephemera\, maps and more. \nTo commemorate 50 years we dipped into our collection and uncovered some gems\, including member’s favourites\, objects large and small and some of the first donations received. \nThis exhibition will be held in the Glen Eira Council Gallery Two from 1 September to 23 October. Please check the Gallery website for opening times.
URL:https://www.historyvictoria.org.au/event/an-exhibition-glen-eira-historical-society-50-years-1972-2022/
LOCATION:Glen Eira City Council Gallery\, Corner Glen Eira and Hawthorn Roads\, Caulfield\, VIC\, 3162\, Australia
CATEGORIES:Victorian History Events
ATTACH;FMTTYPE=image/jpeg:https://www.historyvictoria.org.au/wp-content/uploads/2022/09/gwen-rowe-myrtle-ballantyne-Richard-Ballantyne-Betty-Snowball-22Jan1988-Copy-scaled.jpg
ORGANIZER;CN="Glen Eira Historical Society":MAILTO:gehs@optusnet.com.au
END:VEVENT
BEGIN:VEVENT
DTSTART;TZID=Australia/Melbourne:20220927T130000
DTEND;TZID=Australia/Melbourne:20220927T143000
DTSTAMP:20260421T133012
CREATED:20220713T023402Z
LAST-MODIFIED:20220713T040414Z
UID:10000776-1664283600-1664289000@www.historyvictoria.org.au
SUMMARY:Family History Social Group
DESCRIPTION:Do you enjoy friendly conversation and family history? \nShare your knowledge and skills with other group members in a friendly and supportive environment while making use of the many resources available at the PMI Victorian History Library. Whether you are just starting out with your family history research or have many years experience you are welcome to come along. \nLast Tuesday of each month\, Tue Aug 30th\, Tue Sept 27th\, Tue Oct 25th\, Tue 29th Nov in 2022. \nBook for one or book for all copying this link into your internet browser: https://www.trybooking.com/CBBZX\nOr phone us (03) 9510 3393
URL:https://www.historyvictoria.org.au/event/family-history-social-group/2022-09-27/
LOCATION:Prahran Mechanics Institute\, 39 St Edmonds Road\, Prahran\, VIC\, 3181\, Australia
CATEGORIES:Victorian History Events
ATTACH;FMTTYPE=image/jpeg:https://www.historyvictoria.org.au/wp-content/uploads/2022/07/30th-Aug-2022-Family-Histroy-Social-Group-Poster_Family-History-Month_AND_History-Month-scaled.jpg
ORGANIZER;CN="Prahran Mechanics' Institute Victorian History Library":MAILTO:library@pmi.net.au
GEO:-37.8498022;144.9916641
X-APPLE-STRUCTURED-LOCATION;VALUE=URI;X-ADDRESS=Prahran Mechanics Institute 39 St Edmonds Road Prahran VIC 3181 Australia;X-APPLE-RADIUS=500;X-TITLE=39 St Edmonds Road:geo:144.9916641,-37.8498022
END:VEVENT
BEGIN:VEVENT
DTSTART;TZID=Australia/Melbourne:20220927T193000
DTEND;TZID=Australia/Melbourne:20220927T193000
DTSTAMP:20260421T133012
CREATED:20220926T021955Z
LAST-MODIFIED:20220926T021955Z
UID:10000806-1664307000-1664307000@www.historyvictoria.org.au
SUMMARY:Men and Ships Driven by the Wind
DESCRIPTION:At the September meeting of the Port Melbourne Historical and Preservation Society Bruce Gooley will speak on the topic of  Men and Ships Driven by the Wind. \nBruce is a graduate of Melbourne University and a researcher\, presenter and self-published author with a special interest in maritime history. He is a volunteer tutor at the Hawthorn University of the Third Age (U3A). He has presented over 120 one and a half hour illustrated maritime history talks there\, and has also presented to Probus and historical societies\, and has documented these talks in book format. \nBruce was a member of the Mornington Yacht Club for more than 50 years and owned and raced yachts in Port Phillip Bay\, and Bass Strait\, and has crewed on yachts racing to Vanuatu and around the State of Hawaii and cruising in the Beagle Channel. \nHe is also a member of the Melbourne Maritime Heritage Network and he has presented several papers to them \nThe meeting will also available be available on zoom. A link will be provided closer to the date. \nTo book: Please call Glen Cosham on 0468 966 742 \nMeetings 7.30 pm\, fourth Tuesday of every month but December\, Upstairs\, Port Melbourne Town Hall.
URL:https://www.historyvictoria.org.au/event/men-and-ships-driven-by-the-wind/
LOCATION:Port Melbourne Town Hall\, 333 Bay Street\, Port Melbourne\, VIC\, 3207\, Australia
CATEGORIES:Victorian History Events
ATTACH;FMTTYPE=image/png:https://www.historyvictoria.org.au/wp-content/uploads/2022/09/Men-and-ships.png
ORGANIZER;CN="Port Melbourne Historical & Preservation Society":MAILTO:secretary@pmhps.org.au
END:VEVENT
END:VCALENDAR