BEGIN:VCALENDAR
VERSION:2.0
PRODID:-//Royal Historical Society of Victoria - ECPv6.15.12.2//NONSGML v1.0//EN
CALSCALE:GREGORIAN
METHOD:PUBLISH
X-WR-CALNAME:Royal Historical Society of Victoria
X-ORIGINAL-URL:https://www.historyvictoria.org.au
X-WR-CALDESC:Events for Royal Historical Society of Victoria
REFRESH-INTERVAL;VALUE=DURATION:PT1H
X-Robots-Tag:noindex
X-PUBLISHED-TTL:PT1H
BEGIN:VTIMEZONE
TZID:Australia/Melbourne
BEGIN:STANDARD
TZOFFSETFROM:+1100
TZOFFSETTO:+1000
TZNAME:AEST
DTSTART:20210403T160000
END:STANDARD
BEGIN:DAYLIGHT
TZOFFSETFROM:+1000
TZOFFSETTO:+1100
TZNAME:AEDT
DTSTART:20211002T160000
END:DAYLIGHT
BEGIN:STANDARD
TZOFFSETFROM:+1100
TZOFFSETTO:+1000
TZNAME:AEST
DTSTART:20220402T160000
END:STANDARD
BEGIN:DAYLIGHT
TZOFFSETFROM:+1000
TZOFFSETTO:+1100
TZNAME:AEDT
DTSTART:20221001T160000
END:DAYLIGHT
BEGIN:STANDARD
TZOFFSETFROM:+1100
TZOFFSETTO:+1000
TZNAME:AEST
DTSTART:20230401T160000
END:STANDARD
BEGIN:DAYLIGHT
TZOFFSETFROM:+1000
TZOFFSETTO:+1100
TZNAME:AEDT
DTSTART:20230930T160000
END:DAYLIGHT
END:VTIMEZONE
BEGIN:VEVENT
DTSTART;VALUE=DATE:20220331
DTEND;VALUE=DATE:20221224
DTSTAMP:20260421T004608
CREATED:20220320T070712Z
LAST-MODIFIED:20220320T070927Z
UID:10000281-1648684800-1671839999@www.historyvictoria.org.au
SUMMARY:KALEIDOSCOPE
DESCRIPTION:This exhibition is biography imagined through the lens of a Kaleidoscope. The viewer is offered fragments of the lives represented here. There is no linear narrative. Each time the kaleidoscope turns\, a different story emerges. There are repeating patterns but different emphases and new ways of seeing\, new reflections\, new refractions. No one story dominates and one story does not fit all. \nin 2021\, during Women’s History Month we launched the RHSV Women’s Biographical Dictionary\, an online resource which builds profiles of women who have been involved in the RHSV over its 113 year history. This project is the work of Dr Cheryl Griffin and from this online resource\, Cheryl has curated Kaleidoscope\, launched in March 2022 by Judi Maddigan\, which looks at the lives of 50 of those important women. \nCURATOR: DR CHERYL GRIFFIN\nEXHIBITION DESIGNER: KATRIN STROHL\nEXHIBITION PRODUCTION: DR DAVID THOMPSON & HELEN STITT\nThe exhibition is opened Monday – Friday (excluding public holidays) from 9am-5pm and entry is free-of-charge.
URL:https://www.historyvictoria.org.au/event/kaleidoscope/
LOCATION:RHSV Gallery Downstairs\, 239 A'Beckett St\, Melbourne\, Victoria\, 3000\, Australia
CATEGORIES:Exhibition
ATTACH;FMTTYPE=image/jpeg:https://www.historyvictoria.org.au/wp-content/uploads/2022/02/Kaleidoscope.jpeg
ORGANIZER;CN="Royal Historical Society of Victoria":MAILTO:office@historyvictoria.org.au
END:VEVENT
BEGIN:VEVENT
DTSTART;TZID=Australia/Melbourne:20220901T100000
DTEND;TZID=Australia/Melbourne:20221023T160000
DTSTAMP:20260421T004608
CREATED:20220831T235728Z
LAST-MODIFIED:20220902T005422Z
UID:10000337-1662026400-1666540800@www.historyvictoria.org.au
SUMMARY:An exhibition - Glen Eira Historical Society 50 years 1972-2022
DESCRIPTION:Since its formation in 1972 the Glen Eira Historical Society has collected over 5000 items; documents\, photographs\, ephemera\, maps and more. \nTo commemorate 50 years we dipped into our collection and uncovered some gems\, including member’s favourites\, objects large and small and some of the first donations received. \nThis exhibition will be held in the Glen Eira Council Gallery Two from 1 September to 23 October. Please check the Gallery website for opening times.
URL:https://www.historyvictoria.org.au/event/an-exhibition-glen-eira-historical-society-50-years-1972-2022/
LOCATION:Glen Eira City Council Gallery\, Corner Glen Eira and Hawthorn Roads\, Caulfield\, VIC\, 3162\, Australia
CATEGORIES:Victorian History Events
ATTACH;FMTTYPE=image/jpeg:https://www.historyvictoria.org.au/wp-content/uploads/2022/09/gwen-rowe-myrtle-ballantyne-Richard-Ballantyne-Betty-Snowball-22Jan1988-Copy-scaled.jpg
ORGANIZER;CN="Glen Eira Historical Society":MAILTO:gehs@optusnet.com.au
END:VEVENT
BEGIN:VEVENT
DTSTART;TZID=Australia/Melbourne:20221019T110000
DTEND;TZID=Australia/Melbourne:20221019T123000
DTSTAMP:20260421T004608
CREATED:20220919T004254Z
LAST-MODIFIED:20220919T014816Z
UID:10000802-1666177200-1666182600@www.historyvictoria.org.au
SUMMARY:Discover Local History through Trove
DESCRIPTION:Trove is your national discovery service managed by the National Library of Australia. \nThis talk will provide an introduction to the wealth of information that can be found. We will look at examples and strategies to find information about people and places in our Region. \nPresented by Yarra Plenty Regional Library\nWatsonia Library\n4-6 Ibbottson Street\, Watsonia
URL:https://www.historyvictoria.org.au/event/discover-local-history-through-trove/
LOCATION:Watsonia Library\, 4-6 Ibbottson Street\, Watsonia\, 4-6 Ibbottson Street\,\, Watsonia\, VIC\, Australia
CATEGORIES:Victorian History Events
ATTACH;FMTTYPE=image/png:https://www.historyvictoria.org.au/wp-content/uploads/2022/09/Trove-Newspaper.png
ORGANIZER;CN="Yarra Plenty Regional Library":MAILTO:LPidgeon@yprl.vic.gov.au
END:VEVENT
BEGIN:VEVENT
DTSTART;TZID=Australia/Melbourne:20221019T180000
DTEND;TZID=Australia/Melbourne:20221019T191500
DTSTAMP:20260421T004608
CREATED:20221014T043926Z
LAST-MODIFIED:20221014T043926Z
UID:10000813-1666202400-1666206900@www.historyvictoria.org.au
SUMMARY:Lecture – Working Lives: Stories from the Immigration Museum’s Collection
DESCRIPTION:Working life stories from the past and present told through the Immigration Museum’s diverse collections. \n\nWork remains a cornerstone of identity for many of us. Yet the ways we think about work continues to evolve.  Work can shape and share ideas of community\, gender\, memory\, creativity\, sexuality\, activism\, ethnicity\, and our sense of individual and collective value. Work also acts as a thread that connects us to people\, places\, and other times. \nA new exhibition opening at Immigration Museum\, Working Lives highlights a range of stories from our Museum collections which explore the diversity of our working experiences across time. Curators\, collection managers and community storytellers will reflect on a selection of these stories\, objects and images and what they tell us about how we have collected\, documented and continue to develop our Museum collections through community engagement. \nMelbourne Museum is hosting a great talk based on the exhibition – please note that the exhibition is at the Immigration Museum\, however the talk is being held at the Melbourne Museum \nTickets for the talk can be booked here \n\n\n\n\n$5 / $8 / $10 / $12\n\n\nSpeakers\nMichelle Stevenson\, Head History & Technology Dept \nDeb Tout-Smith\, Senior Curator\, Home & Community Life \nDr Moya McFadzean\, Senior Curator\, Migration & Cultural Diversity \nLorenzo Iozzi\, Manager\, Image Collections \nNyadol Nyuon OAM\, Executive Director\, Sir Zelman Cowan Centre\, Victoria University; former refugee & lawyer\, writer & human rights activist
URL:https://www.historyvictoria.org.au/event/lecture-working-lives-stories-from-the-immigration-museums-collection/
LOCATION:Melbourne Museum\, 11 Nicholson St\, Carlton\, VIC\, 3053\, Australia
CATEGORIES:Victorian History Events
ATTACH;FMTTYPE=image/jpeg:https://www.historyvictoria.org.au/wp-content/uploads/2022/10/Melbourne-Museum.jpg
ORGANIZER;CN="Melbourne Museum":MAILTO:mvbookings@museum.vic.gov.au
END:VEVENT
BEGIN:VEVENT
DTSTART;TZID=Australia/Melbourne:20221019T193000
DTEND;TZID=Australia/Melbourne:20221019T213000
DTSTAMP:20260421T004608
CREATED:20221004T053625Z
LAST-MODIFIED:20221004T053625Z
UID:10000810-1666207800-1666215000@www.historyvictoria.org.au
SUMMARY:Kew Historical Society\, Annual Dickinson Lecture by Dr Rosalie Triolo
DESCRIPTION:Kew Historical Society. Annual Dickinson Lecture; \nRemembering Our State School Teachers and Pupils of Kew and Surrounds: The Home Front and Battle Front\, 1914-18 presented by Dr Rosalie Triolo\nThe Great War profoundly touched the lives of Australian teachers\, school children and local\ncommunities. Many teachers fought and died\, and were joined by their older students. For years after\, the names of those who fell were respectfully displayed on school honor boards\, in honor books and remembered by other commemorative means\, including through the introduction of Anzac Day. \nDr Rosalie Triolo will explore how teachers and school communities were affected by patriotic appeals and activities\, and how they responded to\nthe long years of grim news from Gallipoli\, the Western Front and other sites of training\, fighting and convalescence. \n  \n19 October 2022\nJust Theatre\, Kew Court House\n188 High Street\, Kew VIC 3101\nWednesday 7.30 for 8 pm\nTickets $20\, can be purchased through Boroondara Arts bookings website\, or 9278 4770 or  kch@boroondara.vic.gov.au \n  \n 
URL:https://www.historyvictoria.org.au/event/kew-historical-society-annual-dickinson-lecture-by-dr-rosalie-triolo/
LOCATION:Just Theatre\, Kew Court House\, 188 High Street\, Kew\, VIC\, 3101\, Australia
CATEGORIES:Victorian History Events
ATTACH;FMTTYPE=image/jpeg:https://www.historyvictoria.org.au/wp-content/uploads/2022/10/dickinson-lecture-2022.jpg
ORGANIZER;CN="Kew Historical Society Inc":MAILTO:info@kewhistoricalsociety.org.au
GEO:-37.8068106;145.0316391
X-APPLE-STRUCTURED-LOCATION;VALUE=URI;X-ADDRESS=Just Theatre Kew Court House 188 High Street Kew VIC 3101 Australia;X-APPLE-RADIUS=500;X-TITLE=188 High Street:geo:145.0316391,-37.8068106
END:VEVENT
END:VCALENDAR