BEGIN:VCALENDAR
VERSION:2.0
PRODID:-//Royal Historical Society of Victoria - ECPv6.15.12.2//NONSGML v1.0//EN
CALSCALE:GREGORIAN
METHOD:PUBLISH
X-ORIGINAL-URL:https://www.historyvictoria.org.au
X-WR-CALDESC:Events for Royal Historical Society of Victoria
REFRESH-INTERVAL;VALUE=DURATION:PT1H
X-Robots-Tag:noindex
X-PUBLISHED-TTL:PT1H
BEGIN:VTIMEZONE
TZID:Australia/Melbourne
BEGIN:STANDARD
TZOFFSETFROM:+1100
TZOFFSETTO:+1000
TZNAME:AEST
DTSTART:20220402T160000
END:STANDARD
BEGIN:DAYLIGHT
TZOFFSETFROM:+1000
TZOFFSETTO:+1100
TZNAME:AEDT
DTSTART:20221001T160000
END:DAYLIGHT
BEGIN:STANDARD
TZOFFSETFROM:+1100
TZOFFSETTO:+1000
TZNAME:AEST
DTSTART:20230401T160000
END:STANDARD
BEGIN:DAYLIGHT
TZOFFSETFROM:+1000
TZOFFSETTO:+1100
TZNAME:AEDT
DTSTART:20230930T160000
END:DAYLIGHT
BEGIN:STANDARD
TZOFFSETFROM:+1100
TZOFFSETTO:+1000
TZNAME:AEST
DTSTART:20240406T160000
END:STANDARD
BEGIN:DAYLIGHT
TZOFFSETFROM:+1000
TZOFFSETTO:+1100
TZNAME:AEDT
DTSTART:20241005T160000
END:DAYLIGHT
END:VTIMEZONE
BEGIN:VEVENT
DTSTART;VALUE=DATE:20230202
DTEND;VALUE=DATE:20230701
DTSTAMP:20260420T110117
CREATED:20230124T003719Z
LAST-MODIFIED:20230201T044132Z
UID:10000396-1675296000-1688169599@www.historyvictoria.org.au
SUMMARY:Well Built: Simmie & Co Master Builders 1924 – 1978
DESCRIPTION:Simmie & Co was a prominent building company in Melbourne (1924-1978) and in Canberra (1926-1969).  In Melbourne the company was highly successful and built many iconic buildings\, churches\, monasteries\, schools\, housing\, factories\, defence works\, the Shrine forecourt (1939-45)\, offices and theatres including some heritage-listed constructions (one designed by Robin Boyd). \nIn Canberra\, Simmie & Co was responsible for building a wide range of iconic constructions\, including the first Northbourne Avenue shops on London Circuit\, Albert Hall\, the Australian War Memorial\, St Andrews Cathedral\, Institute of Anatomy (now the Film and Sound Archives)\, US Embassy\, several other embassies\, R G Menzies Library\, a range of housing from heritage listed homes in Forrest to worker’s cottages in Narrabundah\, schools\, halls\, theatres and commercial sites. \nThe founders were three Victorian brothers\, all born in the last decade of the nineteenth century and all worked at the Sunshine Harvester factory before World War One – William\, Jock & George. All were World War One veterans (two were Gallipoli veterans). All were wounded and survived. Two were closely involved with the Master Builders Association in Melbourne. \nDiscover their story of a pioneering building company of the early to mid-twentieth century\, of World War One veterans\, of courage and a willingness to take a risk\, of the beginning of the capital city of Australia and the workers\, the unsung heroes\, who made it all happen. \nABOUT THE R J SIMMIE COLLECTION \nThe R J Simmie Collection has been put together over many years by Dr Richard Simmie\, a grandson of Jock Simmie\, one of the principals of Simmie & Co.  The Collection contains records of the Simmie family connected to Simmie & Co and also historic farm Harpsdale. These comprise an extensive collection of photographs\, construction and farm business records\, artefacts and ephemera\, even historic farm machinery.  The R J Simmie Collection is the major sponsor for this exhibition\, both in Melbourne and Canberra. \nABOUT THE CURATOR AND AUTHOR \nDr Andrew Kilsby\, is an independent historian (www.connect-history.com)\, and published author. He holds a PhD in history from UNSW. Dr Kilsby has a background in military and diplomatic service\, public relations and corporate communications both in Australia and in Asia-Pacific.  Recent publications include The Big Garage: 65 Years of Motoring History;  The Case of Eichengruen-Edwards and Continental Tyres (Commendation Community History Awards 2019); The Forgotten Cruiser: HMAS Melbourne I\, 1913-1928; The Riflemen: A History of the NRAA 1888-1988 and as co-author\, A Reputable Set of Men: The Sandringham Club 1913-2013 and Sigma Pharmaceuticals 1912-2012. His new publication Family Business: The Simmies of Simmie & Co and Harpsdale\, will be launched at the exhibition opening.
URL:https://www.historyvictoria.org.au/event/well-built-simmie-co-master-builders-1924-1978/
LOCATION:RHSV Gallery Downstairs\, 239 A'Beckett St\, Melbourne\, Victoria\, 3000\, Australia
CATEGORIES:Exhibition
ATTACH;FMTTYPE=image/png:https://www.historyvictoria.org.au/wp-content/uploads/2022/12/Simmie-Co-Instagram-post.png
ORGANIZER;CN="Royal Historical Society of Victoria":MAILTO:office@historyvictoria.org.au
END:VEVENT
BEGIN:VEVENT
DTSTART;TZID=Australia/Melbourne:20230518T103000
DTEND;TZID=Australia/Melbourne:20230518T113000
DTSTAMP:20260420T110117
CREATED:20230424T021346Z
LAST-MODIFIED:20230424T021359Z
UID:10000426-1684405800-1684409400@www.historyvictoria.org.au
SUMMARY:Australian Heritage Festival Free Museo Italiano Guided Tours
DESCRIPTION:Join a Free guided tour led by Elizabeth Triarico\, Manager CO.AS.IT. Italian Historical Society & Museo Italiano\, in celebration of International Museums Day. Gain a special insight into the Italian Australian immigration experience\, with unique stories and objects\, like the Sputnik coffee machine. \nThursday 18 May 2023 \nTours run: 10.30am and 2.30pm for 1 hour in groups of 15 people Bookings Essential \nEstablished in 2010 and located in the heart of Carlton\, Museo Italiano is the only permanent exhibition of its kind in Australia. This popular exhibition features rare objects\, images\, and stories from CO.AS.IT.’s Italian Historical Society\, and engaging multimedia presentations which celebrate Italian immigration and its invaluable contribution to the development of Melbourne\, Victoria and Australia. Through its themes of Departure\, Settlement\, Interaction and Identity\, the exhibition explores all aspects of the Italian immigration story from the early 1700s onwards. \nPlease note that there may be photography or filming at this event. If you do not permit your image to be reproduced via CO.AS.IT.’s social media\, website or e-bulletin\, and other publications\, please contact: ihs@coasit.com.au
URL:https://www.historyvictoria.org.au/event/australian-heritage-festival-free-museo-italiano-guided-tours/2023-05-18/1/
LOCATION:Museo Italiano\, 199 Faraday Street\, Carlton\, Victoria\, 3053\, Australia
CATEGORIES:Victorian History Events
ATTACH;FMTTYPE=image/jpeg:https://www.historyvictoria.org.au/wp-content/uploads/2023/04/CO.AS_.IT_.-Museo-Italiano-Exhibition-Interior-Coffee-Machines-scaled.jpg
ORGANIZER;CN="CO.AS.IT. Italian HIstorical Society":MAILTO:ihs@coasit.com.au
GEO:-37.7989604;144.9679779
X-APPLE-STRUCTURED-LOCATION;VALUE=URI;X-ADDRESS=Museo Italiano 199 Faraday Street Carlton Victoria 3053 Australia;X-APPLE-RADIUS=500;X-TITLE=199 Faraday Street:geo:144.9679779,-37.7989604
END:VEVENT
BEGIN:VEVENT
DTSTART;TZID=Australia/Melbourne:20230518T143000
DTEND;TZID=Australia/Melbourne:20230518T153000
DTSTAMP:20260420T110117
CREATED:20230424T021346Z
LAST-MODIFIED:20230424T021359Z
UID:10000427-1684420200-1684423800@www.historyvictoria.org.au
SUMMARY:Australian Heritage Festival Free Museo Italiano Guided Tours
DESCRIPTION:Join a Free guided tour led by Elizabeth Triarico\, Manager CO.AS.IT. Italian Historical Society & Museo Italiano\, in celebration of International Museums Day. Gain a special insight into the Italian Australian immigration experience\, with unique stories and objects\, like the Sputnik coffee machine. \nThursday 18 May 2023 \nTours run: 10.30am and 2.30pm for 1 hour in groups of 15 people Bookings Essential \nEstablished in 2010 and located in the heart of Carlton\, Museo Italiano is the only permanent exhibition of its kind in Australia. This popular exhibition features rare objects\, images\, and stories from CO.AS.IT.’s Italian Historical Society\, and engaging multimedia presentations which celebrate Italian immigration and its invaluable contribution to the development of Melbourne\, Victoria and Australia. Through its themes of Departure\, Settlement\, Interaction and Identity\, the exhibition explores all aspects of the Italian immigration story from the early 1700s onwards. \nPlease note that there may be photography or filming at this event. If you do not permit your image to be reproduced via CO.AS.IT.’s social media\, website or e-bulletin\, and other publications\, please contact: ihs@coasit.com.au
URL:https://www.historyvictoria.org.au/event/australian-heritage-festival-free-museo-italiano-guided-tours/2023-05-18/2/
LOCATION:Museo Italiano\, 199 Faraday Street\, Carlton\, Victoria\, 3053\, Australia
CATEGORIES:Victorian History Events
ATTACH;FMTTYPE=image/jpeg:https://www.historyvictoria.org.au/wp-content/uploads/2023/04/CO.AS_.IT_.-Museo-Italiano-Exhibition-Interior-Coffee-Machines-scaled.jpg
ORGANIZER;CN="CO.AS.IT. Italian HIstorical Society":MAILTO:ihs@coasit.com.au
GEO:-37.7989604;144.9679779
X-APPLE-STRUCTURED-LOCATION;VALUE=URI;X-ADDRESS=Museo Italiano 199 Faraday Street Carlton Victoria 3053 Australia;X-APPLE-RADIUS=500;X-TITLE=199 Faraday Street:geo:144.9679779,-37.7989604
END:VEVENT
BEGIN:VEVENT
DTSTART;TZID=Australia/Melbourne:20230518T173000
DTEND;TZID=Australia/Melbourne:20230518T190000
DTSTAMP:20260420T110117
CREATED:20230406T014247Z
LAST-MODIFIED:20230511T052858Z
UID:10000883-1684431000-1684436400@www.historyvictoria.org.au
SUMMARY:Ned Kelly; a new lens
DESCRIPTION:Partway through the Jerilderie Letter\, Ned Kelly accused Senior Constable Anthony Strahan of threatening to shoot him ‘like a dog’. Two days after Anthony reputedly made his threat\, Ned and his gang shot dead three policemen at Stringybark Creek\, believing one of the cops was Anthony.\n\n\n\nLachlan Strahan\, Anthony’s great-great-grandson\, and author of “Justice in Kelly Country” grew up believing Ned Kelly was a heroic outlaw and Anthony the ruthless cop who pursued him. Yet\, as he combed through letters\, police reports\, court transcripts\, newspapers and family histories\, Lachlan pieced together a different story about the life of his ancestor.\n\n\n\nThe event will feature an in-depth discussion between Dr. Andrew Lemon and Lachlan Strahan. During the discussion\, the two experts will explore recent research\, discoveries\, and conclusions about Ned Kelly\, and examine how these findings could change the common narrative about him. Attendees can expect to gain a new perspective on the famous Australian outlaw\, and the discussion will touch on themes such as justice and retribution\, morality and character\, and making a life against the odds in a frontier society.\n\nOur events are fairly relaxed and convivial and we always have refreshments from 5:30pm until 6pm when the event will start. All our events are now hybrid so there will both an audience at the RHSV and on Zoom (from 6pm). The discussion usually takes one hour including audience Q&A\, finishing at 7pm. \nPlease note that this event was originally promoted with Alex McDermott as a speaker. Unfortunately\, due to illness\, Alex has had to pull out so it will now be a ‘deep-dive’ between Lachlan Strahan and Andrew Lemon. \nSpeakers \nDr Lachlan Strahan is a descendant of Senior Constable Anthony Strahan\, accused by Ned Kelly of threatening to shoot him ‘like a dog’.  Lachlan’s book\, published by Monash University Publishing\, is Justice in Kelly Country: The Story of the Cop Who Hunted Australia’s Most Notorious Bushrangers.  \nLachlan joined the Department of Foreign Affairs and Trade (DFAT) in 1993 as a graduate trainee\, and recently completed a three-month assignment as Australia’s Acting United Nations Ambassador in Geneva\, managing Australia’s first session as a member of the Human Rights Council. Dr Strahan was an Assistant Secretary in the International Division at the Department of the Prime Minister and Cabinet\, 2013-15\, managing relations with the Middle East\, South and Southeast Asia\, the Americas and the Pacific. During his time there\, he played a central role in developing a major counter-terrorism package in the wake of ISIL’s capture of Mosul\, and coordinating the initial stage of the search for missing Malaysia Airlines flight MH370\, receiving an excellence in leadership award for the latter. \nHe has published several articles and two books\, “Australia’s China: changing perceptions from the 1930s to the 1990s” and “Day of Reckoning\,” which was shortlisted for the 2006 New South Wales Premier’s Australian History Prize. \nDr Andrew Lemon AM has enjoyed a distinguished career as a professional historian\, specialising in Australian social and cultural history in their British and colonial context. An accessible writer\, he believes that the local and particular illuminate the big questions we ask about ourselves and our society. A recent past president of the Royal Historical Society of Victoria\, Andrew was honoured as a Member of the Order of Australia for services to community history and the racing industry. \n 
URL:https://www.historyvictoria.org.au/event/looking-at-ned-kelly-through-new-lenses/
LOCATION:RHSV Gallery Downstairs\, 239 A'Beckett St\, Melbourne\, Victoria\, 3000\, Australia
CATEGORIES:What's On
ATTACH;FMTTYPE=image/jpeg:https://www.historyvictoria.org.au/wp-content/uploads/2022/11/justice-in-kelly-country-scaled.jpg
ORGANIZER;CN="Royal Historical Society of Victoria":MAILTO:office@historyvictoria.org.au
END:VEVENT
END:VCALENDAR