BEGIN:VCALENDAR
VERSION:2.0
PRODID:-//Royal Historical Society of Victoria - ECPv6.15.12.2//NONSGML v1.0//EN
CALSCALE:GREGORIAN
METHOD:PUBLISH
X-ORIGINAL-URL:https://www.historyvictoria.org.au
X-WR-CALDESC:Events for Royal Historical Society of Victoria
REFRESH-INTERVAL;VALUE=DURATION:PT1H
X-Robots-Tag:noindex
X-PUBLISHED-TTL:PT1H
BEGIN:VTIMEZONE
TZID:Australia/Melbourne
BEGIN:STANDARD
TZOFFSETFROM:+1100
TZOFFSETTO:+1000
TZNAME:AEST
DTSTART:20220402T160000
END:STANDARD
BEGIN:DAYLIGHT
TZOFFSETFROM:+1000
TZOFFSETTO:+1100
TZNAME:AEDT
DTSTART:20221001T160000
END:DAYLIGHT
BEGIN:STANDARD
TZOFFSETFROM:+1100
TZOFFSETTO:+1000
TZNAME:AEST
DTSTART:20230401T160000
END:STANDARD
BEGIN:DAYLIGHT
TZOFFSETFROM:+1000
TZOFFSETTO:+1100
TZNAME:AEDT
DTSTART:20230930T160000
END:DAYLIGHT
BEGIN:STANDARD
TZOFFSETFROM:+1100
TZOFFSETTO:+1000
TZNAME:AEST
DTSTART:20240406T160000
END:STANDARD
BEGIN:DAYLIGHT
TZOFFSETFROM:+1000
TZOFFSETTO:+1100
TZNAME:AEDT
DTSTART:20241005T160000
END:DAYLIGHT
END:VTIMEZONE
BEGIN:VEVENT
DTSTART;TZID=Australia/Melbourne:20230724T123000
DTEND;TZID=Australia/Melbourne:20230724T133000
DTSTAMP:20260420T054934
CREATED:20230424T014722Z
LAST-MODIFIED:20230617T071415Z
UID:10000425-1690201800-1690205400@www.historyvictoria.org.au
SUMMARY:Rare books from the RHSV collection
DESCRIPTION:We are thrilled that Rare Book Week and its fair are back after a three-year COVID hiatus! \nThe Royal Historical Society of Victoria has had a very active collecting policy both in Australia and back ‘home’ in the UK since its creation in 1909. In the 1920s\, when the Victorian Branch of the Royal Geographical Society closed\, their archive and library were absorbed by the RHSV. Whereas our collection is concentrated on the history of Victoria\, the RGS collection is much broader\, covering exploration across Australia and the Pacific and\, because of this ‘misfit’\, the RGS collection was not catalogued until very recently. \nJillian Hiscock\, our Collections Manager\, will speak about three items from the Royal Geographical Society of Australasia: two first-edition explorers’ journals and the Moll Atlas published in 1719: A new and complete map of the whole world shewing the situation of its principal parts. Viz the seas\, kingdoms\, rivers\, capes\, ports\, mountains\, woods\, trade-winds\, monsoons\, variation of the compass climats [sic] &c. \nThis event will follow\, in the same venue\, a Rare Book Week event at 11am from the Ephemera Society of Australia. Morning tea is available before\, between and during both events. For more information about the Ephemera Society event click here. Edwin Jewell will be speaking about material from Australian internment camps. \n\nHerman Moll (c. 1654-1732) was one of the most important London mapmakers in the first half of the eighteenth century.  Moll was probably born in Bremen\, Germany\, around 1654. He moved to London to escape the Scanian Wars. His earliest work was as an engraver for Moses Pitt on the production of the English Atlas\, a failed work which landed Pitt in debtor’s prison. Moll also engraved for Sir Jonas Moore\, Grenville Collins\, John Adair\, and the Seller & Price firm. He published his first original maps in the early 1680s and had set up his own shop by the 1690s. \nMoll’s work quickly helped him become a member of a group which congregated at Jonathan’s Coffee House at Number 20 Exchange Alley\, Cornhill\, where speculators met to trade stock. Moll’s circle included the scientist Robert Hooke\, the archaeologist William Stuckley\, the authors Jonathan Swift and Daniel Defoe\, and the intellectually-gifted pirates William Dampier\, Woodes Rogers and William Hacke. From these contacts\, Moll gained a great deal of privileged information that was included in his maps. \nOver the course of his career\, he published dozens of geographies\, atlases\, and histories\, not to mention numerous sheet maps. His most famous works are Atlas Geographus\, a monthly magazine that ran from 1708 to 1717\, and The World Described (1715-54). He also frequently made maps for books\, including those of Dampier’s publications and Swift’s Gulliver’s Travels. Moll died in 1732. It is likely that his plates passed to another contemporary\, Thomas Bowles\, after this death. \n\nFOR THE FULL RARE BOOK WEEK PROGRAM CLICK HERE
URL:https://www.historyvictoria.org.au/event/rare-books-from-the-rhsv-collection/
LOCATION:RHSV Gallery Downstairs\, 239 A'Beckett St\, Melbourne\, Victoria\, 3000\, Australia
CATEGORIES:What's On
ATTACH;FMTTYPE=image/jpeg:https://www.historyvictoria.org.au/wp-content/uploads/2023/04/Moll-atlas-New-Guinea.jpg
ORGANIZER;CN="Royal Historical Society of Victoria":MAILTO:office@historyvictoria.org.au
END:VEVENT
END:VCALENDAR