BEGIN:VCALENDAR
VERSION:2.0
PRODID:-//Royal Historical Society of Victoria - ECPv6.15.12.2//NONSGML v1.0//EN
CALSCALE:GREGORIAN
METHOD:PUBLISH
X-WR-CALNAME:Royal Historical Society of Victoria
X-ORIGINAL-URL:https://www.historyvictoria.org.au
X-WR-CALDESC:Events for Royal Historical Society of Victoria
REFRESH-INTERVAL;VALUE=DURATION:PT1H
X-Robots-Tag:noindex
X-PUBLISHED-TTL:PT1H
BEGIN:VTIMEZONE
TZID:Australia/Melbourne
BEGIN:STANDARD
TZOFFSETFROM:+1100
TZOFFSETTO:+1000
TZNAME:AEST
DTSTART:20220402T160000
END:STANDARD
BEGIN:DAYLIGHT
TZOFFSETFROM:+1000
TZOFFSETTO:+1100
TZNAME:AEDT
DTSTART:20221001T160000
END:DAYLIGHT
BEGIN:STANDARD
TZOFFSETFROM:+1100
TZOFFSETTO:+1000
TZNAME:AEST
DTSTART:20230401T160000
END:STANDARD
BEGIN:DAYLIGHT
TZOFFSETFROM:+1000
TZOFFSETTO:+1100
TZNAME:AEDT
DTSTART:20230930T160000
END:DAYLIGHT
BEGIN:STANDARD
TZOFFSETFROM:+1100
TZOFFSETTO:+1000
TZNAME:AEST
DTSTART:20240406T160000
END:STANDARD
BEGIN:DAYLIGHT
TZOFFSETFROM:+1000
TZOFFSETTO:+1100
TZNAME:AEDT
DTSTART:20241005T160000
END:DAYLIGHT
BEGIN:STANDARD
TZOFFSETFROM:+1100
TZOFFSETTO:+1000
TZNAME:AEST
DTSTART:20250405T160000
END:STANDARD
BEGIN:DAYLIGHT
TZOFFSETFROM:+1000
TZOFFSETTO:+1100
TZNAME:AEDT
DTSTART:20251004T160000
END:DAYLIGHT
END:VTIMEZONE
BEGIN:VEVENT
DTSTART;TZID=Australia/Melbourne:20231206T080000
DTEND;TZID=Australia/Melbourne:20240331T170000
DTSTAMP:20260426T035311
CREATED:20231206T005824Z
LAST-MODIFIED:20231207T215750Z
UID:10000484-1701849600-1711904400@www.historyvictoria.org.au
SUMMARY:Collective City Exhibition
DESCRIPTION:Collective City showcases historic photographs of Melbourne from the state and federal government archives\, alongside images representing our city today\, curated from submissions by contemporary street photographers. The exhibition explores the moments of joy and connection that happen in our public spaces\, between friends\, family and strangers. It also highlights the ways people can feel disconnected or lonely in a crowd\, and the divisions created by inequity of access to services and public spaces. \nFeaturing the work of Cathrin Plunkett\, Francesca Donnoli\, Gonzzalo Palta\, Shiang Liew\, Sally Coggle\, Mark Davidson\, Mike Reed\, Nathan Coote\, Andrew Wilson\, Adam Sinclair\, Jane Hinwood and Ilana Rose. \nThe exhibition will be at the PMI Victorian History Library from 6 December 2023\, open Tuesday to Friday\, 10am to 4:00pm till the end of March 2024. \nNo booking required to view this exhibition.
URL:https://www.historyvictoria.org.au/event/collective-city-exhibition/
LOCATION:39 St Edmonds Road\, Prahran\, VIC 3181\, 39 St Edmonds Road\, Prahran\, VIC\, 3181\, Australia
CATEGORIES:Victorian History Events
ATTACH;FMTTYPE=image/png:https://www.historyvictoria.org.au/wp-content/uploads/2023/12/Collective-City_2023.png
ORGANIZER;CN="Prahran Mechanics' Institute Victorian History Library":MAILTO:library@pmi.net.au
END:VEVENT
BEGIN:VEVENT
DTSTART;TZID=Australia/Melbourne:20240218T140000
DTEND;TZID=Australia/Melbourne:20240218T153000
DTSTAMP:20260426T035311
CREATED:20240201T211951Z
LAST-MODIFIED:20240201T212028Z
UID:10000487-1708264800-1708270200@www.historyvictoria.org.au
SUMMARY:Eleven Letters To You
DESCRIPTION:Box Hill Historical Society kicks off 2024 with a talk by prominent literary critic\, journalist and author Helen Elliott. Helen spent some time working in the Box Hill Library\, commencing in 1965. She will speak of her memories of Box Hill. Copies of her memoir\, Eleven Letters to You\, will be available for sale at the meeting.\n\n\n\nSunday 18 February 2024 @ 2pm\nBert Lewis Room\, 1st floor\, Box Hill Library\, 1040 Whitehorse Rd\, Box Hill.\nGold coin donation\n\n\n\n“Helen Elliott\, well known as a literary critic and journalist\, grew up in Boronia in the 1950s and 1960s\, a time when it was in transition from countryside to suburbia. Out on the edge of Melbourne and at the very foot of the Dandenongs it was a setting that promised a new post-war life for returned servicemen and their young families as well as migrants. This very different memoir\, styled as 11 letters to the neighbours\, relatives teachers and friends\, brings to life a very different time. Elliott’s recollections are sharp and poignant as she seeks out those parts of her upbringing and education that shaped her at a time of rapid social change.” Review by John Schauble in RHSV’s History News\n\n\n\nHelen’s book was entered in the Victorian Premier’s Literary Awards and the Victorian Community History Awards.\n\n\n\nPublished by Text Publishing
URL:https://www.historyvictoria.org.au/event/eleven-letters-to-you/
LOCATION:Bert Lewis Room\, first floor\, Box Hill Library\, 1040 Whitehorse Road\, Box Hill\, Select one\, 3128\, Australia
CATEGORIES:Victorian History Events
ATTACH;FMTTYPE=image/jpeg:https://www.historyvictoria.org.au/wp-content/uploads/2024/02/Helen-Elliott.jpg
ORGANIZER;CN="Box Hill Historical Society":MAILTO:boxhillhistory@gmail.com
GEO:-37.819192;145.127742
X-APPLE-STRUCTURED-LOCATION;VALUE=URI;X-ADDRESS=Bert Lewis Room first floor Box Hill Library 1040 Whitehorse Road Box Hill Select one 3128 Australia;X-APPLE-RADIUS=500;X-TITLE=1040 Whitehorse Road:geo:145.127742,-37.819192
END:VEVENT
BEGIN:VEVENT
DTSTART;TZID=Australia/Melbourne:20240218T140000
DTEND;TZID=Australia/Melbourne:20240218T160000
DTSTAMP:20260426T035311
CREATED:20240130T030001Z
LAST-MODIFIED:20240130T030001Z
UID:10000486-1708264800-1708272000@www.historyvictoria.org.au
SUMMARY:Box Hill Library - some beginnings.
DESCRIPTION:Prominent literary critic and author Helen Elliott worked in the Box Hill Library from 1964 -19169 when it was a small rectangular building in the middle of Whitehorse road. There were perhaps 20 staff. All female. The Chief Librarian was a man Bert Lewis.\nIn her recent Memoir\, Eleven Letters to You\, Elliott devotes two of the eleven letters to people at the library in those years. Helen Garner called Elliott’s book: “A quietly ecstatic work of memory – intense\, witty\, beautiful.” Biographer Brenda Niall called it “A rare feat of imagination and memory\, Louise Adler called it “deeply evocative\, with the humanity of Facey’s A Fortunate Life\, written on the little piece of ivory favoured by Jane Austen.”.\nElliott has invented a new form of memoir\, full of detailed social history and addressed to people she loved and honoured all those years ago. Box Hill\, over half a century ago was a world now as lost and seemingly as long ago as the Eighteenth Century. .She will speak in detail about those days\, those times\, that other world.
URL:https://www.historyvictoria.org.au/event/box-hill-library-some-beginnings/
LOCATION:Box Hill Library\, Whitehorse road. Bert Lewis Room\, 1040 Whitehorse road\, Box Hill\, Box Hill\, Australia
CATEGORIES:Victorian History Events
ORGANIZER;CN="Box Hill Historical Society":MAILTO:-
END:VEVENT
END:VCALENDAR