BEGIN:VCALENDAR
VERSION:2.0
PRODID:-//Royal Historical Society of Victoria - ECPv6.15.12.2//NONSGML v1.0//EN
CALSCALE:GREGORIAN
METHOD:PUBLISH
X-ORIGINAL-URL:https://www.historyvictoria.org.au
X-WR-CALDESC:Events for Royal Historical Society of Victoria
REFRESH-INTERVAL;VALUE=DURATION:PT1H
X-Robots-Tag:noindex
X-PUBLISHED-TTL:PT1H
BEGIN:VTIMEZONE
TZID:Australia/Melbourne
BEGIN:STANDARD
TZOFFSETFROM:+1100
TZOFFSETTO:+1000
TZNAME:AEST
DTSTART:20220402T160000
END:STANDARD
BEGIN:DAYLIGHT
TZOFFSETFROM:+1000
TZOFFSETTO:+1100
TZNAME:AEDT
DTSTART:20221001T160000
END:DAYLIGHT
BEGIN:STANDARD
TZOFFSETFROM:+1100
TZOFFSETTO:+1000
TZNAME:AEST
DTSTART:20230401T160000
END:STANDARD
BEGIN:DAYLIGHT
TZOFFSETFROM:+1000
TZOFFSETTO:+1100
TZNAME:AEDT
DTSTART:20230930T160000
END:DAYLIGHT
BEGIN:STANDARD
TZOFFSETFROM:+1100
TZOFFSETTO:+1000
TZNAME:AEST
DTSTART:20240406T160000
END:STANDARD
BEGIN:DAYLIGHT
TZOFFSETFROM:+1000
TZOFFSETTO:+1100
TZNAME:AEDT
DTSTART:20241005T160000
END:DAYLIGHT
BEGIN:STANDARD
TZOFFSETFROM:+1100
TZOFFSETTO:+1000
TZNAME:AEST
DTSTART:20250405T160000
END:STANDARD
BEGIN:DAYLIGHT
TZOFFSETFROM:+1000
TZOFFSETTO:+1100
TZNAME:AEDT
DTSTART:20251004T160000
END:DAYLIGHT
END:VTIMEZONE
BEGIN:VEVENT
DTSTART;TZID=Australia/Melbourne:20231206T080000
DTEND;TZID=Australia/Melbourne:20240331T170000
DTSTAMP:20260425T201710
CREATED:20231206T005824Z
LAST-MODIFIED:20231207T215750Z
UID:10000484-1701849600-1711904400@www.historyvictoria.org.au
SUMMARY:Collective City Exhibition
DESCRIPTION:Collective City showcases historic photographs of Melbourne from the state and federal government archives\, alongside images representing our city today\, curated from submissions by contemporary street photographers. The exhibition explores the moments of joy and connection that happen in our public spaces\, between friends\, family and strangers. It also highlights the ways people can feel disconnected or lonely in a crowd\, and the divisions created by inequity of access to services and public spaces. \nFeaturing the work of Cathrin Plunkett\, Francesca Donnoli\, Gonzzalo Palta\, Shiang Liew\, Sally Coggle\, Mark Davidson\, Mike Reed\, Nathan Coote\, Andrew Wilson\, Adam Sinclair\, Jane Hinwood and Ilana Rose. \nThe exhibition will be at the PMI Victorian History Library from 6 December 2023\, open Tuesday to Friday\, 10am to 4:00pm till the end of March 2024. \nNo booking required to view this exhibition.
URL:https://www.historyvictoria.org.au/event/collective-city-exhibition/
LOCATION:39 St Edmonds Road\, Prahran\, VIC 3181\, 39 St Edmonds Road\, Prahran\, VIC\, 3181\, Australia
CATEGORIES:Victorian History Events
ATTACH;FMTTYPE=image/png:https://www.historyvictoria.org.au/wp-content/uploads/2023/12/Collective-City_2023.png
ORGANIZER;CN="Prahran Mechanics' Institute Victorian History Library":MAILTO:library@pmi.net.au
END:VEVENT
BEGIN:VEVENT
DTSTART;TZID=Australia/Melbourne:20240220T173000
DTEND;TZID=Australia/Melbourne:20240220T190000
DTSTAMP:20260425T201710
CREATED:20240110T013016Z
LAST-MODIFIED:20240110T032732Z
UID:10000954-1708450200-1708455600@www.historyvictoria.org.au
SUMMARY:BILLIBELLARY INDIGENOUS HISTORY LECTURE. The view from here: thinking about Australian Indigenous histories and their future.
DESCRIPTION:We are honoured that Professor Lynette Russell AM will deliver the 2024 Billibellary Indigenous History Lecture at the RHSV. \nLynette describes the genesis of her lecture\, “Years ago one of my son’s friends assured me that my passion for Australian history was a fool’s errand. ‘Nothing ever happened here\, no wars\, no famines\, no empires\, nothing\, just nothing’. These views he had formed in part at home but also\, notably\, at school. After reviewing the texts they were reading\, I had to concede that Australian history\, as it was being taught\, might well be construed as boring. Even in the late 1990s\, the most popular textbooks were outdated\, divided into a chapter or two on pre-European history\, and then wandered through Cook’s ‘discovery’\, the first fleet\, the rum rebellion\, and the rise of squatters\, bushrangers\, depressions both great and not-so\, Federation\, railways\, wheat\, and wool. There was a clear division between Indigenous and non-Indigenous histories; Australian history was celebrated\, heroic\, masculinist and very\, very white. Indigenous or Aboriginal history was to be covered quickly and contained primarily to pre-European times. Subtly\, things are changing. There is a new generation of school teachers using new resources\, both hard copy and digital. What might we imagine the landscape will look like as we contemplate the future of Indigenous history?” \nProfessor Lynette Russell AM FASSA FAHA (Sir John Monash Distinguished Professor and ARC Kathleen Fitzpatrick Laureate Professor at Monash University’s Indigenous Studies Centre) is an award-winning historian and Indigenous studies scholar. Her research is broadly anthropological history. Russell has published widely in the areas of theory\, Indigenous histories\, post-colonialism and representations of race\, museum studies and popular culture. \nRussell’s Aboriginal ancestors were born on the lands of the Wotjobaluk people\, and she is descended from convicts on the other side of her family; she is rather uniquely placed as an historian. All of her work is deeply interdisciplinary and collaborative. Russell has collaborated with scholars in archaeology\, anthropology and environmental studies\, and worked in various Aboriginal organisations. She holds or has held positions on committees and reference groups pertaining to Melbourne Museum\, the State Library of Victoria and the Collections Council of Australia as well as being a former president of the Australian Historical Association. She is an elected member of AIATSIS and\, in 2023\, she was elected an International Honorary Member of the American Academy of Arts and Sciences . She is the only Australian scholar to be elected to both the Royal Historical Society and the Royal Anthropological Institute\, both in London. In addition\, she has held two fellowships at Cambridge University and one at All Souls at Oxford University. Russell believes fervently that every undergraduate should undertake Indigenous studies as an essential part of the curriculum and her passions are community outreach and the dissemination of knowledge\, social justice\, and the Essendon Football Club.
URL:https://www.historyvictoria.org.au/event/billibellary-indigenous-history-lecture/
LOCATION:RHSV Gallery Downstairs\, 239 A'Beckett St\, Melbourne\, Victoria\, 3000\, Australia
CATEGORIES:Distinguished Lecturer Series,What's On
ATTACH;FMTTYPE=image/jpeg:https://www.historyvictoria.org.au/wp-content/uploads/2024/01/Lynette-Portrait.jpeg
ORGANIZER;CN="Royal Historical Society of Victoria":MAILTO:office@historyvictoria.org.au
END:VEVENT
BEGIN:VEVENT
DTSTART;TZID=Australia/Melbourne:20240220T183000
DTEND;TZID=Australia/Melbourne:20240220T193000
DTSTAMP:20260425T201710
CREATED:20231129T005930Z
LAST-MODIFIED:20231205T020909Z
UID:10000480-1708453800-1708457400@www.historyvictoria.org.au
SUMMARY:Melbourne’s Great Metropolitan Railways
DESCRIPTION:🚇 Melbourne’s Great Metropolitan Railways – With A Nod Over The Border \nA little over one hundred years ago\, Australia’s first electrified suburban railways commenced operations. Melbourne led the way when electric trains ran between Essendon and Sandringham on 28 May 1919. Sydney followed suit seven years later when its first electric train ran between Central and Oatley on 1 March 1926. Within the year\, Sydney’s electric trains also ran into Australia’s first underground railway. \nMelbourne’s Great Metropolitan Railways celebrates the birth and development of Melbourne’s electric railways from the Federation of Australia into the new Millennium\, through good times and bad\, with a nod across the border and elsewhere. It tells how railway electrification was the nation building enterprise of the early 20th Century. It shows how these railways became Melbourne’s public transport backbone. \nBookings are essential with a gold coin for entry.
URL:https://www.historyvictoria.org.au/event/melbournes-great-metropolitan-railways/
LOCATION:39 St Edmonds Road\, Prahran\, VIC 3181\, 39 St Edmonds Road\, Prahran\, VIC\, 3181\, Australia
CATEGORIES:Victorian History Events
ATTACH;FMTTYPE=image/png:https://www.historyvictoria.org.au/wp-content/uploads/2023/11/Railways_Feb-2024.png
ORGANIZER;CN="Prahran Mechanics' Institute Victorian History Library":MAILTO:library@pmi.net.au
END:VEVENT
END:VCALENDAR