BEGIN:VCALENDAR
VERSION:2.0
PRODID:-//Royal Historical Society of Victoria - ECPv6.15.12.2//NONSGML v1.0//EN
CALSCALE:GREGORIAN
METHOD:PUBLISH
X-WR-CALNAME:Royal Historical Society of Victoria
X-ORIGINAL-URL:https://www.historyvictoria.org.au
X-WR-CALDESC:Events for Royal Historical Society of Victoria
REFRESH-INTERVAL;VALUE=DURATION:PT1H
X-Robots-Tag:noindex
X-PUBLISHED-TTL:PT1H
BEGIN:VTIMEZONE
TZID:Australia/Melbourne
BEGIN:STANDARD
TZOFFSETFROM:+1100
TZOFFSETTO:+1000
TZNAME:AEST
DTSTART:20230401T160000
END:STANDARD
BEGIN:DAYLIGHT
TZOFFSETFROM:+1000
TZOFFSETTO:+1100
TZNAME:AEDT
DTSTART:20230930T160000
END:DAYLIGHT
BEGIN:STANDARD
TZOFFSETFROM:+1100
TZOFFSETTO:+1000
TZNAME:AEST
DTSTART:20240406T160000
END:STANDARD
BEGIN:DAYLIGHT
TZOFFSETFROM:+1000
TZOFFSETTO:+1100
TZNAME:AEDT
DTSTART:20241005T160000
END:DAYLIGHT
BEGIN:STANDARD
TZOFFSETFROM:+1100
TZOFFSETTO:+1000
TZNAME:AEST
DTSTART:20250405T160000
END:STANDARD
BEGIN:DAYLIGHT
TZOFFSETFROM:+1000
TZOFFSETTO:+1100
TZNAME:AEDT
DTSTART:20251004T160000
END:DAYLIGHT
END:VTIMEZONE
BEGIN:VEVENT
DTSTART;TZID=Australia/Melbourne:20240417T090000
DTEND;TZID=Australia/Melbourne:20240816T170000
DTSTAMP:20260424T173706
CREATED:20240315T024031Z
LAST-MODIFIED:20240408T033432Z
UID:10000967-1713344400-1723827600@www.historyvictoria.org.au
SUMMARY:Gotcha! Concrete Prints from the McEwans Celebrity Pavement
DESCRIPTION:Who remembers the McEwans celebrity pavement? \nBetween 1972 and 1994\, scores of celebrities had their hand- and footprints immortalised in cement at the entrance of the McEwans hardware store in Bourke Street. Shopping for a hammer or a hair-dryer\, you’d step in the prints of actors\, musicians\, sportspeople\, writers\, dancers\, politicians\, an astronaut\, a racehorse – even an operatic dog. \nCurated by Robyn Annear\, ‘Gotcha!’ presents 40 of the surviving prints from the McEwans pavement\, together with stories of the celebrities who made them and newspaper images that capture the mood of the times. \nNote: enter City Gallery via Customer Relations\nMonday to Friday: 9am to 5pm
URL:https://www.historyvictoria.org.au/event/gotcha-concrete-prints-from-the-mcewans-celebrity-pavement/
LOCATION:City Gallery\, 110 Swanston Street\, Melbourne\, VIC\, 3000\, Australia
CATEGORIES:Victorian History Events
ATTACH;FMTTYPE=image/jpeg:https://www.historyvictoria.org.au/wp-content/uploads/2024/03/Gotcha-promo-image-1080-x-1080.jpg
ORGANIZER;CN="City of Melbourne Art and Heritage Collection":MAILTO:citygallery@melbourne.vic.gov.au
END:VEVENT
BEGIN:VEVENT
DTSTART;TZID=Australia/Melbourne:20240525T110000
DTEND;TZID=Australia/Melbourne:20240525T160000
DTSTAMP:20260424T173706
CREATED:20240429T044013Z
LAST-MODIFIED:20240429T044013Z
UID:10000993-1716634800-1716652800@www.historyvictoria.org.au
SUMMARY:Historic Country 3 Courts Car Tour Weekend
DESCRIPTION:Interested in the history of Law in Victoria? Experience 3 historic courtrooms  \nThree Court Houses are opening their doors for a weekend of car touring. It is a leisurely drive between Port Fairy\, Macarthur & Penshurst in the vicinity of vineyard lunches and cottage accommodation. \n\nPenshurst Court House History Centre\, 33 Martin Street Penshurst\nMacarthur Court House Museum\, 31 High Street Macarthur\nPort Fairy Court House Museum\, 30 Gipps Street Port Fairy\n\nStand in the Dock and bring the Courtroom to life! \nMay 25th and 26th 11am to 4pm  \nClick here to book
URL:https://www.historyvictoria.org.au/event/historic-country-3-courts-car-tour-weekend/2024-05-25/
LOCATION:VIC
CATEGORIES:Victorian History Events
ATTACH;FMTTYPE=image/jpeg:https://www.historyvictoria.org.au/wp-content/uploads/2024/04/3-court-macarthur-weekend.jpg
END:VEVENT
BEGIN:VEVENT
DTSTART;TZID=Australia/Melbourne:20240525T140000
DTEND;TZID=Australia/Melbourne:20240525T170000
DTSTAMP:20260424T173706
CREATED:20240422T023759Z
LAST-MODIFIED:20240422T023759Z
UID:10000984-1716645600-1716656400@www.historyvictoria.org.au
SUMMARY:Monash Park Historical Signage
DESCRIPTION:Monash Park Historical Signage\, Saturday 25th May\, 2.00pm. \nWe are thrilled to announce the highly anticipated official unveiling of the Monash Park Signage Project\, an exciting initiative showcasing Shepparton’s rich early history. These panels offer a captivating glimpse into the past\, particularly focusing on the area along the river at the back of Welsford Street between High and Fryers Streets. \nAs the heart of Shepparton’s early European settlement\, Welsford Street stood as the town’s centre when the first waves of development swept through. The sixteen historic interpretive panels serve as poignant reminders of the industries and events that shaped the area’s history\, highlighting the significant contributions made along the riverbank. \nThis project is proudly presented by the Shepparton Heritage Centre\, in collaboration with RiverConnect and Greater Shepparton City Council. We invite you to join us in celebrating our heritage and exploring the fascinating stories behind Shepparton’s evolution. \nFollowing the unveiling ceremony\, an afternoon tea will be provided by Shepparton Heritage Centre in the History Research Hub\, 156 Welsford Street. \nWhen: Saturday 25th May\, 2.00pm\nWhere: History Research Hub\, 156 Welsford Street Shepparton VIC 3630\nNo RSVP required\nContact Shepparton Heritage Centre for all queries: secretary@sheppartonheritage.com.au
URL:https://www.historyvictoria.org.au/event/monash-park-historical-signage/
LOCATION:Shepparton Heritagfe Centre\, 154 Welford Street\, Shepparton\, VIC\, 3630
CATEGORIES:Victorian History Events
ATTACH;FMTTYPE=image/jpeg:https://www.historyvictoria.org.au/wp-content/uploads/2024/04/monash-park-signage.jpg
END:VEVENT
END:VCALENDAR