BEGIN:VCALENDAR
VERSION:2.0
PRODID:-//Royal Historical Society of Victoria - ECPv6.15.12.2//NONSGML v1.0//EN
CALSCALE:GREGORIAN
METHOD:PUBLISH
X-WR-CALNAME:Royal Historical Society of Victoria
X-ORIGINAL-URL:https://www.historyvictoria.org.au
X-WR-CALDESC:Events for Royal Historical Society of Victoria
REFRESH-INTERVAL;VALUE=DURATION:PT1H
X-Robots-Tag:noindex
X-PUBLISHED-TTL:PT1H
BEGIN:VTIMEZONE
TZID:Australia/Melbourne
BEGIN:STANDARD
TZOFFSETFROM:+1100
TZOFFSETTO:+1000
TZNAME:AEST
DTSTART:20230401T160000
END:STANDARD
BEGIN:DAYLIGHT
TZOFFSETFROM:+1000
TZOFFSETTO:+1100
TZNAME:AEDT
DTSTART:20230930T160000
END:DAYLIGHT
BEGIN:STANDARD
TZOFFSETFROM:+1100
TZOFFSETTO:+1000
TZNAME:AEST
DTSTART:20240406T160000
END:STANDARD
BEGIN:DAYLIGHT
TZOFFSETFROM:+1000
TZOFFSETTO:+1100
TZNAME:AEDT
DTSTART:20241005T160000
END:DAYLIGHT
BEGIN:STANDARD
TZOFFSETFROM:+1100
TZOFFSETTO:+1000
TZNAME:AEST
DTSTART:20250405T160000
END:STANDARD
BEGIN:DAYLIGHT
TZOFFSETFROM:+1000
TZOFFSETTO:+1100
TZNAME:AEDT
DTSTART:20251004T160000
END:DAYLIGHT
END:VTIMEZONE
BEGIN:VEVENT
DTSTART;TZID=Australia/Melbourne:20240417T090000
DTEND;TZID=Australia/Melbourne:20240816T170000
DTSTAMP:20260425T014550
CREATED:20240315T024031Z
LAST-MODIFIED:20240408T033432Z
UID:10000967-1713344400-1723827600@www.historyvictoria.org.au
SUMMARY:Gotcha! Concrete Prints from the McEwans Celebrity Pavement
DESCRIPTION:Who remembers the McEwans celebrity pavement? \nBetween 1972 and 1994\, scores of celebrities had their hand- and footprints immortalised in cement at the entrance of the McEwans hardware store in Bourke Street. Shopping for a hammer or a hair-dryer\, you’d step in the prints of actors\, musicians\, sportspeople\, writers\, dancers\, politicians\, an astronaut\, a racehorse – even an operatic dog. \nCurated by Robyn Annear\, ‘Gotcha!’ presents 40 of the surviving prints from the McEwans pavement\, together with stories of the celebrities who made them and newspaper images that capture the mood of the times. \nNote: enter City Gallery via Customer Relations\nMonday to Friday: 9am to 5pm
URL:https://www.historyvictoria.org.au/event/gotcha-concrete-prints-from-the-mcewans-celebrity-pavement/
LOCATION:City Gallery\, 110 Swanston Street\, Melbourne\, VIC\, 3000\, Australia
CATEGORIES:Victorian History Events
ATTACH;FMTTYPE=image/jpeg:https://www.historyvictoria.org.au/wp-content/uploads/2024/03/Gotcha-promo-image-1080-x-1080.jpg
ORGANIZER;CN="City of Melbourne Art and Heritage Collection":MAILTO:citygallery@melbourne.vic.gov.au
END:VEVENT
BEGIN:VEVENT
DTSTART;TZID=Australia/Melbourne:20240619T193000
DTEND;TZID=Australia/Melbourne:20240619T210000
DTSTAMP:20260425T014550
CREATED:20240606T051751Z
LAST-MODIFIED:20240606T051751Z
UID:10000528-1718825400-1718830800@www.historyvictoria.org.au
SUMMARY:Our Yarra River
DESCRIPTION:East Melbourne Historical Society Presents “Our Yarra River” \nPresenter: Ian Penrose \nIan is a former senior executive in the coal mining and gas industries\, but after 27 years he switched his focus to the natural environment. \nHe headed the Victorian Government’s program to restore the Snowy River with increased flows and bankside rehabilitation. Later\, as a state water commissioner\, he helped manage environmental water releases into our depleted rivers and wetlands. \nIn 2006\, he became the first Yarra Riverkeeper\, leading the community’s campaign to improve the well-being and appreciation of Melbourne’s special waterway. This role (of nine years) earned him the City of Melbourne’s 2010 “Melbourne Award for contribution to the environment” and (as co-winner) Boroondara’s 2015 “Citizen of the Year” award. \nIn his presentation Ian will share with us what he has learnt of the Yarra’s history\, and his thoughts about its future. \nWhen: Wednesday 19 Jun 2024 – 7:30pm \nLocation: East Melbourne Library\, 122 George Street\, East Melbourne \nEntry fee: Members free; non-members $5.00 \ntel: 0437 221 249\nemail: enquiries@emhs.org.au
URL:https://www.historyvictoria.org.au/event/our-yarra-river/
LOCATION:East Melbourne Library\, 122 George St\, East Melbourne\, VIC\, 3002\, Australia
CATEGORIES:Victorian History Events
ORGANIZER;CN="East Melbourne Historical Society":MAILTO:info@emhs.org.au
END:VEVENT
END:VCALENDAR