BEGIN:VCALENDAR
VERSION:2.0
PRODID:-//Royal Historical Society of Victoria - ECPv6.15.12.2//NONSGML v1.0//EN
CALSCALE:GREGORIAN
METHOD:PUBLISH
X-ORIGINAL-URL:https://www.historyvictoria.org.au
X-WR-CALDESC:Events for Royal Historical Society of Victoria
REFRESH-INTERVAL;VALUE=DURATION:PT1H
X-Robots-Tag:noindex
X-PUBLISHED-TTL:PT1H
BEGIN:VTIMEZONE
TZID:Australia/Melbourne
BEGIN:STANDARD
TZOFFSETFROM:+1100
TZOFFSETTO:+1000
TZNAME:AEST
DTSTART:20230401T160000
END:STANDARD
BEGIN:DAYLIGHT
TZOFFSETFROM:+1000
TZOFFSETTO:+1100
TZNAME:AEDT
DTSTART:20230930T160000
END:DAYLIGHT
BEGIN:STANDARD
TZOFFSETFROM:+1100
TZOFFSETTO:+1000
TZNAME:AEST
DTSTART:20240406T160000
END:STANDARD
BEGIN:DAYLIGHT
TZOFFSETFROM:+1000
TZOFFSETTO:+1100
TZNAME:AEDT
DTSTART:20241005T160000
END:DAYLIGHT
BEGIN:STANDARD
TZOFFSETFROM:+1100
TZOFFSETTO:+1000
TZNAME:AEST
DTSTART:20250405T160000
END:STANDARD
BEGIN:DAYLIGHT
TZOFFSETFROM:+1000
TZOFFSETTO:+1100
TZNAME:AEDT
DTSTART:20251004T160000
END:DAYLIGHT
END:VTIMEZONE
BEGIN:VEVENT
DTSTART;TZID=Australia/Melbourne:20240417T090000
DTEND;TZID=Australia/Melbourne:20240816T170000
DTSTAMP:20260424T022532
CREATED:20240315T024031Z
LAST-MODIFIED:20240408T033432Z
UID:10000967-1713344400-1723827600@www.historyvictoria.org.au
SUMMARY:Gotcha! Concrete Prints from the McEwans Celebrity Pavement
DESCRIPTION:Who remembers the McEwans celebrity pavement? \nBetween 1972 and 1994\, scores of celebrities had their hand- and footprints immortalised in cement at the entrance of the McEwans hardware store in Bourke Street. Shopping for a hammer or a hair-dryer\, you’d step in the prints of actors\, musicians\, sportspeople\, writers\, dancers\, politicians\, an astronaut\, a racehorse – even an operatic dog. \nCurated by Robyn Annear\, ‘Gotcha!’ presents 40 of the surviving prints from the McEwans pavement\, together with stories of the celebrities who made them and newspaper images that capture the mood of the times. \nNote: enter City Gallery via Customer Relations\nMonday to Friday: 9am to 5pm
URL:https://www.historyvictoria.org.au/event/gotcha-concrete-prints-from-the-mcewans-celebrity-pavement/
LOCATION:City Gallery\, 110 Swanston Street\, Melbourne\, VIC\, 3000\, Australia
CATEGORIES:Victorian History Events
ATTACH;FMTTYPE=image/jpeg:https://www.historyvictoria.org.au/wp-content/uploads/2024/03/Gotcha-promo-image-1080-x-1080.jpg
ORGANIZER;CN="City of Melbourne Art and Heritage Collection":MAILTO:citygallery@melbourne.vic.gov.au
END:VEVENT
BEGIN:VEVENT
DTSTART;TZID=Australia/Melbourne:20240626T103000
DTEND;TZID=Australia/Melbourne:20240626T140000
DTSTAMP:20260424T022532
CREATED:20240403T230840Z
LAST-MODIFIED:20240918T222144Z
UID:10000974-1719397800-1719410400@www.historyvictoria.org.au
SUMMARY:Family History Workshops
DESCRIPTION:👩🏽‍👩🏽‍👦🏽‍👦🏽 Family History Workshops hosted by Wendy Eldridge from our Friends of the Library. \nDo you want some guided help with your family history journey? We can help. Join a friendly and supportive environment while making use of the many resources available at the PMI Victorian History Library. \nOur workshops will cover: \n28 Feb – What you need to know what you Get Started\n24 Apr – What Beginners should do\n26 Jun – Special Guest – Heather Arnold\n28 Aug – Doing your family history using Ancestry\n30 Oct – Doing your family history using Ancestry / Understanding Military Records and Resources \nBookings are essential.
URL:https://www.historyvictoria.org.au/event/family-history-workshops/2024-06-26/
LOCATION:39 St Edmonds Road\, Prahran\, VIC 3181\, 39 St Edmonds Road\, Prahran\, VIC\, 3181\, Australia
CATEGORIES:Victorian History Events
ATTACH;FMTTYPE=image/png:https://www.historyvictoria.org.au/wp-content/uploads/2024/04/Book-Sale_2023-PMI.png
ORGANIZER;CN="Prahran Mechanics' Institute Victorian History Library":MAILTO:library@pmi.net.au
END:VEVENT
BEGIN:VEVENT
DTSTART;TZID=Australia/Melbourne:20240626T110000
DTEND;TZID=Australia/Melbourne:20240626T120000
DTSTAMP:20260424T022532
CREATED:20240619T012248Z
LAST-MODIFIED:20240621T050847Z
UID:10000536-1719399600-1719403200@www.historyvictoria.org.au
SUMMARY:CURATOR'S TOUR OF MELBOURNE'S STORIED LANEWAYS WITH DAVID THOMPSON
DESCRIPTION:David Thompson will take you behind the scenes of our current exhibition\, Melbourne’s Storied Laneways which David curated. The exhibition was prompted by the upcoming publication of The Story of Melbourne’s Lanes: Essential but Unplanned by Weston Bate\, Richard Broome\, Nicole Davis\, Andrew J. May\, Helen Stitt which will be launched on 3rd October 2024. \nWe all have our favourite Melbourne laneway and curator David Thompson has chosen a handful of lanes which reveal intriguing Melbourne stories. When we think of today’s gussied-up\, tourist-friendly laneways like Guilford Lane and Hosier Lane\, it is hard to imagine that a mere 50 years ago the laneways were workaday places full still of small factories and light industry. \nOther dates available: \n28 August \n25 September\n9 October 
URL:https://www.historyvictoria.org.au/event/curators-tour-of-melbournes-storied-laneways-with-david-thompson/
LOCATION:RHSV Gallery Downstairs\, 239 A'Beckett St\, Melbourne\, Victoria\, 3000\, Australia
CATEGORIES:What's On
ATTACH;FMTTYPE=image/jpeg:https://www.historyvictoria.org.au/wp-content/uploads/2024/06/Print-A0-Laneway-poster-image-scaled.jpg
ORGANIZER;CN="Royal Historical Society of Victoria":MAILTO:office@historyvictoria.org.au
END:VEVENT
END:VCALENDAR