BEGIN:VCALENDAR
VERSION:2.0
PRODID:-//Royal Historical Society of Victoria - ECPv6.15.12.2//NONSGML v1.0//EN
CALSCALE:GREGORIAN
METHOD:PUBLISH
X-WR-CALNAME:Royal Historical Society of Victoria
X-ORIGINAL-URL:https://www.historyvictoria.org.au
X-WR-CALDESC:Events for Royal Historical Society of Victoria
REFRESH-INTERVAL;VALUE=DURATION:PT1H
X-Robots-Tag:noindex
X-PUBLISHED-TTL:PT1H
BEGIN:VTIMEZONE
TZID:Australia/Melbourne
BEGIN:STANDARD
TZOFFSETFROM:+1100
TZOFFSETTO:+1000
TZNAME:AEST
DTSTART:20230401T160000
END:STANDARD
BEGIN:DAYLIGHT
TZOFFSETFROM:+1000
TZOFFSETTO:+1100
TZNAME:AEDT
DTSTART:20230930T160000
END:DAYLIGHT
BEGIN:STANDARD
TZOFFSETFROM:+1100
TZOFFSETTO:+1000
TZNAME:AEST
DTSTART:20240406T160000
END:STANDARD
BEGIN:DAYLIGHT
TZOFFSETFROM:+1000
TZOFFSETTO:+1100
TZNAME:AEDT
DTSTART:20241005T160000
END:DAYLIGHT
BEGIN:STANDARD
TZOFFSETFROM:+1100
TZOFFSETTO:+1000
TZNAME:AEST
DTSTART:20250405T160000
END:STANDARD
BEGIN:DAYLIGHT
TZOFFSETFROM:+1000
TZOFFSETTO:+1100
TZNAME:AEDT
DTSTART:20251004T160000
END:DAYLIGHT
END:VTIMEZONE
BEGIN:VEVENT
DTSTART;TZID=Australia/Melbourne:20240417T090000
DTEND;TZID=Australia/Melbourne:20240816T170000
DTSTAMP:20260421T231552
CREATED:20240315T024031Z
LAST-MODIFIED:20240408T033432Z
UID:10000967-1713344400-1723827600@www.historyvictoria.org.au
SUMMARY:Gotcha! Concrete Prints from the McEwans Celebrity Pavement
DESCRIPTION:Who remembers the McEwans celebrity pavement? \nBetween 1972 and 1994\, scores of celebrities had their hand- and footprints immortalised in cement at the entrance of the McEwans hardware store in Bourke Street. Shopping for a hammer or a hair-dryer\, you’d step in the prints of actors\, musicians\, sportspeople\, writers\, dancers\, politicians\, an astronaut\, a racehorse – even an operatic dog. \nCurated by Robyn Annear\, ‘Gotcha!’ presents 40 of the surviving prints from the McEwans pavement\, together with stories of the celebrities who made them and newspaper images that capture the mood of the times. \nNote: enter City Gallery via Customer Relations\nMonday to Friday: 9am to 5pm
URL:https://www.historyvictoria.org.au/event/gotcha-concrete-prints-from-the-mcewans-celebrity-pavement/
LOCATION:City Gallery\, 110 Swanston Street\, Melbourne\, VIC\, 3000\, Australia
CATEGORIES:Victorian History Events
ATTACH;FMTTYPE=image/jpeg:https://www.historyvictoria.org.au/wp-content/uploads/2024/03/Gotcha-promo-image-1080-x-1080.jpg
ORGANIZER;CN="City of Melbourne Art and Heritage Collection":MAILTO:citygallery@melbourne.vic.gov.au
END:VEVENT
BEGIN:VEVENT
DTSTART;TZID=Australia/Melbourne:20240813T183000
DTEND;TZID=Australia/Melbourne:20240813T193000
DTSTAMP:20260421T231552
CREATED:20240404T063936Z
LAST-MODIFIED:20240404T063936Z
UID:10000512-1723573800-1723577400@www.historyvictoria.org.au
SUMMARY:Melbourne's Art Deco cinemas of the late 1930s
DESCRIPTION:🍿Melbourne’s Art Deco cinemas of the late 1930s \nAs Melbourne emerged from the Depression in 1935 its citizens could again afford a night out at the pictures. The suburbs saw many new cinemas built\, until it was curtailed by wartime building restrictions in 1941. Join Royce Harris of the Cinema and Theatre Historical Society (CATHS) as we explore the cinema experience of the 30s as well as take a look at the buildings themselves\, which were moderne variations of the Art Deco architecture of the time. \nSeveral of these cinemas\, including the Rivoli in Camberwell and the Yarraville Sun\, are still screening but you will also discover many long forgotten gems. \nBookings are essential with a gold coin for entry.
URL:https://www.historyvictoria.org.au/event/melbournes-art-deco-cinemas-of-the-late-1930s/
LOCATION:39 St Edmonds Road\, Prahran\, VIC 3181\, 39 St Edmonds Road\, Prahran\, VIC\, 3181\, Australia
CATEGORIES:Victorian History Events
ATTACH;FMTTYPE=image/png:https://www.historyvictoria.org.au/wp-content/uploads/2024/04/CATHS-_Banner_Aug-2024.png
ORGANIZER;CN="Prahran Mechanics' Institute Victorian History Library":MAILTO:library@pmi.net.au
END:VEVENT
BEGIN:VEVENT
DTSTART;TZID=Australia/Melbourne:20240813T183000
DTEND;TZID=Australia/Melbourne:20240813T193000
DTSTAMP:20260421T231552
CREATED:20240724T051847Z
LAST-MODIFIED:20240724T051847Z
UID:10001012-1723573800-1723577400@www.historyvictoria.org.au
SUMMARY:All at Sea: Books with a Maritime Flavour
DESCRIPTION:Speaker: Professor Chris Browne \nTuesday 13th August \n6.30pm – 7.30pm at The Melbourne Athenaeum Library \nLevel 1\, 118 Collins Street\, Melbourne \nPresented by The Melbourne Maritime Heritage Network\, Rare Books Melbourne and The Melbourne Athenaeum Library \nAll at Sea is an exploration of literature with a strong maritime setting\, chosen and presented by Melbourne book collector Chris Browne from his extensive library. From the beginnings of the novel in the seventeenth century until the present day\, the sea has provided a compelling backdrop for storytelling from tales of adventure and daring do through romance and philosophy to historical\, political and geographical drama. \nFollow life from The Water Babies to The Old Man and the Sea. Explore the exploits of well-known heroes such as Hornblower\, Aubrey\, and Kydd and forgotten heroes like Frank Mildmay\, Jack Saunders and Peter Simple\, and the unforgettable villains Hook\, Queeg and Long John Silver. Join us in the world of Night Plunderers and Game Lumpers\, Lightermen and Scuffle-Hunters. So\, raise the Blue Peter and let’s cast off. \nThe event is free to all. \nPlease reserve a place by booking at:  https://www.trybooking.com/CTMZH
URL:https://www.historyvictoria.org.au/event/all-at-sea-books-with-a-maritime-flavour/
LOCATION:The Melbourne Athenaeum Library\, Level 1\, 118 Collins Street\, Melbourne
CATEGORIES:Victorian History Events
ATTACH;FMTTYPE=image/jpeg:https://www.historyvictoria.org.au/wp-content/uploads/2024/07/all-at-sea.jpg
ORGANIZER;CN="Melbourne Maritime Heritage Network":MAILTO:info@MMHN.org.au
END:VEVENT
END:VCALENDAR