BEGIN:VCALENDAR
VERSION:2.0
PRODID:-//Royal Historical Society of Victoria - ECPv6.15.12.2//NONSGML v1.0//EN
CALSCALE:GREGORIAN
METHOD:PUBLISH
X-WR-CALNAME:Royal Historical Society of Victoria
X-ORIGINAL-URL:https://www.historyvictoria.org.au
X-WR-CALDESC:Events for Royal Historical Society of Victoria
REFRESH-INTERVAL;VALUE=DURATION:PT1H
X-Robots-Tag:noindex
X-PUBLISHED-TTL:PT1H
BEGIN:VTIMEZONE
TZID:Australia/Melbourne
BEGIN:STANDARD
TZOFFSETFROM:+1100
TZOFFSETTO:+1000
TZNAME:AEST
DTSTART:20230401T160000
END:STANDARD
BEGIN:DAYLIGHT
TZOFFSETFROM:+1000
TZOFFSETTO:+1100
TZNAME:AEDT
DTSTART:20230930T160000
END:DAYLIGHT
BEGIN:STANDARD
TZOFFSETFROM:+1100
TZOFFSETTO:+1000
TZNAME:AEST
DTSTART:20240406T160000
END:STANDARD
BEGIN:DAYLIGHT
TZOFFSETFROM:+1000
TZOFFSETTO:+1100
TZNAME:AEDT
DTSTART:20241005T160000
END:DAYLIGHT
BEGIN:STANDARD
TZOFFSETFROM:+1100
TZOFFSETTO:+1000
TZNAME:AEST
DTSTART:20250405T160000
END:STANDARD
BEGIN:DAYLIGHT
TZOFFSETFROM:+1000
TZOFFSETTO:+1100
TZNAME:AEDT
DTSTART:20251004T160000
END:DAYLIGHT
END:VTIMEZONE
BEGIN:VEVENT
DTSTART;TZID=Australia/Melbourne:20240821T180000
DTEND;TZID=Australia/Melbourne:20240821T190000
DTSTAMP:20260422T041611
CREATED:20240805T032945Z
LAST-MODIFIED:20240805T032945Z
UID:10001020-1724263200-1724266800@www.historyvictoria.org.au
SUMMARY:The Dressmakers of Auschwitz book talk
DESCRIPTION:At the height of the Holocaust\, twenty-five young inmates of the infamous Auschwitz-Birkenau concentration camp – mainly Jewish women and girls – were selected to design\, cut\, and sew beautiful fashions for elite Nazi women in a dedicated salon. It was work that they hoped would spare them from the gas chambers. Drawing on diverse sources including interviews with the last surviving seamstress\, The Dressmakers of Auschwitz follows the fates of these brave women. \nIn this captivating event\, author and historian Lucy Adlington will join us virtually from the United Kingdom to uncover these stories. In conversation with the Melbourne Holocaust Museum’s Dr Breann Fallon\, Lucy will reveal the bonds of family and friendship that helped these women endure persecution.  \nGuests will have an opportunity to explore the Shrine’s exhibition Trenches to Runway: Military Influences on Modern Fashion before the talk commences. While the exhibition does not explore the themes in The Dressmakers of Auschwitz\, it draws important parallels between the impact of military clothing design and wartime conditions on popular fashion\, tracing these influences from the 1870s to the present day.
URL:https://www.historyvictoria.org.au/event/the-dressmakers-of-auschwitz-book-talk-2/
LOCATION:Shrine of Remembrance\, Birdwood Ave\, Melbourne\, VIC\, 3004\, Australia
CATEGORIES:Victorian History Events
ATTACH;FMTTYPE=image/png:https://www.historyvictoria.org.au/wp-content/uploads/2024/08/Untitled-design-6.png
ORGANIZER;CN="Laura Thomas":MAILTO:programs@shrine.org.au
END:VEVENT
END:VCALENDAR