BEGIN:VCALENDAR
VERSION:2.0
PRODID:-//Royal Historical Society of Victoria - ECPv6.15.12.2//NONSGML v1.0//EN
CALSCALE:GREGORIAN
METHOD:PUBLISH
X-WR-CALNAME:Royal Historical Society of Victoria
X-ORIGINAL-URL:https://www.historyvictoria.org.au
X-WR-CALDESC:Events for Royal Historical Society of Victoria
REFRESH-INTERVAL;VALUE=DURATION:PT1H
X-Robots-Tag:noindex
X-PUBLISHED-TTL:PT1H
BEGIN:VTIMEZONE
TZID:Australia/Melbourne
BEGIN:STANDARD
TZOFFSETFROM:+1100
TZOFFSETTO:+1000
TZNAME:AEST
DTSTART:20230401T160000
END:STANDARD
BEGIN:DAYLIGHT
TZOFFSETFROM:+1000
TZOFFSETTO:+1100
TZNAME:AEDT
DTSTART:20230930T160000
END:DAYLIGHT
BEGIN:STANDARD
TZOFFSETFROM:+1100
TZOFFSETTO:+1000
TZNAME:AEST
DTSTART:20240406T160000
END:STANDARD
BEGIN:DAYLIGHT
TZOFFSETFROM:+1000
TZOFFSETTO:+1100
TZNAME:AEDT
DTSTART:20241005T160000
END:DAYLIGHT
BEGIN:STANDARD
TZOFFSETFROM:+1100
TZOFFSETTO:+1000
TZNAME:AEST
DTSTART:20250405T160000
END:STANDARD
BEGIN:DAYLIGHT
TZOFFSETFROM:+1000
TZOFFSETTO:+1100
TZNAME:AEDT
DTSTART:20251004T160000
END:DAYLIGHT
END:VTIMEZONE
BEGIN:VEVENT
DTSTART;VALUE=DATE:20240823
DTEND;VALUE=DATE:20241021
DTSTAMP:20260420T141600
CREATED:20240815T042005Z
LAST-MODIFIED:20240815T042005Z
UID:10001021-1724371200-1729468799@www.historyvictoria.org.au
SUMMARY:Como House of Discovery: Traces of Girlhood
DESCRIPTION:History has left only traces of the experience of girlhood. Yet traces do remain\, poignant and important. They tell the stories of girls and young women who grew up in 19th and early 20th-century Victoria and the central role they played in our society.   \nThis exhibition at Como House in South Yarra will illuminate these traces\, featuring handiwork\, scrapbooks\, writing\, archaeological artefacts and photographs.   \nExploring themes including opportunities and expectations\, work and play\, learning and connections\, Traces of Girlhood brings together the diverse experiences of girls from our past through the things they have left behind.   \nBook tickets for the weekend Open House sessions to view the exhibition at your own pace\, or join a house tour to learn more of the history and stories of Como House & Garden.  \nThis exhibition is generously supported by The Hansen Little Public Humanities Grant\, Faculty of Arts\, University of Melbourne\, and presenting partner Heritage Victoria.
URL:https://www.historyvictoria.org.au/event/como-house-of-discovery-traces-of-girlhood/
LOCATION:Como House &amp; Garden\, Corner Williams Rd & Lechlade Ave\, South Yarra\, Victoria\, 3141\, Australia
CATEGORIES:Victorian History Events
ATTACH;FMTTYPE=image/jpeg:https://www.historyvictoria.org.au/wp-content/uploads/2024/08/3-Laura-Armytage.jpg
END:VEVENT
BEGIN:VEVENT
DTSTART;TZID=Australia/Melbourne:20240828T103000
DTEND;TZID=Australia/Melbourne:20240828T140000
DTSTAMP:20260420T141600
CREATED:20240403T230840Z
LAST-MODIFIED:20240918T222144Z
UID:10000976-1724841000-1724853600@www.historyvictoria.org.au
SUMMARY:Family History Workshops
DESCRIPTION:👩🏽‍👩🏽‍👦🏽‍👦🏽 Family History Workshops hosted by Wendy Eldridge from our Friends of the Library. \nDo you want some guided help with your family history journey? We can help. Join a friendly and supportive environment while making use of the many resources available at the PMI Victorian History Library. \nOur workshops will cover: \n28 Feb – What you need to know what you Get Started\n24 Apr – What Beginners should do\n26 Jun – Special Guest – Heather Arnold\n28 Aug – Doing your family history using Ancestry\n30 Oct – Doing your family history using Ancestry / Understanding Military Records and Resources \nBookings are essential.
URL:https://www.historyvictoria.org.au/event/family-history-workshops/2024-08-28/
LOCATION:39 St Edmonds Road\, Prahran\, VIC 3181\, 39 St Edmonds Road\, Prahran\, VIC\, 3181\, Australia
CATEGORIES:Victorian History Events
ATTACH;FMTTYPE=image/png:https://www.historyvictoria.org.au/wp-content/uploads/2024/04/Book-Sale_2023-PMI.png
ORGANIZER;CN="Prahran Mechanics' Institute Victorian History Library":MAILTO:library@pmi.net.au
END:VEVENT
BEGIN:VEVENT
DTSTART;TZID=Australia/Melbourne:20240828T110000
DTEND;TZID=Australia/Melbourne:20240828T120000
DTSTAMP:20260420T141600
CREATED:20240621T045934Z
LAST-MODIFIED:20240821T224219Z
UID:10000538-1724842800-1724846400@www.historyvictoria.org.au
SUMMARY:CURATOR'S TOUR OF MELBOURNE'S STORIED LANEWAYS WITH DAVID THOMPSON
DESCRIPTION:David Thompson will take you behind the scenes of our current exhibition\, Melbourne’s Storied Laneways which David curated. The exhibition was prompted by the upcoming publication of  The Story of Melbourne’s Lanes: Essential but Unplanned by Weston Bate\, Richard Broome\, Nicole Davis\, Andrew J. May\, Helen Stitt  which will be launched on 3rd October 2024. \nWe all have our favourite Melbourne laneway and curator David Thompson has chosen a handful of lanes which reveal intriguing Melbourne stories. When we think of today’s gussied-up\, tourist-friendly laneways like Guilford Lane and Hosier Lane\, it is hard to imagine that a mere 50 years ago the laneways were workaday places full still of small factories and light industry. \nOther dates available: \n26 June \n25 September\n9 October 
URL:https://www.historyvictoria.org.au/event/curators-tour-of-melbournes-storied-laneways-with-david-thompson-2/
LOCATION:RHSV Gallery Downstairs\, 239 A'Beckett St\, Melbourne\, Victoria\, 3000\, Australia
CATEGORIES:What's On
ATTACH;FMTTYPE=image/jpeg:https://www.historyvictoria.org.au/wp-content/uploads/2024/06/Print-A0-Laneway-poster-image-scaled.jpg
ORGANIZER;CN="Royal Historical Society of Victoria":MAILTO:office@historyvictoria.org.au
END:VEVENT
BEGIN:VEVENT
DTSTART;TZID=Australia/Melbourne:20240828T150000
DTEND;TZID=Australia/Melbourne:20240828T163000
DTSTAMP:20260420T141600
CREATED:20240712T011015Z
LAST-MODIFIED:20240712T011015Z
UID:10001009-1724857200-1724862600@www.historyvictoria.org.au
SUMMARY:Celebrating 100 Years of Frankston High School
DESCRIPTION:Frankston High School is turning 100 this year and to celebrate this important milestone a book has been written called “100 Years 100 Voices” which showcases 100 past students. It tells their stories but also documents the changes that occurred to Frankston from a small fishing village to the large multi cultural city that it is today.\nJust some of these Alumni are:\nSir John Holland : Founder of John Holland Construction Group\nDr Neil Davey : Key person responsible for introduction of decimal currency into Australia in 1966\nPaul A Bottomley : Co-inventor of MRI machine\nDebbie Flintoff-King : Olympic hurdler\, World record holder
URL:https://www.historyvictoria.org.au/event/celebrating-100-years-of-frankston-high-school/
LOCATION:Frankston High School Museum\, Foot Street\, Frankston\, Victoria\, 3199\, Australia
CATEGORIES:Victorian History Events
ATTACH;FMTTYPE=image/jpeg:https://www.historyvictoria.org.au/wp-content/uploads/2024/07/IMG_5990-scaled.jpg
ORGANIZER;CN="Sue Robinson":MAILTO:srobinson@fhs.vic.edu.au
END:VEVENT
END:VCALENDAR