BEGIN:VCALENDAR
VERSION:2.0
PRODID:-//Royal Historical Society of Victoria - ECPv6.15.12.2//NONSGML v1.0//EN
CALSCALE:GREGORIAN
METHOD:PUBLISH
X-WR-CALNAME:Royal Historical Society of Victoria
X-ORIGINAL-URL:https://www.historyvictoria.org.au
X-WR-CALDESC:Events for Royal Historical Society of Victoria
REFRESH-INTERVAL;VALUE=DURATION:PT1H
X-Robots-Tag:noindex
X-PUBLISHED-TTL:PT1H
BEGIN:VTIMEZONE
TZID:Australia/Melbourne
BEGIN:STANDARD
TZOFFSETFROM:+1100
TZOFFSETTO:+1000
TZNAME:AEST
DTSTART:20170401T160000
END:STANDARD
BEGIN:DAYLIGHT
TZOFFSETFROM:+1000
TZOFFSETTO:+1100
TZNAME:AEDT
DTSTART:20170930T160000
END:DAYLIGHT
BEGIN:STANDARD
TZOFFSETFROM:+1100
TZOFFSETTO:+1000
TZNAME:AEST
DTSTART:20180331T160000
END:STANDARD
BEGIN:DAYLIGHT
TZOFFSETFROM:+1000
TZOFFSETTO:+1100
TZNAME:AEDT
DTSTART:20181006T160000
END:DAYLIGHT
BEGIN:STANDARD
TZOFFSETFROM:+1100
TZOFFSETTO:+1000
TZNAME:AEST
DTSTART:20190406T160000
END:STANDARD
BEGIN:DAYLIGHT
TZOFFSETFROM:+1000
TZOFFSETTO:+1100
TZNAME:AEDT
DTSTART:20191005T160000
END:DAYLIGHT
BEGIN:STANDARD
TZOFFSETFROM:+1100
TZOFFSETTO:+1000
TZNAME:AEST
DTSTART:20200404T160000
END:STANDARD
BEGIN:DAYLIGHT
TZOFFSETFROM:+1000
TZOFFSETTO:+1100
TZNAME:AEDT
DTSTART:20201003T160000
END:DAYLIGHT
BEGIN:STANDARD
TZOFFSETFROM:+1100
TZOFFSETTO:+1000
TZNAME:AEST
DTSTART:20210403T160000
END:STANDARD
BEGIN:DAYLIGHT
TZOFFSETFROM:+1000
TZOFFSETTO:+1100
TZNAME:AEDT
DTSTART:20211002T160000
END:DAYLIGHT
BEGIN:STANDARD
TZOFFSETFROM:+1100
TZOFFSETTO:+1000
TZNAME:AEST
DTSTART:20220402T160000
END:STANDARD
BEGIN:DAYLIGHT
TZOFFSETFROM:+1000
TZOFFSETTO:+1100
TZNAME:AEDT
DTSTART:20221001T160000
END:DAYLIGHT
END:VTIMEZONE
BEGIN:VTIMEZONE
TZID:UTC
BEGIN:STANDARD
TZOFFSETFROM:+0000
TZOFFSETTO:+0000
TZNAME:UTC
DTSTART:20170101T000000
END:STANDARD
END:VTIMEZONE
BEGIN:VEVENT
DTSTART;TZID=Australia/Melbourne:20210525T184500
DTEND;TZID=Australia/Melbourne:20210525T203000
DTSTAMP:20260420T105104
CREATED:20210509T234502Z
LAST-MODIFIED:20210510T002800Z
UID:10000215-1621968300-1621974600@www.historyvictoria.org.au
SUMMARY:Pre-European Aboriginal Culture in the Camberwell Area
DESCRIPTION:Pre-European Aboriginal culture in the Camberwell area a presentation via zoom by Dr Gary Presland \nDr Gary Presland studied history at LaTrobe University and archaeology at the University of London. For the past forty years his major research interests have been in the Aboriginal history and natural history of the Melbourne area.\nAt the time Europeans settled in the area of Camberwell\, it was part of the estate of the Wurundjeri willam clan of the Kulin Nation. Dr Presland will detail who these people were\, the many ways in which they were connected and related to other clans within the Kulin\, and how they made a living. \nTuesday 25 May 2021 \n6.45pm for 7pm \nPlease book – the zoom link will be sent after booking \nPhone George Fernando 9885 9927 or enquires@chs.org.au
URL:https://www.historyvictoria.org.au/event/pre-european-aboriginal-culture-in-the-camberwell-area/
LOCATION:ZOOM\, Join from anywhere in the world
CATEGORIES:Local History,Victorian History Events
ATTACH;FMTTYPE=image/png:https://www.historyvictoria.org.au/wp-content/uploads/2021/05/Presland.png
ORGANIZER;CN="Camberwell Historical Society":MAILTO:enquiries@chs.org.au
END:VEVENT
BEGIN:VEVENT
DTSTART;TZID=Australia/Melbourne:20210523T130000
DTEND;TZID=Australia/Melbourne:20210523T160000
DTSTAMP:20260420T105104
CREATED:20210517T233909Z
LAST-MODIFIED:20210517T233921Z
UID:10000675-1621774800-1621785600@www.historyvictoria.org.au
SUMMARY:Open Day at La Trobe’s Cottge
DESCRIPTION:Spend your afternoon in the beautiful Domain\, with a guided tour of the home of our first governor Charles Joseph La Trobe and his family. You will be able to see their elegant yet simple prefabricated house from Melbourne’s early days\, surrounded by garden plants from the era. \nLast guided tour 3.30pm
URL:https://www.historyvictoria.org.au/event/open-day-at-la-trobes-cottge/
LOCATION:La Trobe’s Cottage\, cnr Birdwood Avenue and Dallas Brooks Drive\, Melbourne\, Victoria\, 3004\, Australia
CATEGORIES:Local History,Victorian History Events
ATTACH;FMTTYPE=image/jpeg:https://www.historyvictoria.org.au/wp-content/uploads/2021/05/LCGSD_001-4-scaled.jpg
ORGANIZER;CN="La Trobe's Cottage":MAILTO:info09@latrobesociety.org.au
END:VEVENT
BEGIN:VEVENT
DTSTART;TZID=Australia/Melbourne:20210507T083000
DTEND;TZID=Australia/Melbourne:20210507T170000
DTSTAMP:20260420T105104
CREATED:20210414T063946Z
LAST-MODIFIED:20210414T063946Z
UID:10000134-1620376200-1620406800@www.historyvictoria.org.au
SUMMARY:ONE DAY BUS TRIP – WALKING THE WONDERS OF THE WEST
DESCRIPTION:Join us for a trip to walk around three different historic landscapes in the west of Melbourne. \nHV McKay Memorial Gardens\, Sunshine – Robin McKay Hunt\, great grandson of HV McKay and AGHS member\, together with the Friends of McKay Gardens will inform us and lead a walk to unfold the Sunshine Harvester story and how this industrial suburb was designed along garden city principals including the 1909 gardens which were established for the workers. \nNewport Lakes – In 1989 work commenced to transform this former bluestone quarry and rubbish tip into a bushland oasis which now supports over 200 plant species and many birds and reptiles. We will have a ‘walking lunch’ to give you the opportunity to explore the trails and many viewpoints. \nWilliamstown Botanic Gardens – Permanently reserved in 1856\, these are one of Victoria’s oldest and most intact botanic gardens retaining Victorian and Edwardian features and significant trees\, Curator Shelly Wood will guide us around these gardens and inform us of the significant works that are planned to ensure the future of these gardens. \nNOTE: THERE IS A LOT OF WALKING ON THIS TRIP SO MEMBERS MUST BE CAPABLE AND PREPARED FOR THIS. \nDATE: Friday 7th May 2021 \nCOST: Members $120\, non-members $150 \nDEPARTURE: 8.45am sharp Russell St Extension Bus Loop (behind Ian Potter Gallery) \nRETURN: Approx. 5pm depending on traffic \nINCLUDES: Morning tea\, lunch and notes \nTryBooking \nhttps://www.trybooking.com/BQEQB
URL:https://www.historyvictoria.org.au/event/one-day-bus-trip-walking-the-wonders-of-the-west/
LOCATION:Australian Garden History Society
CATEGORIES:Local History
ATTACH;FMTTYPE=image/jpeg:https://www.historyvictoria.org.au/wp-content/uploads/2021/04/IMG_1773.jpeg
END:VEVENT
BEGIN:VEVENT
DTSTART;TZID=Australia/Melbourne:20190213T123000
DTEND;TZID=Australia/Melbourne:20190213T133000
DTSTAMP:20260420T105104
CREATED:20190121T005258Z
LAST-MODIFIED:20190130T043605Z
UID:10000268-1550061000-1550064600@www.historyvictoria.org.au
SUMMARY:Curator's Talk
DESCRIPTION:Join us for a lunch-time curator talk and conversation with the team from Way Back When consulting historians and the MFB Director of Culture and Transformation\, Dr Corinne Manning\, about the making of this exhibition\, Celebrating 35 Years of Operational Women in the Metropolitan Fire Brigade \nCurator’s Talk\, Wednesday 13 February at 12:30pm. RHSV Gallery Downstairs.  \n 
URL:https://www.historyvictoria.org.au/event/curators-talk-celebrating-35-years-of-operational-women-in-the-metropolitan-fire-brigade/
LOCATION:RHSV\, Gallery Downstairs\, 239 A'Beckett Street\, Melbourne\, VIC\, 3000\, Australia
CATEGORIES:Exhibition,Local History,What's On
ATTACH;FMTTYPE=image/jpeg:https://www.historyvictoria.org.au/wp-content/uploads/2018/12/celebrating-35-years-of-operational-women-at-mfb-591x200-home-event.jpg
ORGANIZER;CN="Royal Historical Society of Victoria":MAILTO:office@historyvictoria.org.au
GEO:-37.8107817;144.9562417
X-APPLE-STRUCTURED-LOCATION;VALUE=URI;X-ADDRESS=RHSV Gallery Downstairs 239 A'Beckett Street Melbourne VIC 3000 Australia;X-APPLE-RADIUS=500;X-TITLE=239 A'Beckett Street:geo:144.9562417,-37.8107817
END:VEVENT
BEGIN:VEVENT
DTSTART;VALUE=DATE:20181007
DTEND;VALUE=DATE:20181115
DTSTAMP:20260420T105104
CREATED:20180802T234957Z
LAST-MODIFIED:20180904T014829Z
UID:10000075-1538870400-1542239999@www.historyvictoria.org.au
SUMMARY:History Week 2018
DESCRIPTION:http://historyweek.org.au/ \nEach year the RHSV History Week grows in stature and number of events. It is a great hook to encourage community involvement in your history society or to focus some local media on what you do. The History Teachers Association of Victoria has been promoting History Week to their members across Victoria. For suggestions on how teachers can get involved in History Week the History Teachers Accociation of Victoria has created this History Week Ideas document. \nIf you are involved in a historical society in Victoria why don’t you contact your local school and suggest an event? \nDon’t forget to register your events on the History Week website. \nHistory Week is funded by the Vera Moore Foundation.
URL:https://www.historyvictoria.org.au/event/history-week-2018/
LOCATION:Victoria
CATEGORIES:Local History,What's On
ATTACH;FMTTYPE=image/jpeg:https://www.historyvictoria.org.au/wp-content/uploads/2018/08/RHSV-Library-193-Kenneys-Gentlemans-Bathing-Ship-St-Kilda-Circa-1855.jpg
ORGANIZER;CN="Royal Historical Society of Victoria":MAILTO:office@historyvictoria.org.au
END:VEVENT
BEGIN:VEVENT
DTSTART;TZID=Australia/Melbourne:20180916T093000
DTEND;TZID=Australia/Melbourne:20180916T154500
DTSTAMP:20260420T105104
CREATED:20180802T070502Z
LAST-MODIFIED:20180904T014920Z
UID:10000073-1537090200-1537112700@www.historyvictoria.org.au
SUMMARY:The Biennial RHSV conference : War\, Peace\, Protest: Fifty Year Reflections on 1968
DESCRIPTION:The biennial RHSV conference has events over two days. On the evening of Friday 14 Sep we launch our exhibition on 70s Melbourne followed by the RHSV Augustus Wolskel lecture delivered by Peter Edwards. Then on Sunday 16 Sep (9:30am – 3:45pm) the keynote will be delivered by Seamus O’Hanlon. A full program of speakers includes Richard Broome\, Charles Sowerine and Rebecca & Jean McLean reflecting on their documentary\, Save Our Sons following its screening. Lunch and morning tea is included. \n \nSAVE OUR SONS (SOS) from Ronin Films on Vimeo.
URL:https://www.historyvictoria.org.au/event/the-biennial-rhsv-conference-war-peace-protest-fifty-year-reflections-on-1968/
LOCATION:Drill Hall\, Royal Historical Society Victoria\, 239 A'Beckett St\, Melbourne\, VIC\, 3000\, Australia
CATEGORIES:Local History,What's On
ATTACH;FMTTYPE=image/jpeg:https://www.historyvictoria.org.au/wp-content/uploads/2018/08/RHSV-Library-193-Kenneys-Gentlemans-Bathing-Ship-St-Kilda-Circa-1855.jpg
GEO:-37.8107817;144.9562417
X-APPLE-STRUCTURED-LOCATION;VALUE=URI;X-ADDRESS=Drill Hall Royal Historical Society Victoria 239 A'Beckett St Melbourne VIC 3000 Australia;X-APPLE-RADIUS=500;X-TITLE=239 A'Beckett St:geo:144.9562417,-37.8107817
END:VEVENT
BEGIN:VEVENT
DTSTART;VALUE=DATE:20180711
DTEND;VALUE=DATE:20180712
DTSTAMP:20260420T105104
CREATED:20180416T143745Z
LAST-MODIFIED:20180604T175805Z
UID:10000044-1531267200-1531353599@www.historyvictoria.org.au
SUMMARY:Workshop: Writing & Publishing Local History
DESCRIPTION:An all-day workshop which includes lunch and morning tea. Gain new perspectives on local history\, learn how to use new types of…
URL:https://www.historyvictoria.org.au/event/writing-publishing-local-history-2/
LOCATION:Supreme Court Library\, 485 Lonsdale Street\, Melbourne\, Victoria\, 3000\, Australia
CATEGORIES:Local History,What's On
ATTACH;FMTTYPE=image/jpeg:https://www.historyvictoria.org.au/wp-content/uploads/2018/04/Writing-424x600.jpg
ORGANIZER;CN="Royal Historical Society of Victoria":MAILTO:office@historyvictoria.org.au
GEO:-37.8136471;144.9580206
X-APPLE-STRUCTURED-LOCATION;VALUE=URI;X-ADDRESS=Supreme Court Library 485 Lonsdale Street Melbourne Victoria 3000 Australia;X-APPLE-RADIUS=500;X-TITLE=485 Lonsdale Street:geo:144.9580206,-37.8136471
END:VEVENT
BEGIN:VEVENT
DTSTART;VALUE=DATE:20180710
DTEND;VALUE=DATE:20180711
DTSTAMP:20260420T105104
CREATED:20180416T143706Z
LAST-MODIFIED:20180621T145621Z
UID:10000042-1531180800-1531267199@www.historyvictoria.org.au
SUMMARY:Workshop: Writing & Publishing Local History
DESCRIPTION:An all-day workshop which includes lunch and morning tea. Gain new perspectives on local history\, learn how to use new types of tools and such
URL:https://www.historyvictoria.org.au/event/writing-publishing-local-history/
LOCATION:Supreme Court Library\, 485 Lonsdale Street\, Melbourne\, Victoria\, 3000\, Australia
CATEGORIES:Local History,What's On
ATTACH;FMTTYPE=image/jpeg:https://www.historyvictoria.org.au/wp-content/uploads/2018/04/Writing-424x600.jpg
GEO:-37.8136471;144.9580206
X-APPLE-STRUCTURED-LOCATION;VALUE=URI;X-ADDRESS=Supreme Court Library 485 Lonsdale Street Melbourne Victoria 3000 Australia;X-APPLE-RADIUS=500;X-TITLE=485 Lonsdale Street:geo:144.9580206,-37.8136471
END:VEVENT
BEGIN:VEVENT
DTSTART;VALUE=DATE:20180605
DTEND;VALUE=DATE:20180607
DTSTAMP:20260420T105104
CREATED:20180416T144019Z
LAST-MODIFIED:20180604T184013Z
UID:10000048-1528156800-1528329599@www.historyvictoria.org.au
SUMMARY:Exhibition: Standing in the Corner
DESCRIPTION:Standing on the Corner illustrated how Melbourne’s corners have been used across 110 years. These are corners of Melbourne as they were – so many of them now lost to us. To provide context for the images\, the exhibition included a variety of maps of Melbourne for the period 1850-1960.
URL:https://www.historyvictoria.org.au/event/standing-on-the-corner/
LOCATION:Supreme Court Library\, 485 Lonsdale Street\, Melbourne\, Victoria\, 3000\, Australia
CATEGORIES:Local History,What's On
ATTACH;FMTTYPE=image/jpeg:https://www.historyvictoria.org.au/wp-content/uploads/2018/04/Writing-424x600.jpg
GEO:-37.8136471;144.9580206
X-APPLE-STRUCTURED-LOCATION;VALUE=URI;X-ADDRESS=Supreme Court Library 485 Lonsdale Street Melbourne Victoria 3000 Australia;X-APPLE-RADIUS=500;X-TITLE=485 Lonsdale Street:geo:144.9580206,-37.8136471
END:VEVENT
END:VCALENDAR