BEGIN:VCALENDAR
VERSION:2.0
PRODID:-//Royal Historical Society of Victoria - ECPv6.15.12.2//NONSGML v1.0//EN
CALSCALE:GREGORIAN
METHOD:PUBLISH
X-ORIGINAL-URL:https://www.historyvictoria.org.au
X-WR-CALDESC:Events for Royal Historical Society of Victoria
REFRESH-INTERVAL;VALUE=DURATION:PT1H
X-Robots-Tag:noindex
X-PUBLISHED-TTL:PT1H
BEGIN:VTIMEZONE
TZID:Australia/Melbourne
BEGIN:STANDARD
TZOFFSETFROM:+1100
TZOFFSETTO:+1000
TZNAME:AEST
DTSTART:20230401T160000
END:STANDARD
BEGIN:DAYLIGHT
TZOFFSETFROM:+1000
TZOFFSETTO:+1100
TZNAME:AEDT
DTSTART:20230930T160000
END:DAYLIGHT
BEGIN:STANDARD
TZOFFSETFROM:+1100
TZOFFSETTO:+1000
TZNAME:AEST
DTSTART:20240406T160000
END:STANDARD
BEGIN:DAYLIGHT
TZOFFSETFROM:+1000
TZOFFSETTO:+1100
TZNAME:AEDT
DTSTART:20241005T160000
END:DAYLIGHT
BEGIN:STANDARD
TZOFFSETFROM:+1100
TZOFFSETTO:+1000
TZNAME:AEST
DTSTART:20250405T160000
END:STANDARD
BEGIN:DAYLIGHT
TZOFFSETFROM:+1000
TZOFFSETTO:+1100
TZNAME:AEDT
DTSTART:20251004T160000
END:DAYLIGHT
END:VTIMEZONE
BEGIN:VEVENT
DTSTART;TZID=Australia/Melbourne:20241106T183000
DTEND;TZID=Australia/Melbourne:20241106T193000
DTSTAMP:20260425T224500
CREATED:20240404T063901Z
LAST-MODIFIED:20240404T063901Z
UID:10000509-1730917800-1730921400@www.historyvictoria.org.au
SUMMARY:Life So Full of Promise
DESCRIPTION:Award-winning historian and biographer of Pompey Elliott\, Ross McMullin\, on his new book. \nRoss is a renowned storyteller and an entertaining speaker. He will regale us with stories from “Life So Full of Promise”\, his second lost generation multi-biography following “Farewell Dear People”\, which won the Prime Minister’s Prize for Australian History. \nRoss’s new book again combines prodigious research and narrative flair in a collection of interwoven family stories about forgotten Australians who had radiant potential. The rich cast of characters includes a popular doctor\, a brilliant cricketer\, and an exceptionally talented barrister who was a potential prime minister. \n“Life So Full of Promise” illuminates what the war was like at home and at the sharp end. It provides insights into the experiences of Australians before\, during and after the war\, whether they were combatants or civilians\, or soldiers’ wives or parents. \nBookings are essential with a gold coin for entry.
URL:https://www.historyvictoria.org.au/event/life-so-full-of-promise/
LOCATION:39 St Edmonds Road\, Prahran\, VIC 3181\, 39 St Edmonds Road\, Prahran\, VIC\, 3181\, Australia
CATEGORIES:Victorian History Events
ATTACH;FMTTYPE=image/png:https://www.historyvictoria.org.au/wp-content/uploads/2024/04/So-Full-of-Promise_Banner_Nov-2024.png
ORGANIZER;CN="Prahran Mechanics' Institute Victorian History Library":MAILTO:library@pmi.net.au
END:VEVENT
BEGIN:VEVENT
DTSTART;TZID=Australia/Melbourne:20241107T193000
DTEND;TZID=Australia/Melbourne:20241107T213000
DTSTAMP:20260425T224500
CREATED:20241103T230120Z
LAST-MODIFIED:20241103T230335Z
UID:10001031-1731007800-1731015000@www.historyvictoria.org.au
SUMMARY:The Life and Works of the sculptor Charles Summers (1825-1878)
DESCRIPTION:Join us on Thursday November 7th for our next club meeting. \nOur upcoming talk is on the ‘Life and Works of the Sculptor Charles Summers (1825-1878). \nHe is best known as the maker of the bronze statue of Burke and Wills\, Melbourne’s first public monument\, but he also made many other important works. \nOur speaker is Jennie Maggs\, a descendant of the sculptor and a Summers researcher and collector. \nHosted by the Antique Collectors Club of Victoria. \nThe talk will be followed with a light supper. \nPlease message if you wish to come along to allow for catering. \nNon-members/casual entry $10. \nThursday 7:30pm Phyllis Hore Room\, Kew Library.
URL:https://www.historyvictoria.org.au/event/the-life-and-works-of-the-sculptor-charles-summers-1825-1878/
LOCATION:Phyllis Hore Room\, Kew Library\, Civic Drive\, Kew\, Victoria\, 3101\, Australia
CATEGORIES:Victorian History Events
ATTACH;FMTTYPE=image/jpeg:https://www.historyvictoria.org.au/wp-content/uploads/2024/11/charles-summesr.jpg
END:VEVENT
BEGIN:VEVENT
DTSTART;TZID=Australia/Melbourne:20241113T140000
DTEND;TZID=Australia/Melbourne:20241113T150000
DTSTAMP:20260425T224500
CREATED:20240404T063850Z
LAST-MODIFIED:20240404T063850Z
UID:10000507-1731506400-1731510000@www.historyvictoria.org.au
SUMMARY:My Grandfather's Clock
DESCRIPTION:🕰️ My Grandfather’s Clock \nThis is a joint Family History Connections and PMI Victorian History Library event. If family history\, a love of research and discovery is your thing\, do come along. \nHear about a story of an ordinary family’s journey from frontier warfare and dispossession through economic turmoil and emigration to modest prosperity. At each step\, we are led to reflect on the puzzles of personal identity and the mystery of time. Based on a lifetime of creative scholarship\, My Grandfather’s Clock is a moving testament to the power of family history to illuminate the present. \nGraeme Davison is Emeritus Sir John Monash Professor of History at Monash University. He has written widely on Australian history. His previous family history\, Lost Relations: Fortunes of My Family in Australia’s Golden Age\, won a Judges’ Special Prize in the Victorian Community History Awards. \nGraeme will sell and sign books on the day. \nBookings essential with a gold coin for entry.
URL:https://www.historyvictoria.org.au/event/my-grandfathers-clock-2/
LOCATION:39 St Edmonds Road\, Prahran\, VIC 3181\, 39 St Edmonds Road\, Prahran\, VIC\, 3181\, Australia
CATEGORIES:Victorian History Events
ATTACH;FMTTYPE=image/png:https://www.historyvictoria.org.au/wp-content/uploads/2024/04/Grandfathers-Clock_Banner_Nov-2024.png
ORGANIZER;CN="Prahran Mechanics' Institute Victorian History Library":MAILTO:library@pmi.net.au
END:VEVENT
BEGIN:VEVENT
DTSTART;TZID=Australia/Melbourne:20241117T103000
DTEND;TZID=Australia/Melbourne:20241117T160000
DTSTAMP:20260425T224500
CREATED:20241103T232548Z
LAST-MODIFIED:20241103T232548Z
UID:10001032-1731839400-1731859200@www.historyvictoria.org.au
SUMMARY:Labassa Open Day
DESCRIPTION:Experience the complex richness of Labassa’s architectural and human history. \nAlthough more than 700 people have lived at Labassa\, it has miraculously survived with most of its opulent Victorian era decoration intact. Guided house tours and tower tours operate throughout the day\, and the tea room is open 10:30am to 3:30pm. The tower will be open with a limit of 12 people per tour group. Due to the tower’s narrow\, steep steps visitors are advised to wear sensible shoes. \nPlease arrive at least 15 minutes before your intended tour time. Capacity will be monitored on the day. Pre-bookings for entry to the house are highly recommended to avoid disappointment. Walk up availability is subject to the numbers already in the house. \nCost: $0 – $50 \nNo parking in Manor Grove.
URL:https://www.historyvictoria.org.au/event/labassa-open-day-5/
LOCATION:Labassa\, 2 Manor Grove\, Caulfield North\, Victoria\, 3161\, Australia
CATEGORIES:Victorian History Events
ATTACH;FMTTYPE=image/jpeg:https://www.historyvictoria.org.au/wp-content/uploads/2024/11/labassa.jpg
END:VEVENT
BEGIN:VEVENT
DTSTART;TZID=Australia/Melbourne:20241119T183000
DTEND;TZID=Australia/Melbourne:20241119T193000
DTSTAMP:20260425T224500
CREATED:20240404T041928Z
LAST-MODIFIED:20240404T041928Z
UID:10000505-1732041000-1732044600@www.historyvictoria.org.au
SUMMARY:The Dominatrix Next Door
DESCRIPTION:🎭 The Dominatrix Next Door – Mother by day\, Dominatrix by night. \nWhen a cash-strapped single mother of two in suburban Melbourne has a fun idea to start a side hustle running workshops for hens’ parties\, she has no idea it will lead her on a surreal adventure (or twenty) through the debaucherous underground world of kink clubs and swingers’ parties. Nor does she know that it will bring her out on the other end as one of Australia’s most recognised Dominatrixes. \nMistress Jane is the Melbourne-based kinkster\, fetish queen\, sex nerd and mother of two (but not in that order). Whether hosting hens’ parties and club events\, writing\, podcasting\, or running workshops\, she imparts her unique brand of flirtation and female empowerment to everything she touches. \nBookings are essential with a gold coin for entry.
URL:https://www.historyvictoria.org.au/event/the-dominatrix-next-door/
LOCATION:39 St Edmonds Road\, Prahran\, VIC 3181\, 39 St Edmonds Road\, Prahran\, VIC\, 3181\, Australia
CATEGORIES:Victorian History Events
ATTACH;FMTTYPE=image/png:https://www.historyvictoria.org.au/wp-content/uploads/2024/04/Dom_Banner_Nov-2024.png
ORGANIZER;CN="Prahran Mechanics' Institute Victorian History Library":MAILTO:library@pmi.net.au
END:VEVENT
BEGIN:VEVENT
DTSTART;TZID=Australia/Melbourne:20241120T193000
DTEND;TZID=Australia/Melbourne:20241120T193000
DTSTAMP:20260425T224500
CREATED:20241114T010015Z
LAST-MODIFIED:20241114T010015Z
UID:10001033-1732131000-1732131000@www.historyvictoria.org.au
SUMMARY:Author Talk by Boris Frankel - No Country for Idealists
DESCRIPTION:Hosted by the Glen Eira Historical Society. \nWe invite members and friends of Glen Eira Historical Society to join us at a presentation from Professor Boris Frankel. Boris will tell us the dramatic story of how his family (St Kilda residents) became ‘subversives’ in Australia and the USSR during the Cold War. \nBoris’ book No Country for Idealists – The Making of a Family of Subversives will be available to purchase on the night. \nEntry by gold coin donation. Supper is provided. Drinks can be purchased from the bar. \nBookings: https://www.trybooking.com/CWSPN \n 
URL:https://www.historyvictoria.org.au/event/author-talk-by-boris-frankel-no-country-for-idealists/
LOCATION:Murrumbeena Park Bowls Club\, 26-28 Gerald Street\, Murrumbeena\, VIC\, 3163\, Australia
CATEGORIES:Victorian History Events
ATTACH;FMTTYPE=image/jpeg:https://www.historyvictoria.org.au/wp-content/uploads/2024/11/no-country-for-idealists.jpg
ORGANIZER;CN="Glen Eira Historical Society":MAILTO:gehs@optusnet.com.au
END:VEVENT
BEGIN:VEVENT
DTSTART;TZID=Australia/Melbourne:20241120T193000
DTEND;TZID=Australia/Melbourne:20241120T210000
DTSTAMP:20260425T224500
CREATED:20241114T230849Z
LAST-MODIFIED:20241114T230849Z
UID:10001034-1732131000-1732136400@www.historyvictoria.org.au
SUMMARY:The forgotten class? Shopkeepers of nineteenth-century Melbourne
DESCRIPTION:Join members of the Malvern Historical Society with Guest speaker\, professional historian\, Dr Fiona Gatt\, who will talk about ‘The forgotten class? Shopkeepers of nineteenth-century Melbourne’. Dr Fiona Gatt will investigate and compare the shopkeepers who operated in three distinct representative suburbs of nineteenth-century Melbourne; genteel Malvern\, inner urban North Melbourne and industrial Footscray.\nAll welcome! \nWednesday 20 November\, 7.30pm\nMalvern Town Hall\, Upper Foyer\,\n1251 High Street\, MalvernBookings are essential for seating purposes. \nRSVP by 18 November \nJonathan ph: 0420 986 884 \nEmail: malvernhistorical@yahoo.com \nimage caption: Glenferrie Road\, looking South\, 1915\, Source: Stonnington History Centre\, MP679
URL:https://www.historyvictoria.org.au/event/the-forgotten-class-shopkeepers-of-nineteenth-century-melbourne/
LOCATION:Malvern Town Hall\, Corner High Street and Glenferrie Road Malvern\, Melbourne\, 3144\, Australia
CATEGORIES:Victorian History Events
ATTACH;FMTTYPE=image/jpeg:https://www.historyvictoria.org.au/wp-content/uploads/2024/11/Glenferrie-Rd.jpg
ORGANIZER;CN="Malvern Historical Society":MAILTO:malvernhistorical@yahoo.com
GEO:-37.8565049;145.0294031
X-APPLE-STRUCTURED-LOCATION;VALUE=URI;X-ADDRESS=Malvern Town Hall Corner High Street and Glenferrie Road Malvern Melbourne 3144 Australia;X-APPLE-RADIUS=500;X-TITLE=Corner High Street and Glenferrie Road Malvern:geo:145.0294031,-37.8565049
END:VEVENT
BEGIN:VEVENT
DTSTART;VALUE=DATE:20241123
DTEND;VALUE=DATE:20241125
DTSTAMP:20260425T224500
CREATED:20240930T231108Z
LAST-MODIFIED:20240930T231108Z
UID:10000553-1732320000-1732492799@www.historyvictoria.org.au
SUMMARY:Traditional Trades Exposition
DESCRIPTION:Join this annual knowledge-sharing forum that brings together practitioners to exchange experiences\, successes\, and challenges\, while fostering discussions on conservation philosophy and processes. \nSet against the backdrop of Labassa Mansion\, the Exposition will showcase displays and demonstrations by some of Victoria’s finest traditional trade practitioners and offers a unique opportunity to engage their knowledge and experience\, and get hands on yourself. \nAttendees can learn about good custodianship of heritage properties\, explore career opportunities\, and gain an understanding of the skills and methods used by practitioners. \nEVENT DETAILS \nDate: Saturday 23 & Sunday 24 November 2024\nTime: 10.00am – 4.00pm (daily)\nLocation:Labassa Mansion\, 2 Manor Grove Caufield North \nTickets: Adult: $30\, Child $15 | National Trust Member: $20\, Child Member $10 \nThe event will feature displays and demonstrations – including some from National Trust conservation projects – on a range of traditional trades including: \n\nPlastering\nTuckpointing\nRoofing & Plumbing\nAnd more…\n\nAttendees can browse a selection of hand tools for sale from the Hand Tool Preservation Association of Australia and gain insights from experts during daily panel discussions \nThe Traditional Trades Exposition is presented by the National Trust of Australia (Victoria) and supported by the Heritage Council Victoria \n  \nBuy tickets here\n 
URL:https://www.historyvictoria.org.au/event/traditional-trades-exposition/
LOCATION:Labassa\, 2 Manor Grove\, Caulfield North\, Victoria\, 3161\, Australia
CATEGORIES:Victorian History Events
ATTACH;FMTTYPE=image/jpeg:https://www.historyvictoria.org.au/wp-content/uploads/2024/10/NT-Skills-expo.jpg
END:VEVENT
BEGIN:VEVENT
DTSTART;TZID=Australia/Melbourne:20241124T100000
DTEND;TZID=Australia/Melbourne:20241124T120000
DTSTAMP:20260425T224500
CREATED:20241117T115711Z
LAST-MODIFIED:20241117T115711Z
UID:10000557-1732442400-1732449600@www.historyvictoria.org.au
SUMMARY:HUME & HOVELL BICENTENARY 2024 COMMEMORATION
DESCRIPTION:You are invited to join the Stanley Community and attend the \nHUME & HOVELL BICENTENARY 2024 COMMEMORATION \nFriends of Stanley Athenaeum Present \nBicentenary of Hume & Hovell ‘THEY PASSED THIS WAY’ \nSunday 24 November 2024 at 10am \nHume & Hovell Monument (Myrtleford – Stanley Road) \nAfterwards at the Stanley Athenaeum \nto see ‘They Passed This Way’ exhibition \n& share morning tea \nat STANLEY ATHENAEUM- $5 donation \nEnquiries – Chris stanleyathenaeum@gmail.com or 0458 606 922 \nCoordinator- Chris Dormer \nStanley Athenaeum and Public Room \n2 Mount Stanley Road \nStanley Vic 3747 \nPhone: 0458 606 922 or 03 5728 1540 \nwww.victoriancollections.net.au:8013/organisations/stanley-athenaeum \nhttp://mivic.org.au/stanley.html \nhttps://www.facebook.com/Stanley-Athenaeum-1192094190800862
URL:https://www.historyvictoria.org.au/event/hume-hovell-bicentenary-2024-commemoration/
LOCATION:Hume and Hovell Monument\, Myrtleford-Stanley Road\, Stanley\, VIC\, 3747\, Australia
CATEGORIES:Victorian History Events
ORGANIZER;CN="Stanley Athenaeum":MAILTO:stanleyathenaeum@gmail.com
END:VEVENT
BEGIN:VEVENT
DTSTART;TZID=Australia/Melbourne:20241125T180000
DTEND;TZID=Australia/Melbourne:20241125T210000
DTSTAMP:20260425T224500
CREATED:20241023T025754Z
LAST-MODIFIED:20241023T025754Z
UID:10001028-1732557600-1732568400@www.historyvictoria.org.au
SUMMARY:CHRISTMAS DINNER: NAVAL HISTORICAL SOCIETY OF AUSTRALIA (VIC CHAPTER)
DESCRIPTION:Victoria Chapter of the Naval Historical Society of Australia will hold its end of year Christmas Celebratory Dinner at the Waverley RSL (Sunset Room) on Monday 25 November 2024. \nOur Guest of Honour and Speaker will be Rear Admiral John Lord AM RAN (Rtd)\, whose extensive naval service  and industry career spanned many facets\, including command of HMA Fleet.  He undoubtedly has many stories to tell. \nOnce again\, this event promises to be a delightful opportunity for members and friends to gather for dinner and some fun and games associated with the traditional raffle. \nDinner costs $30 per head to cover the two course meal.  Drinks are available at bar prices. \nGuests arrive from 6pm\, to be seated by 7pm. \nPAYMENT:\n*Direct Debit – BSB: 633000; Account: 118958503\n(please print your name as identification)\nOr\nCheque: made payable to the:\n“Naval Historical Society Victoria Chapter”\nand posted to:\nMarty Grogan\n549 Nepean Highway\nFrankston VIC 3199 \nQueries: Andrew Mackinnon andrewmackinnon0404@gmail.com
URL:https://www.historyvictoria.org.au/event/christmas-dinner-naval-historical-society-of-australia-vic-chapter/
LOCATION:Waverley RSL\, 161 Coleman Parade\, Glen Waverley\, VIC\, 3150\, Australia
CATEGORIES:Victorian History Events
ATTACH;FMTTYPE=image/png:https://www.historyvictoria.org.au/wp-content/uploads/2024/10/Screenshot-2024-10-23-135150.png
ORGANIZER;CN="Naval Historical Society of Australia":MAILTO:andrewmackinnon0404@gmail.com
END:VEVENT
BEGIN:VEVENT
DTSTART;TZID=Australia/Melbourne:20241127T193000
DTEND;TZID=Australia/Melbourne:20241127T210000
DTSTAMP:20260425T224500
CREATED:20241117T114924Z
LAST-MODIFIED:20241117T114924Z
UID:10000555-1732735800-1732741200@www.historyvictoria.org.au
SUMMARY:The 2024 Duigan Lecture: Mr Greg Hood AO
DESCRIPTION:Speaker: Mr Greg Hood AO\, former Chief Commissioner of the Australian Transport Safety Bureau.  \nGreg will talk candidly about his aviation career including his time as an air training corps cadet flying gliders in South Australia\, his RAAF ATC career including overseas service in the Sinai Desert\, his time with Airservices Australia as an air traffic controller\, ATC instructor\, Manager Melbourne Centre\, and Executive General Manager. He will talk about some of the tough decisions during his 6 years as CASA’s Executive Manager Operations\, and will discuss how he inherited the search for MH370 and some of the other tragic accidents that he deployed to during his 5 years as Chief Commissioner at the Australian Transport Safety Bureau (ATSB). \nHe’ll talk about his love of flying and the 12 years he owned and flew his BD4 across the country and will outline the bumps in the road experienced as a result of his heart disease. Finally\, he will pay tribute to John Duigan MC\, who in 2012 was one of the first aviators to be inducted into the Australian Aviation Hall of Fame (AAHOF)\, an organisation of which Greg is currently Chair. \n  \nFor more information or bookings \nEmail: secretary@ahsa.org.au\nWebsite: www.ahsa.org.au \nMobile: 0428 557 365
URL:https://www.historyvictoria.org.au/event/the-2024-duigan-lecture-mr-greg-hood-ao/
LOCATION:Air Force Association\, 24 Camberwell Road\, Hawthorn East\, VIC\, 3123\, Australia
CATEGORIES:Victorian History Events
ATTACH;FMTTYPE=image/jpeg:https://www.historyvictoria.org.au/wp-content/uploads/2024/11/Greg-Hood.jpg
END:VEVENT
BEGIN:VEVENT
DTSTART;TZID=Australia/Melbourne:20241128T140000
DTEND;TZID=Australia/Melbourne:20241128T160000
DTSTAMP:20260425T224500
CREATED:20241122T011551Z
LAST-MODIFIED:20241122T011723Z
UID:10000561-1732802400-1732809600@www.historyvictoria.org.au
SUMMARY:The Importance of Oral Histories
DESCRIPTION:Want to learn more about the value of oral histories and Council’s heritage collections? \nJoin us at our upcoming event at Heritage Hill Museum and Historic Gardens. \nHistorian Dr Nicolette Snowden will explain how to record oral histories and examine their value in both a community and professional context. Nicolette is an experienced oral historian\, researcher and writer and she is a member of the Professional Historians Association (Victoria and Tasmania) and Oral History Victoria. \nThe program venue\, Benga\, was home to Australia’s first oral history centre. The centre resulted in a collection of recordings and transcripts of more than 300 interviews with a cross-section of people from the city. These oral histories now form part of Council’s Civic and Cultural Heritage Collection. Over the years\, these oral histories have formed the basis of many social history exhibitions and have provided an invaluable research tool for those studying Australia’s cultural heritage. Council’s Heritage Collection Officer will provide attendees with an overview of this important collection. \nThis program is being run in conjunction with the We Built This City exhibition. \nA light afternoon tea will be held following the presentations. \nRegistrations are required as places are limited – https://www.trybooking.com/events/landing/1311016 \nCost: Free
URL:https://www.historyvictoria.org.au/event/the-importance-of-oral-histories/
LOCATION:Benga\, Heritage Hill Museum and Historic Gardens\, 66 McCrae Street\, Dandenong\, VIC\, 3175\, Australia
CATEGORIES:Victorian History Events
ATTACH;FMTTYPE=image/jpeg:https://www.historyvictoria.org.au/wp-content/uploads/2024/11/BENGA-scaled.jpg
ORGANIZER;CN="Cultural Heritage Team - City of Greater Dandenong":MAILTO:culturalheritage@cgd.vic.gov.au
END:VEVENT
END:VCALENDAR