BEGIN:VCALENDAR
VERSION:2.0
PRODID:-//Royal Historical Society of Victoria - ECPv6.15.12.2//NONSGML v1.0//EN
CALSCALE:GREGORIAN
METHOD:PUBLISH
X-WR-CALNAME:Royal Historical Society of Victoria
X-ORIGINAL-URL:https://www.historyvictoria.org.au
X-WR-CALDESC:Events for Royal Historical Society of Victoria
REFRESH-INTERVAL;VALUE=DURATION:PT1H
X-Robots-Tag:noindex
X-PUBLISHED-TTL:PT1H
BEGIN:VTIMEZONE
TZID:Australia/Melbourne
BEGIN:STANDARD
TZOFFSETFROM:+1100
TZOFFSETTO:+1000
TZNAME:AEST
DTSTART:20250405T160000
END:STANDARD
BEGIN:DAYLIGHT
TZOFFSETFROM:+1000
TZOFFSETTO:+1100
TZNAME:AEDT
DTSTART:20251004T160000
END:DAYLIGHT
BEGIN:STANDARD
TZOFFSETFROM:+1100
TZOFFSETTO:+1000
TZNAME:AEST
DTSTART:20260404T160000
END:STANDARD
BEGIN:DAYLIGHT
TZOFFSETFROM:+1000
TZOFFSETTO:+1100
TZNAME:AEDT
DTSTART:20261003T160000
END:DAYLIGHT
BEGIN:STANDARD
TZOFFSETFROM:+1100
TZOFFSETTO:+1000
TZNAME:AEST
DTSTART:20270403T160000
END:STANDARD
BEGIN:DAYLIGHT
TZOFFSETFROM:+1000
TZOFFSETTO:+1100
TZNAME:AEDT
DTSTART:20271002T160000
END:DAYLIGHT
END:VTIMEZONE
BEGIN:VEVENT
DTSTART;TZID=Australia/Melbourne:20260714T063000
DTEND;TZID=Australia/Melbourne:20260714T193000
DTSTAMP:20260423T204635
CREATED:20260401T235358Z
LAST-MODIFIED:20260401T235358Z
UID:10001142-1784010600-1784057400@www.historyvictoria.org.au
SUMMARY:Writing the Crocodile
DESCRIPTION:In this lively\, engaging discussion Aaron and Michelle will discuss their co-written novel for middle grade readers\, Spirit of the Crocodile. They’ll talk about why they wrote it\, how they wrote it (given that they live 5000kms apart) and why stories like theirs are an important part of Australia’s reconciliation process. \nA recent ABC Radio review of the book said: “This is technically a middle-grade novel but if you ask me I think Spirit of the Crocodile is a book for everyone. Kids will love it because it’s funny\, relatable and full of adventure. But adults – like teachers\, parents and policy-makers – need to read this too. This book is a wake-up call. It shows us what climate change looks like right now: not in graphs or reports but through the heartbreak of a child watching his island disappear. It’s also a celebration of Torres Strait Islander culture – of kinship\, community and resilience. For readers unfamiliar with these stories it’s an invitation to listen\, to learn and to stand in solidarity with them. And for readers who are from this community\, it’s a mirror that says we see you and your stories matter.” Mara Mahoney\, Yapese-Fijian Reviewer\, Radio Australia (Review begins at 1:42:42)” \nAaron Fa’Aoso is a proud Torres Strait Islander film producer\, director\, screenwriter and actor. While well known for his roles in East West 101\, The Straits and Black Comedy\, and as the presenter of Strait to the Plate\, young fans know him best as the voice of Old Dog\, in Little J and Big Cuz. \nIn 2022 Aaron published his memoir\, called So Far So Good. He is on the board of SBS and of Screen Queensland\, and was the proud co-chair of Queensland’s Interim Truth and Treaty Body. Aaron is the founder of film and television production company\, Lone Star\, whose many outputs include the documentary series Blue Water Empire\, about the history of the Torres Strait Islands. \nMichelle Scott Tucker is the author of Elizabeth Macarthur: A Life at the Edge of the World – a biography of the woman who established the Australian wool industry (although her husband received all the credit). Elizabeth Macarthur was shortlisted for the 2019 NSW State Library Ashurst Business Literature Prize and the 2019 CHASS Australia Book Prize. Michelle is the co-writer of Aaron Fa’Aoso’s memoir So Far\, So Good. She is currently working on a biography of Louisa Lawson\, to be released in 2027.
URL:https://www.historyvictoria.org.au/event/writing-the-crocodile/
LOCATION:39 St Edmonds Road\, Prahran\, VIC 3181\, 39 St Edmonds Road\, Prahran\, VIC\, 3181\, Australia
CATEGORIES:Victorian History Events
ATTACH;FMTTYPE=image/png:https://www.historyvictoria.org.au/wp-content/uploads/2026/03/Spirit-of-the-Crocodile-Mobile-Banner-July-2026.png
ORGANIZER;CN="PMI Victorian History Library":MAILTO:library@pmi.net.au
END:VEVENT
BEGIN:VEVENT
DTSTART;TZID=Australia/Melbourne:20260723T140000
DTEND;TZID=Australia/Melbourne:20260723T150000
DTSTAMP:20260423T204635
CREATED:20260401T235443Z
LAST-MODIFIED:20260401T235443Z
UID:10001143-1784815200-1784818800@www.historyvictoria.org.au
SUMMARY:The Antique Experience
DESCRIPTION:More than just furniture and fine china\, every antique holds a story\, and few people know that better than Peter Leaver. In 1970\, Peter and his partner Ken opened Kenneth Lay Antiques and began a lifelong adventure that would take them far beyond Australian auction houses. Their search for rare and meaningful pieces became a global quest\, exploring Sri Lanka and India for remnants of the Raj\, wandering the old Dutch trading centres of Indonesia\, finding French\, English\, and Dutch treasures in South Africa\, and ultimately falling in love with Argentina’s hidden wealth of antiques. Along the way\, they built one of Australia’s largest collections of Staffordshire pottery and shared their expertise through talks at The Johnson Collection. \nAt The Antique Experience\, Peter is joined by collector Marcus Bunyan\, whose thrill for op shop discoveries and online finds proves that valuable treasures are not always where you expect them. Together\, they will share their passion for authenticity\, value\, and the enduring beauty of timeless objects. Audiences are even invited to bring along a small item of their own to be reviewed by the panel\, because sometimes the most fascinating stories are the ones sitting quietly on your own shelf.
URL:https://www.historyvictoria.org.au/event/the-antique-experience/
LOCATION:39 St Edmonds Road\, Prahran\, VIC 3181\, 39 St Edmonds Road\, Prahran\, VIC\, 3181\, Australia
CATEGORIES:Victorian History Events
ATTACH;FMTTYPE=image/png:https://www.historyvictoria.org.au/wp-content/uploads/2026/03/Antique-Mobile-Banner-July-2026.png
ORGANIZER;CN="PMI Victorian History Library":MAILTO:library@pmi.net.au
END:VEVENT
BEGIN:VEVENT
DTSTART;TZID=Australia/Melbourne:20260730T183000
DTEND;TZID=Australia/Melbourne:20260730T193000
DTSTAMP:20260423T204635
CREATED:20260401T235927Z
LAST-MODIFIED:20260401T235927Z
UID:10001144-1785436200-1785439800@www.historyvictoria.org.au
SUMMARY:Beyond the Book: Redefining Rarity in a Digital Age
DESCRIPTION:In twenty years will the most valuable collection items still be printed on paper\, or born in code? Join a cross-sector panel from the NFSA\, ACMI\, and the PMI Library to explore the future and evolution of collecting in a post-print world. Learn how born-digital materials are reshaping what institutions preserve\, the challenges of obsolescence\, and sourcing material in the first place\, and how smaller cultural organisations\, like the PMI Library\, are navigating an increasingly digital heritage. Attendees will gain insight into how collectors and institutions alike can future-proof their work\, ensuring today’s digital voices don’t become tomorrow’s lost history. Expect a lively conversation on technology\, authenticity\, and what “collecting rare” will mean in 20 years. \nPanellists are Ellen Coates\, Collections Librarian at the PMI Victorian History Library. Johanna McMahon\, Assistant Curator\, Industries Collection Acquisition Programs at NFSA and Taryn Ellis\, Digital Preservation Archivist at ACMI.
URL:https://www.historyvictoria.org.au/event/beyond-the-book-redefining-rarity-in-a-digital-age/
LOCATION:39 St Edmonds Road\, Prahran\, VIC 3181\, 39 St Edmonds Road\, Prahran\, VIC\, 3181\, Australia
CATEGORIES:Victorian History Events
ATTACH;FMTTYPE=image/png:https://www.historyvictoria.org.au/wp-content/uploads/2026/03/RBW-Mobile-Banner-Jul-2026.png
ORGANIZER;CN="PMI Victorian History Library":MAILTO:library@pmi.net.au
END:VEVENT
END:VCALENDAR