BEGIN:VCALENDAR
VERSION:2.0
PRODID:-//Royal Historical Society of Victoria - ECPv6.15.12.2//NONSGML v1.0//EN
CALSCALE:GREGORIAN
METHOD:PUBLISH
X-WR-CALNAME:Royal Historical Society of Victoria
X-ORIGINAL-URL:https://www.historyvictoria.org.au
X-WR-CALDESC:Events for Royal Historical Society of Victoria
REFRESH-INTERVAL;VALUE=DURATION:PT1H
X-Robots-Tag:noindex
X-PUBLISHED-TTL:PT1H
BEGIN:VTIMEZONE
TZID:Australia/Melbourne
BEGIN:STANDARD
TZOFFSETFROM:+1100
TZOFFSETTO:+1000
TZNAME:AEST
DTSTART:20240406T160000
END:STANDARD
BEGIN:DAYLIGHT
TZOFFSETFROM:+1000
TZOFFSETTO:+1100
TZNAME:AEDT
DTSTART:20241005T160000
END:DAYLIGHT
BEGIN:STANDARD
TZOFFSETFROM:+1100
TZOFFSETTO:+1000
TZNAME:AEST
DTSTART:20250405T160000
END:STANDARD
BEGIN:DAYLIGHT
TZOFFSETFROM:+1000
TZOFFSETTO:+1100
TZNAME:AEDT
DTSTART:20251004T160000
END:DAYLIGHT
BEGIN:STANDARD
TZOFFSETFROM:+1100
TZOFFSETTO:+1000
TZNAME:AEST
DTSTART:20260404T160000
END:STANDARD
BEGIN:DAYLIGHT
TZOFFSETFROM:+1000
TZOFFSETTO:+1100
TZNAME:AEDT
DTSTART:20261003T160000
END:DAYLIGHT
END:VTIMEZONE
BEGIN:VEVENT
DTSTART;TZID=Australia/Melbourne:20250204T183000
DTEND;TZID=Australia/Melbourne:20250204T183000
DTSTAMP:20260420T054804
CREATED:20250116T041532Z
LAST-MODIFIED:20250116T041532Z
UID:10001036-1738693800-1738693800@www.historyvictoria.org.au
SUMMARY:Transgender Australia: A History Since 1910
DESCRIPTION:Join authors Noah Riseman and Sam Elkin as they enter a conversation about trans history. They will weave together personal experience with historical examples to discuss changes to trans life and politics in Victoria since the early twentieth century. Their discussion will especially focus on the role of activism\, as well as where activists and political causes have fallen short at addressing the real challenges facing trans Victorians on the margins.
URL:https://www.historyvictoria.org.au/event/transgender-australia-a-history-since-1910/
LOCATION:Prahran Mechanics Institute\, 39 St Edmonds Road\, Prahran\, VIC\, 3181\, Australia
CATEGORIES:Victorian History Events
ATTACH;FMTTYPE=image/png:https://www.historyvictoria.org.au/wp-content/uploads/2025/01/Transgender-Australia-Banner.png
ORGANIZER;CN="Prahran Mechanics' Institute Victorian History Library":MAILTO:library@pmi.net.au
GEO:-37.8498022;144.9916641
X-APPLE-STRUCTURED-LOCATION;VALUE=URI;X-ADDRESS=Prahran Mechanics Institute 39 St Edmonds Road Prahran VIC 3181 Australia;X-APPLE-RADIUS=500;X-TITLE=39 St Edmonds Road:geo:144.9916641,-37.8498022
END:VEVENT
BEGIN:VEVENT
DTSTART;TZID=Australia/Melbourne:20250206T193000
DTEND;TZID=Australia/Melbourne:20250206T213000
DTSTAMP:20260420T054804
CREATED:20250129T232842Z
LAST-MODIFIED:20250129T232842Z
UID:10000574-1738870200-1738877400@www.historyvictoria.org.au
SUMMARY:Collecting Egyptology and Ancient History
DESCRIPTION:Please join us on Thursday Feb 6th for the first Antique Collectors Club meeting of 2025. \nWe are going Egyptian for the evening. Jennifer J. from Ankh Antiquarian Books is presenting a lecture on ‘Collecting Egyptology and Ancient History’. \nHosted by the Antique Collectors Club of Victoria Inc. \nVenue: Phyllis Hore Room\, Kew Library. Kew. \nThe talk will be followed with a light supper. \nNon-members/Casual Entry $10. \nEmail: antiquecollectorsclubvic@gmail.com
URL:https://www.historyvictoria.org.au/event/collecting-egyptology-and-ancient-history/
LOCATION:Phyllis Hore Room\, Kew Library\, Civic Drive\, Kew\, Victoria\, 3101\, Australia
CATEGORIES:Victorian History Events
ATTACH;FMTTYPE=image/jpeg:https://www.historyvictoria.org.au/wp-content/uploads/2025/01/collecting-egyptologt.jpg
END:VEVENT
END:VCALENDAR